Workbook

Sheet Sheet1
C1: DATE | D1: DATE | E1: 46293 | F1: DAVAO DEL NORTE
A2: NO. | B2: BOOTH CODE | C2: ADDRESS | D2: OUTLETS | E2: TELLER | F2: TOTAL BETS | G2: PAYOUTS | H2: COMMISSION | I2: PALAWAN | J2: SALARY
A3: 1 | B3: =SUBSTITUTE(TRIM(LEFT(D3,FIND("-",D3&"-")-1))," ","-") -> DDN-350 | C3: =TRIM(MID(D3,FIND("-",D3)+1,LEN(D3))) -> Pagsabangan Road Brgy Mankilam,Tagum | D3: DDN 350 - Pagsabangan Road Brgy Mankilam,Tagum | E3: MARY LOVELYN RAMOS | F3: =IFERROR(VLOOKUP($B3,'EOD - SEPTEMBER 28, 2026'!$B$2:$G$991,3,FALSE),0) -> 10441 | G3: =IFERROR(VLOOKUP($B3,'EOD - SEPTEMBER 28, 2026'!$B$2:$G$991,6,FALSE),0) -> 1600 | H3: =F3*0.125 -> 1305.125 | I3: =F3-G3-H3 -> 7535.875 | J3: =IF((AND(F3>=100,F3<5000)),$J$113,IF((AND(F3>=5000,F3<6000)),$J$114,IF((AND(F3>=6000,F3<7000)),$J$115,IF((AND(F3>=7000,F3<8000)),$J$116,IF((AND(F3>=8000,F3<9000)),$J$117,IF((AND(F3>=9000,F3<10000)),$J$118,IF((AND(F3>=10000,F3<11000)),$J$119,IF((AND(F3>=11000,F3<12000)),$J$120,IF((AND(F3>=12000,F3<13000)),$J$121,IF((AND(F3>=13000,F3<14000)),$J$122,IF((AND(F3>=14000,F3<15000)),$J$123,IF((AND(F3>=15000,F3<16000)),$J$124,IF((AND(F3>=16000,F3<17000)),$J$125,IF((AND(F3>=17000,F3<18000)),$J$126,IF((AND(F3>=18000,F3<19000)),$J$127,IF((AND(F3>=19000,F3<20000)),$J$128,IF((AND(F3>=20000,F3<21000)),$J$129,IF((AND(F3>=21000,F3<22000)),$J$130,IF((AND(F3>=22000,F3<23000)),$J$131,IF((AND(F3>=23000,F3<24000)),$J$132,IF((AND(F3>=24000,F3<25000)),$J$133,IF((AND(F3>=25000,F3<26000)),$J$134,IF((AND(F3>=26000,F3<27000)),$J$135,IF((AND(F3>=27000,F3<28000)),$J$136,IF((AND(F3>=28000,F3<29000)),$J$137,IF((AND(F3>=29000,F3<30000)),$J$138,IF((AND(F3>=30000,F3<31000)),$J$139,IF((AND(F3>=31000,F3<32000)),$J$140,IF((AND(F3>=32000,F3<33000)),$J$141,IF((AND(F3>=33000,F3<34000)),$J$142,IF((AND(F3>=34000,F3<35000)),$J$143,IF((AND(F3>=35000,F3<36000)),$J$144,IF((AND(F3>=36000,F3<37000)),$J$145,IF((AND(F3>=37000,F3<38000)),$J$146,IF((AND(F3>=38000,F3<39000)),$J$147,IF((AND(F3>=39000,F3<40000)),$J$148,IF((AND(F3>=40000,F3<41000)),$J$149,IF((AND(F3>=41000,F3<42000)),$J$150,IF((AND(F3>=42000,F3<43000)),$J$151,IF((AND(F3>=43000,F3<44000)),$J$152,IF((AND(F3>=44000,F3<45000)),$J$153,IF((AND(F3>=45000,F3<46000)),$J$154,IF((AND(F3>=46000,F3<47000)),$J$155,IF((AND(F3>=47000,F3<48000)),$J$156,IF((AND(F3>=48000,F3<49000)),$J$157,IF((AND(F3>=49000,F3<50000)),$J$158,IF((AND(F3>=50000,F3<51000)),$J$159,IF((AND(F3>=51000,F3<52000)),$J$160,IF((AND(F3>=52000,F3<53000)),$J$161,IF((AND(F3>=53000,F3<54000)),$J$162,IF((AND(F3>=54000,F3<55000)),$J$163,IF((AND(F3>=55000,F3<56000)),$J$164,IF((AND(F3>=56000,F3<57000)),$J$165,IF((AND(F3>=57000,F3<58000)),$J$166,IF((AND(F3>=58000,F3<59000)),$J$167,IF((AND(F3>=59000,F3<60000)),$J$168,IF((AND(F3>=60000,F3<61000)),$J$169,"0"))))))))))))))))))))))))))))))))))))))))))))))))))))))))) -> 350
A4: 2 | B4: =SUBSTITUTE(TRIM(LEFT(D4,FIND("-",D4&"-")-1))," ","-") -> DDN-351 | C4: =TRIM(MID(D4,FIND("-",D4)+1,LEN(D4))) -> Pob. La Filipina,Tagum | D4: DDN 351 - Pob. La Filipina,Tagum | E4: BEVERLY ALAO | F4: =IFERROR(VLOOKUP($B4,'EOD - SEPTEMBER 28, 2026'!$B$2:$G$991,3,FALSE),0) -> 9323 | G4: =IFERROR(VLOOKUP($B4,'EOD - SEPTEMBER 28, 2026'!$B$2:$G$991,6,FALSE),0) -> 0 | H4: =F4*0.125 -> 1165.375 | I4: =F4-G4-H4 -> 8157.625 | J4: =IF((AND(F4>=100,F4<5000)),$J$113,IF((AND(F4>=5000,F4<6000)),$J$114,IF((AND(F4>=6000,F4<7000)),$J$115,IF((AND(F4>=7000,F4<8000)),$J$116,IF((AND(F4>=8000,F4<9000)),$J$117,IF((AND(F4>=9000,F4<10000)),$J$118,IF((AND(F4>=10000,F4<11000)),$J$119,IF((AND(F4>=11000,F4<12000)),$J$120,IF((AND(F4>=12000,F4<13000)),$J$121,IF((AND(F4>=13000,F4<14000)),$J$122,IF((AND(F4>=14000,F4<15000)),$J$123,IF((AND(F4>=15000,F4<16000)),$J$124,IF((AND(F4>=16000,F4<17000)),$J$125,IF((AND(F4>=17000,F4<18000)),$J$126,IF((AND(F4>=18000,F4<19000)),$J$127,IF((AND(F4>=19000,F4<20000)),$J$128,IF((AND(F4>=20000,F4<21000)),$J$129,IF((AND(F4>=21000,F4<22000)),$J$130,IF((AND(F4>=22000,F4<23000)),$J$131,IF((AND(F4>=23000,F4<24000)),$J$132,IF((AND(F4>=24000,F4<25000)),$J$133,IF((AND(F4>=25000,F4<26000)),$J$134,IF((AND(F4>=26000,F4<27000)),$J$135,IF((AND(F4>=27000,F4<28000)),$J$136,IF((AND(F4>=28000,F4<29000)),$J$137,IF((AND(F4>=29000,F4<30000)),$J$138,IF((AND(F4>=30000,F4<31000)),$J$139,IF((AND(F4>=31000,F4<32000)),$J$140,IF((AND(F4>=32000,F4<33000)),$J$141,IF((AND(F4>=33000,F4<34000)),$J$142,IF((AND(F4>=34000,F4<35000)),$J$143,IF((AND(F4>=35000,F4<36000)),$J$144,IF((AND(F4>=36000,F4<37000)),$J$145,IF((AND(F4>=37000,F4<38000)),$J$146,IF((AND(F4>=38000,F4<39000)),$J$147,IF((AND(F4>=39000,F4<40000)),$J$148,IF((AND(F4>=40000,F4<41000)),$J$149,IF((AND(F4>=41000,F4<42000)),$J$150,IF((AND(F4>=42000,F4<43000)),$J$151,IF((AND(F4>=43000,F4<44000)),$J$152,IF((AND(F4>=44000,F4<45000)),$J$153,IF((AND(F4>=45000,F4<46000)),$J$154,IF((AND(F4>=46000,F4<47000)),$J$155,IF((AND(F4>=47000,F4<48000)),$J$156,IF((AND(F4>=48000,F4<49000)),$J$157,IF((AND(F4>=49000,F4<50000)),$J$158,IF((AND(F4>=50000,F4<51000)),$J$159,IF((AND(F4>=51000,F4<52000)),$J$160,IF((AND(F4>=52000,F4<53000)),$J$161,IF((AND(F4>=53000,F4<54000)),$J$162,IF((AND(F4>=54000,F4<55000)),$J$163,IF((AND(F4>=55000,F4<56000)),$J$164,IF((AND(F4>=56000,F4<57000)),$J$165,IF((AND(F4>=57000,F4<58000)),$J$166,IF((AND(F4>=58000,F4<59000)),$J$167,IF((AND(F4>=59000,F4<60000)),$J$168,IF((AND(F4>=60000,F4<61000)),$J$169,"0"))))))))))))))))))))))))))))))))))))))))))))))))))))))))) -> 340
A5: 3 | B5: =SUBSTITUTE(TRIM(LEFT(D5,FIND("-",D5&"-")-1))," ","-") -> DDN-352 | C5: =TRIM(MID(D5,FIND("-",D5)+1,LEN(D5))) -> Near Baranggay Hall,Salvacion,Sto.Tomas | D5: DDN 352-Near Baranggay Hall,Salvacion,Sto.Tomas | E5: JEHRAMEA MARTE | F5: =IFERROR(VLOOKUP($B5,'EOD - SEPTEMBER 28, 2026'!$B$2:$G$991,3,FALSE),0) -> 3350 | G5: =IFERROR(VLOOKUP($B5,'EOD - SEPTEMBER 28, 2026'!$B$2:$G$991,6,FALSE),0) -> 0 | H5: =F5*0.125 -> 418.75 | I5: =F5-G5-H5 -> 2931.25 | J5: =IF((AND(F5>=100,F5<5000)),$J$113,IF((AND(F5>=5000,F5<6000)),$J$114,IF((AND(F5>=6000,F5<7000)),$J$115,IF((AND(F5>=7000,F5<8000)),$J$116,IF((AND(F5>=8000,F5<9000)),$J$117,IF((AND(F5>=9000,F5<10000)),$J$118,IF((AND(F5>=10000,F5<11000)),$J$119,IF((AND(F5>=11000,F5<12000)),$J$120,IF((AND(F5>=12000,F5<13000)),$J$121,IF((AND(F5>=13000,F5<14000)),$J$122,IF((AND(F5>=14000,F5<15000)),$J$123,IF((AND(F5>=15000,F5<16000)),$J$124,IF((AND(F5>=16000,F5<17000)),$J$125,IF((AND(F5>=17000,F5<18000)),$J$126,IF((AND(F5>=18000,F5<19000)),$J$127,IF((AND(F5>=19000,F5<20000)),$J$128,IF((AND(F5>=20000,F5<21000)),$J$129,IF((AND(F5>=21000,F5<22000)),$J$130,IF((AND(F5>=22000,F5<23000)),$J$131,IF((AND(F5>=23000,F5<24000)),$J$132,IF((AND(F5>=24000,F5<25000)),$J$133,IF((AND(F5>=25000,F5<26000)),$J$134,IF((AND(F5>=26000,F5<27000)),$J$135,IF((AND(F5>=27000,F5<28000)),$J$136,IF((AND(F5>=28000,F5<29000)),$J$137,IF((AND(F5>=29000,F5<30000)),$J$138,IF((AND(F5>=30000,F5<31000)),$J$139,IF((AND(F5>=31000,F5<32000)),$J$140,IF((AND(F5>=32000,F5<33000)),$J$141,IF((AND(F5>=33000,F5<34000)),$J$142,IF((AND(F5>=34000,F5<35000)),$J$143,IF((AND(F5>=35000,F5<36000)),$J$144,IF((AND(F5>=36000,F5<37000)),$J$145,IF((AND(F5>=37000,F5<38000)),$J$146,IF((AND(F5>=38000,F5<39000)),$J$147,IF((AND(F5>=39000,F5<40000)),$J$148,IF((AND(F5>=40000,F5<41000)),$J$149,IF((AND(F5>=41000,F5<42000)),$J$150,IF((AND(F5>=42000,F5<43000)),$J$151,IF((AND(F5>=43000,F5<44000)),$J$152,IF((AND(F5>=44000,F5<45000)),$J$153,IF((AND(F5>=45000,F5<46000)),$J$154,IF((AND(F5>=46000,F5<47000)),$J$155,IF((AND(F5>=47000,F5<48000)),$J$156,IF((AND(F5>=48000,F5<49000)),$J$157,IF((AND(F5>=49000,F5<50000)),$J$158,IF((AND(F5>=50000,F5<51000)),$J$159,IF((AND(F5>=51000,F5<52000)),$J$160,IF((AND(F5>=52000,F5<53000)),$J$161,IF((AND(F5>=53000,F5<54000)),$J$162,IF((AND(F5>=54000,F5<55000)),$J$163,IF((AND(F5>=55000,F5<56000)),$J$164,IF((AND(F5>=56000,F5<57000)),$J$165,IF((AND(F5>=57000,F5<58000)),$J$166,IF((AND(F5>=58000,F5<59000)),$J$167,IF((AND(F5>=59000,F5<60000)),$J$168,IF((AND(F5>=60000,F5<61000)),$J$169,"0"))))))))))))))))))))))))))))))))))))))))))))))))))))))))) -> 250
A6: 4 | B6: =SUBSTITUTE(TRIM(LEFT(D6,FIND("-",D6&"-")-1))," ","-") -> DDN-353 | C6: =TRIM(MID(D6,FIND("-",D6)+1,LEN(D6))) -> Tipas Street, Tagum | D6: DDN 353-Tipas Street, Tagum | E6: PRETTY JANE TANDAAN | F6: =IFERROR(VLOOKUP($B6,'EOD - SEPTEMBER 28, 2026'!$B$2:$G$991,3,FALSE),0) -> 4390 | G6: =IFERROR(VLOOKUP($B6,'EOD - SEPTEMBER 28, 2026'!$B$2:$G$991,6,FALSE),0) -> 800 | H6: =F6*0.125 -> 548.75 | I6: =F6-G6-H6 -> 3041.25 | J6: =IF((AND(F6>=100,F6<5000)),$J$113,IF((AND(F6>=5000,F6<6000)),$J$114,IF((AND(F6>=6000,F6<7000)),$J$115,IF((AND(F6>=7000,F6<8000)),$J$116,IF((AND(F6>=8000,F6<9000)),$J$117,IF((AND(F6>=9000,F6<10000)),$J$118,IF((AND(F6>=10000,F6<11000)),$J$119,IF((AND(F6>=11000,F6<12000)),$J$120,IF((AND(F6>=12000,F6<13000)),$J$121,IF((AND(F6>=13000,F6<14000)),$J$122,IF((AND(F6>=14000,F6<15000)),$J$123,IF((AND(F6>=15000,F6<16000)),$J$124,IF((AND(F6>=16000,F6<17000)),$J$125,IF((AND(F6>=17000,F6<18000)),$J$126,IF((AND(F6>=18000,F6<19000)),$J$127,IF((AND(F6>=19000,F6<20000)),$J$128,IF((AND(F6>=20000,F6<21000)),$J$129,IF((AND(F6>=21000,F6<22000)),$J$130,IF((AND(F6>=22000,F6<23000)),$J$131,IF((AND(F6>=23000,F6<24000)),$J$132,IF((AND(F6>=24000,F6<25000)),$J$133,IF((AND(F6>=25000,F6<26000)),$J$134,IF((AND(F6>=26000,F6<27000)),$J$135,IF((AND(F6>=27000,F6<28000)),$J$136,IF((AND(F6>=28000,F6<29000)),$J$137,IF((AND(F6>=29000,F6<30000)),$J$138,IF((AND(F6>=30000,F6<31000)),$J$139,IF((AND(F6>=31000,F6<32000)),$J$140,IF((AND(F6>=32000,F6<33000)),$J$141,IF((AND(F6>=33000,F6<34000)),$J$142,IF((AND(F6>=34000,F6<35000)),$J$143,IF((AND(F6>=35000,F6<36000)),$J$144,IF((AND(F6>=36000,F6<37000)),$J$145,IF((AND(F6>=37000,F6<38000)),$J$146,IF((AND(F6>=38000,F6<39000)),$J$147,IF((AND(F6>=39000,F6<40000)),$J$148,IF((AND(F6>=40000,F6<41000)),$J$149,IF((AND(F6>=41000,F6<42000)),$J$150,IF((AND(F6>=42000,F6<43000)),$J$151,IF((AND(F6>=43000,F6<44000)),$J$152,IF((AND(F6>=44000,F6<45000)),$J$153,IF((AND(F6>=45000,F6<46000)),$J$154,IF((AND(F6>=46000,F6<47000)),$J$155,IF((AND(F6>=47000,F6<48000)),$J$156,IF((AND(F6>=48000,F6<49000)),$J$157,IF((AND(F6>=49000,F6<50000)),$J$158,IF((AND(F6>=50000,F6<51000)),$J$159,IF((AND(F6>=51000,F6<52000)),$J$160,IF((AND(F6>=52000,F6<53000)),$J$161,IF((AND(F6>=53000,F6<54000)),$J$162,IF((AND(F6>=54000,F6<55000)),$J$163,IF((AND(F6>=55000,F6<56000)),$J$164,IF((AND(F6>=56000,F6<57000)),$J$165,IF((AND(F6>=57000,F6<58000)),$J$166,IF((AND(F6>=58000,F6<59000)),$J$167,IF((AND(F6>=59000,F6<60000)),$J$168,IF((AND(F6>=60000,F6<61000)),$J$169,"0"))))))))))))))))))))))))))))))))))))))))))))))))))))))))) -> 250
A7: 5 | B7: =SUBSTITUTE(TRIM(LEFT(D7,FIND("-",D7&"-")-1))," ","-") -> DDN-397 | C7: =TRIM(MID(D7,FIND("-",D7)+1,LEN(D7))) -> Near Carmen Market, Carmen | D7: DDN 397-Near Carmen Market, Carmen | E7: MAYANG N. GOMEZ | F7: =IFERROR(VLOOKUP($B7,'EOD - SEPTEMBER 28, 2026'!$B$2:$G$991,3,FALSE),0) -> 3675 | G7: =IFERROR(VLOOKUP($B7,'EOD - SEPTEMBER 28, 2026'!$B$2:$G$991,6,FALSE),0) -> 0 | H7: =F7*0.125 -> 459.375 | I7: =F7-G7-H7 -> 3215.625 | J7: =IF((AND(F7>=100,F7<5000)),$J$113,IF((AND(F7>=5000,F7<6000)),$J$114,IF((AND(F7>=6000,F7<7000)),$J$115,IF((AND(F7>=7000,F7<8000)),$J$116,IF((AND(F7>=8000,F7<9000)),$J$117,IF((AND(F7>=9000,F7<10000)),$J$118,IF((AND(F7>=10000,F7<11000)),$J$119,IF((AND(F7>=11000,F7<12000)),$J$120,IF((AND(F7>=12000,F7<13000)),$J$121,IF((AND(F7>=13000,F7<14000)),$J$122,IF((AND(F7>=14000,F7<15000)),$J$123,IF((AND(F7>=15000,F7<16000)),$J$124,IF((AND(F7>=16000,F7<17000)),$J$125,IF((AND(F7>=17000,F7<18000)),$J$126,IF((AND(F7>=18000,F7<19000)),$J$127,IF((AND(F7>=19000,F7<20000)),$J$128,IF((AND(F7>=20000,F7<21000)),$J$129,IF((AND(F7>=21000,F7<22000)),$J$130,IF((AND(F7>=22000,F7<23000)),$J$131,IF((AND(F7>=23000,F7<24000)),$J$132,IF((AND(F7>=24000,F7<25000)),$J$133,IF((AND(F7>=25000,F7<26000)),$J$134,IF((AND(F7>=26000,F7<27000)),$J$135,IF((AND(F7>=27000,F7<28000)),$J$136,IF((AND(F7>=28000,F7<29000)),$J$137,IF((AND(F7>=29000,F7<30000)),$J$138,IF((AND(F7>=30000,F7<31000)),$J$139,IF((AND(F7>=31000,F7<32000)),$J$140,IF((AND(F7>=32000,F7<33000)),$J$141,IF((AND(F7>=33000,F7<34000)),$J$142,IF((AND(F7>=34000,F7<35000)),$J$143,IF((AND(F7>=35000,F7<36000)),$J$144,IF((AND(F7>=36000,F7<37000)),$J$145,IF((AND(F7>=37000,F7<38000)),$J$146,IF((AND(F7>=38000,F7<39000)),$J$147,IF((AND(F7>=39000,F7<40000)),$J$148,IF((AND(F7>=40000,F7<41000)),$J$149,IF((AND(F7>=41000,F7<42000)),$J$150,IF((AND(F7>=42000,F7<43000)),$J$151,IF((AND(F7>=43000,F7<44000)),$J$152,IF((AND(F7>=44000,F7<45000)),$J$153,IF((AND(F7>=45000,F7<46000)),$J$154,IF((AND(F7>=46000,F7<47000)),$J$155,IF((AND(F7>=47000,F7<48000)),$J$156,IF((AND(F7>=48000,F7<49000)),$J$157,IF((AND(F7>=49000,F7<50000)),$J$158,IF((AND(F7>=50000,F7<51000)),$J$159,IF((AND(F7>=51000,F7<52000)),$J$160,IF((AND(F7>=52000,F7<53000)),$J$161,IF((AND(F7>=53000,F7<54000)),$J$162,IF((AND(F7>=54000,F7<55000)),$J$163,IF((AND(F7>=55000,F7<56000)),$J$164,IF((AND(F7>=56000,F7<57000)),$J$165,IF((AND(F7>=57000,F7<58000)),$J$166,IF((AND(F7>=58000,F7<59000)),$J$167,IF((AND(F7>=59000,F7<60000)),$J$168,IF((AND(F7>=60000,F7<61000)),$J$169,"0"))))))))))))))))))))))))))))))))))))))))))))))))))))))))) -> 250
A8: 6 | B8: =SUBSTITUTE(TRIM(LEFT(D8,FIND("-",D8&"-")-1))," ","-") -> DDN-398 | C8: =TRIM(MID(D8,FIND("-",D8)+1,LEN(D8))) -> Crystal Plain,Barangay Gredu, Panabo City | D8: DDN 398-Crystal Plain,Barangay Gredu, Panabo City | E8: LIZA CALIBUD | F8: =IFERROR(VLOOKUP($B8,'EOD - SEPTEMBER 28, 2026'!$B$2:$G$991,3,FALSE),0) -> 11309 | G8: =IFERROR(VLOOKUP($B8,'EOD - SEPTEMBER 28, 2026'!$B$2:$G$991,6,FALSE),0) -> 1600 | H8: =F8*0.125 -> 1413.625 | I8: =F8-G8-H8 -> 8295.375 | J8: =IF((AND(F8>=100,F8<5000)),$J$113,IF((AND(F8>=5000,F8<6000)),$J$114,IF((AND(F8>=6000,F8<7000)),$J$115,IF((AND(F8>=7000,F8<8000)),$J$116,IF((AND(F8>=8000,F8<9000)),$J$117,IF((AND(F8>=9000,F8<10000)),$J$118,IF((AND(F8>=10000,F8<11000)),$J$119,IF((AND(F8>=11000,F8<12000)),$J$120,IF((AND(F8>=12000,F8<13000)),$J$121,IF((AND(F8>=13000,F8<14000)),$J$122,IF((AND(F8>=14000,F8<15000)),$J$123,IF((AND(F8>=15000,F8<16000)),$J$124,IF((AND(F8>=16000,F8<17000)),$J$125,IF((AND(F8>=17000,F8<18000)),$J$126,IF((AND(F8>=18000,F8<19000)),$J$127,IF((AND(F8>=19000,F8<20000)),$J$128,IF((AND(F8>=20000,F8<21000)),$J$129,IF((AND(F8>=21000,F8<22000)),$J$130,IF((AND(F8>=22000,F8<23000)),$J$131,IF((AND(F8>=23000,F8<24000)),$J$132,IF((AND(F8>=24000,F8<25000)),$J$133,IF((AND(F8>=25000,F8<26000)),$J$134,IF((AND(F8>=26000,F8<27000)),$J$135,IF((AND(F8>=27000,F8<28000)),$J$136,IF((AND(F8>=28000,F8<29000)),$J$137,IF((AND(F8>=29000,F8<30000)),$J$138,IF((AND(F8>=30000,F8<31000)),$J$139,IF((AND(F8>=31000,F8<32000)),$J$140,IF((AND(F8>=32000,F8<33000)),$J$141,IF((AND(F8>=33000,F8<34000)),$J$142,IF((AND(F8>=34000,F8<35000)),$J$143,IF((AND(F8>=35000,F8<36000)),$J$144,IF((AND(F8>=36000,F8<37000)),$J$145,IF((AND(F8>=37000,F8<38000)),$J$146,IF((AND(F8>=38000,F8<39000)),$J$147,IF((AND(F8>=39000,F8<40000)),$J$148,IF((AND(F8>=40000,F8<41000)),$J$149,IF((AND(F8>=41000,F8<42000)),$J$150,IF((AND(F8>=42000,F8<43000)),$J$151,IF((AND(F8>=43000,F8<44000)),$J$152,IF((AND(F8>=44000,F8<45000)),$J$153,IF((AND(F8>=45000,F8<46000)),$J$154,IF((AND(F8>=46000,F8<47000)),$J$155,IF((AND(F8>=47000,F8<48000)),$J$156,IF((AND(F8>=48000,F8<49000)),$J$157,IF((AND(F8>=49000,F8<50000)),$J$158,IF((AND(F8>=50000,F8<51000)),$J$159,IF((AND(F8>=51000,F8<52000)),$J$160,IF((AND(F8>=52000,F8<53000)),$J$161,IF((AND(F8>=53000,F8<54000)),$J$162,IF((AND(F8>=54000,F8<55000)),$J$163,IF((AND(F8>=55000,F8<56000)),$J$164,IF((AND(F8>=56000,F8<57000)),$J$165,IF((AND(F8>=57000,F8<58000)),$J$166,IF((AND(F8>=58000,F8<59000)),$J$167,IF((AND(F8>=59000,F8<60000)),$J$168,IF((AND(F8>=60000,F8<61000)),$J$169,"0"))))))))))))))))))))))))))))))))))))))))))))))))))))))))) -> 360
A9: 7 | B9: =SUBSTITUTE(TRIM(LEFT(D9,FIND("-",D9&"-")-1))," ","-") -> DDN-399 | C9: =TRIM(MID(D9,FIND("-",D9)+1,LEN(D9))) -> Purok Villa Felisa Subd., Panabo City | D9: DDN 399-Purok Villa Felisa Subd., Panabo City | E9: CHARMAE QUEEN CARZON | F9: =IFERROR(VLOOKUP($B9,'EOD - SEPTEMBER 28, 2026'!$B$2:$G$991,3,FALSE),0) -> 2675 | G9: =IFERROR(VLOOKUP($B9,'EOD - SEPTEMBER 28, 2026'!$B$2:$G$991,6,FALSE),0) -> 0 | H9: =F9*0.125 -> 334.375 | I9: =F9-G9-H9 -> 2340.625 | J9: =IF((AND(F9>=100,F9<5000)),$J$113,IF((AND(F9>=5000,F9<6000)),$J$114,IF((AND(F9>=6000,F9<7000)),$J$115,IF((AND(F9>=7000,F9<8000)),$J$116,IF((AND(F9>=8000,F9<9000)),$J$117,IF((AND(F9>=9000,F9<10000)),$J$118,IF((AND(F9>=10000,F9<11000)),$J$119,IF((AND(F9>=11000,F9<12000)),$J$120,IF((AND(F9>=12000,F9<13000)),$J$121,IF((AND(F9>=13000,F9<14000)),$J$122,IF((AND(F9>=14000,F9<15000)),$J$123,IF((AND(F9>=15000,F9<16000)),$J$124,IF((AND(F9>=16000,F9<17000)),$J$125,IF((AND(F9>=17000,F9<18000)),$J$126,IF((AND(F9>=18000,F9<19000)),$J$127,IF((AND(F9>=19000,F9<20000)),$J$128,IF((AND(F9>=20000,F9<21000)),$J$129,IF((AND(F9>=21000,F9<22000)),$J$130,IF((AND(F9>=22000,F9<23000)),$J$131,IF((AND(F9>=23000,F9<24000)),$J$132,IF((AND(F9>=24000,F9<25000)),$J$133,IF((AND(F9>=25000,F9<26000)),$J$134,IF((AND(F9>=26000,F9<27000)),$J$135,IF((AND(F9>=27000,F9<28000)),$J$136,IF((AND(F9>=28000,F9<29000)),$J$137,IF((AND(F9>=29000,F9<30000)),$J$138,IF((AND(F9>=30000,F9<31000)),$J$139,IF((AND(F9>=31000,F9<32000)),$J$140,IF((AND(F9>=32000,F9<33000)),$J$141,IF((AND(F9>=33000,F9<34000)),$J$142,IF((AND(F9>=34000,F9<35000)),$J$143,IF((AND(F9>=35000,F9<36000)),$J$144,IF((AND(F9>=36000,F9<37000)),$J$145,IF((AND(F9>=37000,F9<38000)),$J$146,IF((AND(F9>=38000,F9<39000)),$J$147,IF((AND(F9>=39000,F9<40000)),$J$148,IF((AND(F9>=40000,F9<41000)),$J$149,IF((AND(F9>=41000,F9<42000)),$J$150,IF((AND(F9>=42000,F9<43000)),$J$151,IF((AND(F9>=43000,F9<44000)),$J$152,IF((AND(F9>=44000,F9<45000)),$J$153,IF((AND(F9>=45000,F9<46000)),$J$154,IF((AND(F9>=46000,F9<47000)),$J$155,IF((AND(F9>=47000,F9<48000)),$J$156,IF((AND(F9>=48000,F9<49000)),$J$157,IF((AND(F9>=49000,F9<50000)),$J$158,IF((AND(F9>=50000,F9<51000)),$J$159,IF((AND(F9>=51000,F9<52000)),$J$160,IF((AND(F9>=52000,F9<53000)),$J$161,IF((AND(F9>=53000,F9<54000)),$J$162,IF((AND(F9>=54000,F9<55000)),$J$163,IF((AND(F9>=55000,F9<56000)),$J$164,IF((AND(F9>=56000,F9<57000)),$J$165,IF((AND(F9>=57000,F9<58000)),$J$166,IF((AND(F9>=58000,F9<59000)),$J$167,IF((AND(F9>=59000,F9<60000)),$J$168,IF((AND(F9>=60000,F9<61000)),$J$169,"0"))))))))))))))))))))))))))))))))))))))))))))))))))))))))) -> 250
A10: 8 | B10: =SUBSTITUTE(TRIM(LEFT(D10,FIND("-",D10&"-")-1))," ","-") -> DDN-400 | C10: =TRIM(MID(D10,FIND("-",D10)+1,LEN(D10))) -> Adlaon Street,Brgy. Sto.Niño, Panabo City | D10: DDN 400-Adlaon Street,Brgy. Sto.Niño, Panabo City | E10: JOCELLE S. BALAYO | F10: =IFERROR(VLOOKUP($B10,'EOD - SEPTEMBER 28, 2026'!$B$2:$G$991,3,FALSE),0) -> 4490 | G10: =IFERROR(VLOOKUP($B10,'EOD - SEPTEMBER 28, 2026'!$B$2:$G$991,6,FALSE),0) -> 0 | H10: =F10*0.125 -> 561.25 | I10: =F10-G10-H10 -> 3928.75 | J10: =IF((AND(F10>=100,F10<5000)),$J$113,IF((AND(F10>=5000,F10<6000)),$J$114,IF((AND(F10>=6000,F10<7000)),$J$115,IF((AND(F10>=7000,F10<8000)),$J$116,IF((AND(F10>=8000,F10<9000)),$J$117,IF((AND(F10>=9000,F10<10000)),$J$118,IF((AND(F10>=10000,F10<11000)),$J$119,IF((AND(F10>=11000,F10<12000)),$J$120,IF((AND(F10>=12000,F10<13000)),$J$121,IF((AND(F10>=13000,F10<14000)),$J$122,IF((AND(F10>=14000,F10<15000)),$J$123,IF((AND(F10>=15000,F10<16000)),$J$124,IF((AND(F10>=16000,F10<17000)),$J$125,IF((AND(F10>=17000,F10<18000)),$J$126,IF((AND(F10>=18000,F10<19000)),$J$127,IF((AND(F10>=19000,F10<20000)),$J$128,IF((AND(F10>=20000,F10<21000)),$J$129,IF((AND(F10>=21000,F10<22000)),$J$130,IF((AND(F10>=22000,F10<23000)),$J$131,IF((AND(F10>=23000,F10<24000)),$J$132,IF((AND(F10>=24000,F10<25000)),$J$133,IF((AND(F10>=25000,F10<26000)),$J$134,IF((AND(F10>=26000,F10<27000)),$J$135,IF((AND(F10>=27000,F10<28000)),$J$136,IF((AND(F10>=28000,F10<29000)),$J$137,IF((AND(F10>=29000,F10<30000)),$J$138,IF((AND(F10>=30000,F10<31000)),$J$139,IF((AND(F10>=31000,F10<32000)),$J$140,IF((AND(F10>=32000,F10<33000)),$J$141,IF((AND(F10>=33000,F10<34000)),$J$142,IF((AND(F10>=34000,F10<35000)),$J$143,IF((AND(F10>=35000,F10<36000)),$J$144,IF((AND(F10>=36000,F10<37000)),$J$145,IF((AND(F10>=37000,F10<38000)),$J$146,IF((AND(F10>=38000,F10<39000)),$J$147,IF((AND(F10>=39000,F10<40000)),$J$148,IF((AND(F10>=40000,F10<41000)),$J$149,IF((AND(F10>=41000,F10<42000)),$J$150,IF((AND(F10>=42000,F10<43000)),$J$151,IF((AND(F10>=43000,F10<44000)),$J$152,IF((AND(F10>=44000,F10<45000)),$J$153,IF((AND(F10>=45000,F10<46000)),$J$154,IF((AND(F10>=46000,F10<47000)),$J$155,IF((AND(F10>=47000,F10<48000)),$J$156,IF((AND(F10>=48000,F10<49000)),$J$157,IF((AND(F10>=49000,F10<50000)),$J$158,IF((AND(F10>=50000,F10<51000)),$J$159,IF((AND(F10>=51000,F10<52000)),$J$160,IF((AND(F10>=52000,F10<53000)),$J$161,IF((AND(F10>=53000,F10<54000)),$J$162,IF((AND(F10>=54000,F10<55000)),$J$163,IF((AND(F10>=55000,F10<56000)),$J$164,IF((AND(F10>=56000,F10<57000)),$J$165,IF((AND(F10>=57000,F10<58000)),$J$166,IF((AND(F10>=58000,F10<59000)),$J$167,IF((AND(F10>=59000,F10<60000)),$J$168,IF((AND(F10>=60000,F10<61000)),$J$169,"0"))))))))))))))))))))))))))))))))))))))))))))))))))))))))) -> 250
A11: 9 | B11: =SUBSTITUTE(TRIM(LEFT(D11,FIND("-",D11&"-")-1))," ","-") -> DDN-402 | C11: =TRIM(MID(D11,FIND("-",D11)+1,LEN(D11))) -> Purok 11C, Ilaboon Maniki,Kapalong | D11: DDN 402-Purok 11C, Ilaboon Maniki,Kapalong | E11: RUTHCHELLE JOY DELA CERNA | F11: =IFERROR(VLOOKUP($B11,'EOD - SEPTEMBER 28, 2026'!$B$2:$G$991,3,FALSE),0) -> 4351 | G11: =IFERROR(VLOOKUP($B11,'EOD - SEPTEMBER 28, 2026'!$B$2:$G$991,6,FALSE),0) -> 0 | H11: =F11*0.125 -> 543.875 | I11: =F11-G11-H11 -> 3807.125 | J11: =IF((AND(F11>=100,F11<5000)),$J$113,IF((AND(F11>=5000,F11<6000)),$J$114,IF((AND(F11>=6000,F11<7000)),$J$115,IF((AND(F11>=7000,F11<8000)),$J$116,IF((AND(F11>=8000,F11<9000)),$J$117,IF((AND(F11>=9000,F11<10000)),$J$118,IF((AND(F11>=10000,F11<11000)),$J$119,IF((AND(F11>=11000,F11<12000)),$J$120,IF((AND(F11>=12000,F11<13000)),$J$121,IF((AND(F11>=13000,F11<14000)),$J$122,IF((AND(F11>=14000,F11<15000)),$J$123,IF((AND(F11>=15000,F11<16000)),$J$124,IF((AND(F11>=16000,F11<17000)),$J$125,IF((AND(F11>=17000,F11<18000)),$J$126,IF((AND(F11>=18000,F11<19000)),$J$127,IF((AND(F11>=19000,F11<20000)),$J$128,IF((AND(F11>=20000,F11<21000)),$J$129,IF((AND(F11>=21000,F11<22000)),$J$130,IF((AND(F11>=22000,F11<23000)),$J$131,IF((AND(F11>=23000,F11<24000)),$J$132,IF((AND(F11>=24000,F11<25000)),$J$133,IF((AND(F11>=25000,F11<26000)),$J$134,IF((AND(F11>=26000,F11<27000)),$J$135,IF((AND(F11>=27000,F11<28000)),$J$136,IF((AND(F11>=28000,F11<29000)),$J$137,IF((AND(F11>=29000,F11<30000)),$J$138,IF((AND(F11>=30000,F11<31000)),$J$139,IF((AND(F11>=31000,F11<32000)),$J$140,IF((AND(F11>=32000,F11<33000)),$J$141,IF((AND(F11>=33000,F11<34000)),$J$142,IF((AND(F11>=34000,F11<35000)),$J$143,IF((AND(F11>=35000,F11<36000)),$J$144,IF((AND(F11>=36000,F11<37000)),$J$145,IF((AND(F11>=37000,F11<38000)),$J$146,IF((AND(F11>=38000,F11<39000)),$J$147,IF((AND(F11>=39000,F11<40000)),$J$148,IF((AND(F11>=40000,F11<41000)),$J$149,IF((AND(F11>=41000,F11<42000)),$J$150,IF((AND(F11>=42000,F11<43000)),$J$151,IF((AND(F11>=43000,F11<44000)),$J$152,IF((AND(F11>=44000,F11<45000)),$J$153,IF((AND(F11>=45000,F11<46000)),$J$154,IF((AND(F11>=46000,F11<47000)),$J$155,IF((AND(F11>=47000,F11<48000)),$J$156,IF((AND(F11>=48000,F11<49000)),$J$157,IF((AND(F11>=49000,F11<50000)),$J$158,IF((AND(F11>=50000,F11<51000)),$J$159,IF((AND(F11>=51000,F11<52000)),$J$160,IF((AND(F11>=52000,F11<53000)),$J$161,IF((AND(F11>=53000,F11<54000)),$J$162,IF((AND(F11>=54000,F11<55000)),$J$163,IF((AND(F11>=55000,F11<56000)),$J$164,IF((AND(F11>=56000,F11<57000)),$J$165,IF((AND(F11>=57000,F11<58000)),$J$166,IF((AND(F11>=58000,F11<59000)),$J$167,IF((AND(F11>=59000,F11<60000)),$J$168,IF((AND(F11>=60000,F11<61000)),$J$169,"0"))))))))))))))))))))))))))))))))))))))))))))))))))))))))) -> 250
A12: 10 | B12: =SUBSTITUTE(TRIM(LEFT(D12,FIND("-",D12&"-")-1))," ","-") -> DDN-422 | C12: =TRIM(MID(D12,FIND("-",D12)+1,LEN(D12))) -> Purok Durian,Visayan Village,Tagum | D12: DDN 422-Purok Durian,Visayan Village,Tagum | E12: AMERITA MAMAHIPOS | F12: =IFERROR(VLOOKUP($B12,'EOD - SEPTEMBER 28, 2026'!$B$2:$G$991,3,FALSE),0) -> 6295 | G12: =IFERROR(VLOOKUP($B12,'EOD - SEPTEMBER 28, 2026'!$B$2:$G$991,6,FALSE),0) -> 1000 | H12: =F12*0.125 -> 786.875 | I12: =F12-G12-H12 -> 4508.125 | J12: =IF((AND(F12>=100,F12<5000)),$J$113,IF((AND(F12>=5000,F12<6000)),$J$114,IF((AND(F12>=6000,F12<7000)),$J$115,IF((AND(F12>=7000,F12<8000)),$J$116,IF((AND(F12>=8000,F12<9000)),$J$117,IF((AND(F12>=9000,F12<10000)),$J$118,IF((AND(F12>=10000,F12<11000)),$J$119,IF((AND(F12>=11000,F12<12000)),$J$120,IF((AND(F12>=12000,F12<13000)),$J$121,IF((AND(F12>=13000,F12<14000)),$J$122,IF((AND(F12>=14000,F12<15000)),$J$123,IF((AND(F12>=15000,F12<16000)),$J$124,IF((AND(F12>=16000,F12<17000)),$J$125,IF((AND(F12>=17000,F12<18000)),$J$126,IF((AND(F12>=18000,F12<19000)),$J$127,IF((AND(F12>=19000,F12<20000)),$J$128,IF((AND(F12>=20000,F12<21000)),$J$129,IF((AND(F12>=21000,F12<22000)),$J$130,IF((AND(F12>=22000,F12<23000)),$J$131,IF((AND(F12>=23000,F12<24000)),$J$132,IF((AND(F12>=24000,F12<25000)),$J$133,IF((AND(F12>=25000,F12<26000)),$J$134,IF((AND(F12>=26000,F12<27000)),$J$135,IF((AND(F12>=27000,F12<28000)),$J$136,IF((AND(F12>=28000,F12<29000)),$J$137,IF((AND(F12>=29000,F12<30000)),$J$138,IF((AND(F12>=30000,F12<31000)),$J$139,IF((AND(F12>=31000,F12<32000)),$J$140,IF((AND(F12>=32000,F12<33000)),$J$141,IF((AND(F12>=33000,F12<34000)),$J$142,IF((AND(F12>=34000,F12<35000)),$J$143,IF((AND(F12>=35000,F12<36000)),$J$144,IF((AND(F12>=36000,F12<37000)),$J$145,IF((AND(F12>=37000,F12<38000)),$J$146,IF((AND(F12>=38000,F12<39000)),$J$147,IF((AND(F12>=39000,F12<40000)),$J$148,IF((AND(F12>=40000,F12<41000)),$J$149,IF((AND(F12>=41000,F12<42000)),$J$150,IF((AND(F12>=42000,F12<43000)),$J$151,IF((AND(F12>=43000,F12<44000)),$J$152,IF((AND(F12>=44000,F12<45000)),$J$153,IF((AND(F12>=45000,F12<46000)),$J$154,IF((AND(F12>=46000,F12<47000)),$J$155,IF((AND(F12>=47000,F12<48000)),$J$156,IF((AND(F12>=48000,F12<49000)),$J$157,IF((AND(F12>=49000,F12<50000)),$J$158,IF((AND(F12>=50000,F12<51000)),$J$159,IF((AND(F12>=51000,F12<52000)),$J$160,IF((AND(F12>=52000,F12<53000)),$J$161,IF((AND(F12>=53000,F12<54000)),$J$162,IF((AND(F12>=54000,F12<55000)),$J$163,IF((AND(F12>=55000,F12<56000)),$J$164,IF((AND(F12>=56000,F12<57000)),$J$165,IF((AND(F12>=57000,F12<58000)),$J$166,IF((AND(F12>=58000,F12<59000)),$J$167,IF((AND(F12>=59000,F12<60000)),$J$168,IF((AND(F12>=60000,F12<61000)),$J$169,"0"))))))))))))))))))))))))))))))))))))))))))))))))))))))))) -> 310
A13: 11 | B13: =SUBSTITUTE(TRIM(LEFT(D13,FIND("-",D13&"-")-1))," ","-") -> DDN-423 | C13: =TRIM(MID(D13,FIND("-",D13)+1,LEN(D13))) -> P-Santan,Brgy. Bincungan,Tagum | D13: DDN 423-P-Santan,Brgy. Bincungan,Tagum | E13: REALIZA MIGULLAS | F13: =IFERROR(VLOOKUP($B13,'EOD - SEPTEMBER 28, 2026'!$B$2:$G$991,3,FALSE),0) -> 3365 | G13: =IFERROR(VLOOKUP($B13,'EOD - SEPTEMBER 28, 2026'!$B$2:$G$991,6,FALSE),0) -> 800 | H13: =F13*0.125 -> 420.625 | I13: =F13-G13-H13 -> 2144.375 | J13: =IF((AND(F13>=100,F13<5000)),$J$113,IF((AND(F13>=5000,F13<6000)),$J$114,IF((AND(F13>=6000,F13<7000)),$J$115,IF((AND(F13>=7000,F13<8000)),$J$116,IF((AND(F13>=8000,F13<9000)),$J$117,IF((AND(F13>=9000,F13<10000)),$J$118,IF((AND(F13>=10000,F13<11000)),$J$119,IF((AND(F13>=11000,F13<12000)),$J$120,IF((AND(F13>=12000,F13<13000)),$J$121,IF((AND(F13>=13000,F13<14000)),$J$122,IF((AND(F13>=14000,F13<15000)),$J$123,IF((AND(F13>=15000,F13<16000)),$J$124,IF((AND(F13>=16000,F13<17000)),$J$125,IF((AND(F13>=17000,F13<18000)),$J$126,IF((AND(F13>=18000,F13<19000)),$J$127,IF((AND(F13>=19000,F13<20000)),$J$128,IF((AND(F13>=20000,F13<21000)),$J$129,IF((AND(F13>=21000,F13<22000)),$J$130,IF((AND(F13>=22000,F13<23000)),$J$131,IF((AND(F13>=23000,F13<24000)),$J$132,IF((AND(F13>=24000,F13<25000)),$J$133,IF((AND(F13>=25000,F13<26000)),$J$134,IF((AND(F13>=26000,F13<27000)),$J$135,IF((AND(F13>=27000,F13<28000)),$J$136,IF((AND(F13>=28000,F13<29000)),$J$137,IF((AND(F13>=29000,F13<30000)),$J$138,IF((AND(F13>=30000,F13<31000)),$J$139,IF((AND(F13>=31000,F13<32000)),$J$140,IF((AND(F13>=32000,F13<33000)),$J$141,IF((AND(F13>=33000,F13<34000)),$J$142,IF((AND(F13>=34000,F13<35000)),$J$143,IF((AND(F13>=35000,F13<36000)),$J$144,IF((AND(F13>=36000,F13<37000)),$J$145,IF((AND(F13>=37000,F13<38000)),$J$146,IF((AND(F13>=38000,F13<39000)),$J$147,IF((AND(F13>=39000,F13<40000)),$J$148,IF((AND(F13>=40000,F13<41000)),$J$149,IF((AND(F13>=41000,F13<42000)),$J$150,IF((AND(F13>=42000,F13<43000)),$J$151,IF((AND(F13>=43000,F13<44000)),$J$152,IF((AND(F13>=44000,F13<45000)),$J$153,IF((AND(F13>=45000,F13<46000)),$J$154,IF((AND(F13>=46000,F13<47000)),$J$155,IF((AND(F13>=47000,F13<48000)),$J$156,IF((AND(F13>=48000,F13<49000)),$J$157,IF((AND(F13>=49000,F13<50000)),$J$158,IF((AND(F13>=50000,F13<51000)),$J$159,IF((AND(F13>=51000,F13<52000)),$J$160,IF((AND(F13>=52000,F13<53000)),$J$161,IF((AND(F13>=53000,F13<54000)),$J$162,IF((AND(F13>=54000,F13<55000)),$J$163,IF((AND(F13>=55000,F13<56000)),$J$164,IF((AND(F13>=56000,F13<57000)),$J$165,IF((AND(F13>=57000,F13<58000)),$J$166,IF((AND(F13>=58000,F13<59000)),$J$167,IF((AND(F13>=59000,F13<60000)),$J$168,IF((AND(F13>=60000,F13<61000)),$J$169,"0"))))))))))))))))))))))))))))))))))))))))))))))))))))))))) -> 250
A14: 12 | B14: =SUBSTITUTE(TRIM(LEFT(D14,FIND("-",D14&"-")-1))," ","-") -> DDN-424 | C14: =TRIM(MID(D14,FIND("-",D14)+1,LEN(D14))) -> Purok 3D,Apokon,Tagum City | D14: DDN 424-Purok 3D,Apokon,Tagum City | E14: MARY JOY APOC | F14: =IFERROR(VLOOKUP($B14,'EOD - SEPTEMBER 28, 2026'!$B$2:$G$991,3,FALSE),0) -> 9290 | G14: =IFERROR(VLOOKUP($B14,'EOD - SEPTEMBER 28, 2026'!$B$2:$G$991,6,FALSE),0) -> 2400 | H14: =F14*0.125 -> 1161.25 | I14: =F14-G14-H14 -> 5728.75 | J14: =IF((AND(F14>=100,F14<5000)),$J$113,IF((AND(F14>=5000,F14<6000)),$J$114,IF((AND(F14>=6000,F14<7000)),$J$115,IF((AND(F14>=7000,F14<8000)),$J$116,IF((AND(F14>=8000,F14<9000)),$J$117,IF((AND(F14>=9000,F14<10000)),$J$118,IF((AND(F14>=10000,F14<11000)),$J$119,IF((AND(F14>=11000,F14<12000)),$J$120,IF((AND(F14>=12000,F14<13000)),$J$121,IF((AND(F14>=13000,F14<14000)),$J$122,IF((AND(F14>=14000,F14<15000)),$J$123,IF((AND(F14>=15000,F14<16000)),$J$124,IF((AND(F14>=16000,F14<17000)),$J$125,IF((AND(F14>=17000,F14<18000)),$J$126,IF((AND(F14>=18000,F14<19000)),$J$127,IF((AND(F14>=19000,F14<20000)),$J$128,IF((AND(F14>=20000,F14<21000)),$J$129,IF((AND(F14>=21000,F14<22000)),$J$130,IF((AND(F14>=22000,F14<23000)),$J$131,IF((AND(F14>=23000,F14<24000)),$J$132,IF((AND(F14>=24000,F14<25000)),$J$133,IF((AND(F14>=25000,F14<26000)),$J$134,IF((AND(F14>=26000,F14<27000)),$J$135,IF((AND(F14>=27000,F14<28000)),$J$136,IF((AND(F14>=28000,F14<29000)),$J$137,IF((AND(F14>=29000,F14<30000)),$J$138,IF((AND(F14>=30000,F14<31000)),$J$139,IF((AND(F14>=31000,F14<32000)),$J$140,IF((AND(F14>=32000,F14<33000)),$J$141,IF((AND(F14>=33000,F14<34000)),$J$142,IF((AND(F14>=34000,F14<35000)),$J$143,IF((AND(F14>=35000,F14<36000)),$J$144,IF((AND(F14>=36000,F14<37000)),$J$145,IF((AND(F14>=37000,F14<38000)),$J$146,IF((AND(F14>=38000,F14<39000)),$J$147,IF((AND(F14>=39000,F14<40000)),$J$148,IF((AND(F14>=40000,F14<41000)),$J$149,IF((AND(F14>=41000,F14<42000)),$J$150,IF((AND(F14>=42000,F14<43000)),$J$151,IF((AND(F14>=43000,F14<44000)),$J$152,IF((AND(F14>=44000,F14<45000)),$J$153,IF((AND(F14>=45000,F14<46000)),$J$154,IF((AND(F14>=46000,F14<47000)),$J$155,IF((AND(F14>=47000,F14<48000)),$J$156,IF((AND(F14>=48000,F14<49000)),$J$157,IF((AND(F14>=49000,F14<50000)),$J$158,IF((AND(F14>=50000,F14<51000)),$J$159,IF((AND(F14>=51000,F14<52000)),$J$160,IF((AND(F14>=52000,F14<53000)),$J$161,IF((AND(F14>=53000,F14<54000)),$J$162,IF((AND(F14>=54000,F14<55000)),$J$163,IF((AND(F14>=55000,F14<56000)),$J$164,IF((AND(F14>=56000,F14<57000)),$J$165,IF((AND(F14>=57000,F14<58000)),$J$166,IF((AND(F14>=58000,F14<59000)),$J$167,IF((AND(F14>=59000,F14<60000)),$J$168,IF((AND(F14>=60000,F14<61000)),$J$169,"0"))))))))))))))))))))))))))))))))))))))))))))))))))))))))) -> 340
... A23: 21 | B23: =SUBSTITUTE(TRIM(LEFT(D23,FIND("-",D23&"-")-1))," ","-") -> DDN-756 | C23: =TRIM(MID(D23,FIND("-",D23)+1,LEN(D23))) -> Teachers Village, Panabo City | D23: DDN 756-Teachers Village, Panabo City | E23: RHEAMINE LIGAO | F23: =IFERROR(VLOOKUP($B23,'EOD - SEPTEMBER 28, 2026'!$B$2:$G$991,3,FALSE),0) -> 27726 | G23: =IFERROR(VLOOKUP($B23,'EOD - SEPTEMBER 28, 2026'!$B$2:$G$991,6,FALSE),0) -> 4800 | H23: =F23*0.125 -> 3465.75 | I23: =F23-G23-H23 -> 19460.25 | J23: =IF((AND(F23>=100,F23<5000)),$J$113,IF((AND(F23>=5000,F23<6000)),$J$114,IF((AND(F23>=6000,F23<7000)),$J$115,IF((AND(F23>=7000,F23<8000)),$J$116,IF((AND(F23>=8000,F23<9000)),$J$117,IF((AND(F23>=9000,F23<10000)),$J$118,IF((AND(F23>=10000,F23<11000)),$J$119,IF((AND(F23>=11000,F23<12000)),$J$120,IF((AND(F23>=12000,F23<13000)),$J$121,IF((AND(F23>=13000,F23<14000)),$J$122,IF((AND(F23>=14000,F23<15000)),$J$123,IF((AND(F23>=15000,F23<16000)),$J$124,IF((AND(F23>=16000,F23<17000)),$J$125,IF((AND(F23>=17000,F23<18000)),$J$126,IF((AND(F23>=18000,F23<19000)),$J$127,IF((AND(F23>=19000,F23<20000)),$J$128,IF((AND(F23>=20000,F23<21000)),$J$129,IF((AND(F23>=21000,F23<22000)),$J$130,IF((AND(F23>=22000,F23<23000)),$J$131,IF((AND(F23>=23000,F23<24000)),$J$132,IF((AND(F23>=24000,F23<25000)),$J$133,IF((AND(F23>=25000,F23<26000)),$J$134,IF((AND(F23>=26000,F23<27000)),$J$135,IF((AND(F23>=27000,F23<28000)),$J$136,IF((AND(F23>=28000,F23<29000)),$J$137,IF((AND(F23>=29000,F23<30000)),$J$138,IF((AND(F23>=30000,F23<31000)),$J$139,IF((AND(F23>=31000,F23<32000)),$J$140,IF((AND(F23>=32000,F23<33000)),$J$141,IF((AND(F23>=33000,F23<34000)),$J$142,IF((AND(F23>=34000,F23<35000)),$J$143,IF((AND(F23>=35000,F23<36000)),$J$144,IF((AND(F23>=36000,F23<37000)),$J$145,IF((AND(F23>=37000,F23<38000)),$J$146,IF((AND(F23>=38000,F23<39000)),$J$147,IF((AND(F23>=39000,F23<40000)),$J$148,IF((AND(F23>=40000,F23<41000)),$J$149,IF((AND(F23>=41000,F23<42000)),$J$150,IF((AND(F23>=42000,F23<43000)),$J$151,IF((AND(F23>=43000,F23<44000)),$J$152,IF((AND(F23>=44000,F23<45000)),$J$153,IF((AND(F23>=45000,F23<46000)),$J$154,IF((AND(F23>=46000,F23<47000)),$J$155,IF((AND(F23>=47000,F23<48000)),$J$156,IF((AND(F23>=48000,F23<49000)),$J$157,IF((AND(F23>=49000,F23<50000)),$J$158,IF((AND(F23>=50000,F23<51000)),$J$159,IF((AND(F23>=51000,F23<52000)),$J$160,IF((AND(F23>=52000,F23<53000)),$J$161,IF((AND(F23>=53000,F23<54000)),$J$162,IF((AND(F23>=54000,F23<55000)),$J$163,IF((AND(F23>=55000,F23<56000)),$J$164,IF((AND(F23>=56000,F23<57000)),$J$165,IF((AND(F23>=57000,F23<58000)),$J$166,IF((AND(F23>=58000,F23<59000)),$J$167,IF((AND(F23>=59000,F23<60000)),$J$168,IF((AND(F23>=60000,F23<61000)),$J$169,"0"))))))))))))))))))))))))))))))))))))))))))))))))))))))))) -> 520
A24: 22 | B24: =SUBSTITUTE(TRIM(LEFT(D24,FIND("-",D24&"-")-1))," ","-") -> DDN-757 | C24: =TRIM(MID(D24,FIND("-",D24)+1,LEN(D24))) -> DICT CO.,Wharf Road,Panabo City (DEACTIVATED) | D24: DDN 757-DICT CO.,Wharf Road,Panabo City (DEACTIVATED) | F24: =IFERROR(VLOOKUP($B24,'EOD - SEPTEMBER 28, 2026'!$B$2:$G$991,3,FALSE),0) -> 0 | G24: =IFERROR(VLOOKUP($B24,'EOD - SEPTEMBER 28, 2026'!$B$2:$G$991,6,FALSE),0) -> 0 | H24: =F24*0.125 -> 0 | I24: =F24-G24-H24 -> 0 | J24: =IF((AND(F24>=100,F24<5000)),$J$113,IF((AND(F24>=5000,F24<6000)),$J$114,IF((AND(F24>=6000,F24<7000)),$J$115,IF((AND(F24>=7000,F24<8000)),$J$116,IF((AND(F24>=8000,F24<9000)),$J$117,IF((AND(F24>=9000,F24<10000)),$J$118,IF((AND(F24>=10000,F24<11000)),$J$119,IF((AND(F24>=11000,F24<12000)),$J$120,IF((AND(F24>=12000,F24<13000)),$J$121,IF((AND(F24>=13000,F24<14000)),$J$122,IF((AND(F24>=14000,F24<15000)),$J$123,IF((AND(F24>=15000,F24<16000)),$J$124,IF((AND(F24>=16000,F24<17000)),$J$125,IF((AND(F24>=17000,F24<18000)),$J$126,IF((AND(F24>=18000,F24<19000)),$J$127,IF((AND(F24>=19000,F24<20000)),$J$128,IF((AND(F24>=20000,F24<21000)),$J$129,IF((AND(F24>=21000,F24<22000)),$J$130,IF((AND(F24>=22000,F24<23000)),$J$131,IF((AND(F24>=23000,F24<24000)),$J$132,IF((AND(F24>=24000,F24<25000)),$J$133,IF((AND(F24>=25000,F24<26000)),$J$134,IF((AND(F24>=26000,F24<27000)),$J$135,IF((AND(F24>=27000,F24<28000)),$J$136,IF((AND(F24>=28000,F24<29000)),$J$137,IF((AND(F24>=29000,F24<30000)),$J$138,IF((AND(F24>=30000,F24<31000)),$J$139,IF((AND(F24>=31000,F24<32000)),$J$140,IF((AND(F24>=32000,F24<33000)),$J$141,IF((AND(F24>=33000,F24<34000)),$J$142,IF((AND(F24>=34000,F24<35000)),$J$143,IF((AND(F24>=35000,F24<36000)),$J$144,IF((AND(F24>=36000,F24<37000)),$J$145,IF((AND(F24>=37000,F24<38000)),$J$146,IF((AND(F24>=38000,F24<39000)),$J$147,IF((AND(F24>=39000,F24<40000)),$J$148,IF((AND(F24>=40000,F24<41000)),$J$149,IF((AND(F24>=41000,F24<42000)),$J$150,IF((AND(F24>=42000,F24<43000)),$J$151,IF((AND(F24>=43000,F24<44000)),$J$152,IF((AND(F24>=44000,F24<45000)),$J$153,IF((AND(F24>=45000,F24<46000)),$J$154,IF((AND(F24>=46000,F24<47000)),$J$155,IF((AND(F24>=47000,F24<48000)),$J$156,IF((AND(F24>=48000,F24<49000)),$J$157,IF((AND(F24>=49000,F24<50000)),$J$158,IF((AND(F24>=50000,F24<51000)),$J$159,IF((AND(F24>=51000,F24<52000)),$J$160,IF((AND(F24>=52000,F24<53000)),$J$161,IF((AND(F24>=53000,F24<54000)),$J$162,IF((AND(F24>=54000,F24<55000)),$J$163,IF((AND(F24>=55000,F24<56000)),$J$164,IF((AND(F24>=56000,F24<57000)),$J$165,IF((AND(F24>=57000,F24<58000)),$J$166,IF((AND(F24>=58000,F24<59000)),$J$167,IF((AND(F24>=59000,F24<60000)),$J$168,IF((AND(F24>=60000,F24<61000)),$J$169,"0"))))))))))))))))))))))))))))))))))))))))))))))))))))))))) -> 0
A25: 23 | B25: =SUBSTITUTE(TRIM(LEFT(D25,FIND("-",D25&"-")-1))," ","-") -> DDN-758 | C25: =TRIM(MID(D25,FIND("-",D25)+1,LEN(D25))) -> DICT Bulk Packing Entrance,Panabo | D25: DDN 758-DICT Bulk Packing Entrance,Panabo | E25: Loverly Olivarez | F25: =IFERROR(VLOOKUP($B25,'EOD - SEPTEMBER 28, 2026'!$B$2:$G$991,3,FALSE),0) -> 5944 | G25: =IFERROR(VLOOKUP($B25,'EOD - SEPTEMBER 28, 2026'!$B$2:$G$991,6,FALSE),0) -> 0 | H25: =F25*0.125 -> 743 | I25: =F25-G25-H25 -> 5201 | J25: =IF((AND(F25>=100,F25<5000)),$J$113,IF((AND(F25>=5000,F25<6000)),$J$114,IF((AND(F25>=6000,F25<7000)),$J$115,IF((AND(F25>=7000,F25<8000)),$J$116,IF((AND(F25>=8000,F25<9000)),$J$117,IF((AND(F25>=9000,F25<10000)),$J$118,IF((AND(F25>=10000,F25<11000)),$J$119,IF((AND(F25>=11000,F25<12000)),$J$120,IF((AND(F25>=12000,F25<13000)),$J$121,IF((AND(F25>=13000,F25<14000)),$J$122,IF((AND(F25>=14000,F25<15000)),$J$123,IF((AND(F25>=15000,F25<16000)),$J$124,IF((AND(F25>=16000,F25<17000)),$J$125,IF((AND(F25>=17000,F25<18000)),$J$126,IF((AND(F25>=18000,F25<19000)),$J$127,IF((AND(F25>=19000,F25<20000)),$J$128,IF((AND(F25>=20000,F25<21000)),$J$129,IF((AND(F25>=21000,F25<22000)),$J$130,IF((AND(F25>=22000,F25<23000)),$J$131,IF((AND(F25>=23000,F25<24000)),$J$132,IF((AND(F25>=24000,F25<25000)),$J$133,IF((AND(F25>=25000,F25<26000)),$J$134,IF((AND(F25>=26000,F25<27000)),$J$135,IF((AND(F25>=27000,F25<28000)),$J$136,IF((AND(F25>=28000,F25<29000)),$J$137,IF((AND(F25>=29000,F25<30000)),$J$138,IF((AND(F25>=30000,F25<31000)),$J$139,IF((AND(F25>=31000,F25<32000)),$J$140,IF((AND(F25>=32000,F25<33000)),$J$141,IF((AND(F25>=33000,F25<34000)),$J$142,IF((AND(F25>=34000,F25<35000)),$J$143,IF((AND(F25>=35000,F25<36000)),$J$144,IF((AND(F25>=36000,F25<37000)),$J$145,IF((AND(F25>=37000,F25<38000)),$J$146,IF((AND(F25>=38000,F25<39000)),$J$147,IF((AND(F25>=39000,F25<40000)),$J$148,IF((AND(F25>=40000,F25<41000)),$J$149,IF((AND(F25>=41000,F25<42000)),$J$150,IF((AND(F25>=42000,F25<43000)),$J$151,IF((AND(F25>=43000,F25<44000)),$J$152,IF((AND(F25>=44000,F25<45000)),$J$153,IF((AND(F25>=45000,F25<46000)),$J$154,IF((AND(F25>=46000,F25<47000)),$J$155,IF((AND(F25>=47000,F25<48000)),$J$156,IF((AND(F25>=48000,F25<49000)),$J$157,IF((AND(F25>=49000,F25<50000)),$J$158,IF((AND(F25>=50000,F25<51000)),$J$159,IF((AND(F25>=51000,F25<52000)),$J$160,IF((AND(F25>=52000,F25<53000)),$J$161,IF((AND(F25>=53000,F25<54000)),$J$162,IF((AND(F25>=54000,F25<55000)),$J$163,IF((AND(F25>=55000,F25<56000)),$J$164,IF((AND(F25>=56000,F25<57000)),$J$165,IF((AND(F25>=57000,F25<58000)),$J$166,IF((AND(F25>=58000,F25<59000)),$J$167,IF((AND(F25>=59000,F25<60000)),$J$168,IF((AND(F25>=60000,F25<61000)),$J$169,"0"))))))))))))))))))))))))))))))))))))))))))))))))))))))))) -> 300
A26: 24 | B26: =SUBSTITUTE(TRIM(LEFT(D26,FIND("-",D26&"-")-1))," ","-") -> DDN-759 | C26: =TRIM(MID(D26,FIND("-",D26)+1,LEN(D26))) -> Brgy San Pedro,Panabo City(FOR BOOTH TRANSFER) | D26: DDN 759-Brgy San Pedro,Panabo City(FOR BOOTH TRANSFER) | F26: =IFERROR(VLOOKUP($B26,'EOD - SEPTEMBER 28, 2026'!$B$2:$G$991,3,FALSE),0) -> 0 | G26: =IFERROR(VLOOKUP($B26,'EOD - SEPTEMBER 28, 2026'!$B$2:$G$991,6,FALSE),0) -> 0 | H26: =F26*0.125 -> 0 | I26: =F26-G26-H26 -> 0 | J26: =IF((AND(F26>=100,F26<5000)),$J$113,IF((AND(F26>=5000,F26<6000)),$J$114,IF((AND(F26>=6000,F26<7000)),$J$115,IF((AND(F26>=7000,F26<8000)),$J$116,IF((AND(F26>=8000,F26<9000)),$J$117,IF((AND(F26>=9000,F26<10000)),$J$118,IF((AND(F26>=10000,F26<11000)),$J$119,IF((AND(F26>=11000,F26<12000)),$J$120,IF((AND(F26>=12000,F26<13000)),$J$121,IF((AND(F26>=13000,F26<14000)),$J$122,IF((AND(F26>=14000,F26<15000)),$J$123,IF((AND(F26>=15000,F26<16000)),$J$124,IF((AND(F26>=16000,F26<17000)),$J$125,IF((AND(F26>=17000,F26<18000)),$J$126,IF((AND(F26>=18000,F26<19000)),$J$127,IF((AND(F26>=19000,F26<20000)),$J$128,IF((AND(F26>=20000,F26<21000)),$J$129,IF((AND(F26>=21000,F26<22000)),$J$130,IF((AND(F26>=22000,F26<23000)),$J$131,IF((AND(F26>=23000,F26<24000)),$J$132,IF((AND(F26>=24000,F26<25000)),$J$133,IF((AND(F26>=25000,F26<26000)),$J$134,IF((AND(F26>=26000,F26<27000)),$J$135,IF((AND(F26>=27000,F26<28000)),$J$136,IF((AND(F26>=28000,F26<29000)),$J$137,IF((AND(F26>=29000,F26<30000)),$J$138,IF((AND(F26>=30000,F26<31000)),$J$139,IF((AND(F26>=31000,F26<32000)),$J$140,IF((AND(F26>=32000,F26<33000)),$J$141,IF((AND(F26>=33000,F26<34000)),$J$142,IF((AND(F26>=34000,F26<35000)),$J$143,IF((AND(F26>=35000,F26<36000)),$J$144,IF((AND(F26>=36000,F26<37000)),$J$145,IF((AND(F26>=37000,F26<38000)),$J$146,IF((AND(F26>=38000,F26<39000)),$J$147,IF((AND(F26>=39000,F26<40000)),$J$148,IF((AND(F26>=40000,F26<41000)),$J$149,IF((AND(F26>=41000,F26<42000)),$J$150,IF((AND(F26>=42000,F26<43000)),$J$151,IF((AND(F26>=43000,F26<44000)),$J$152,IF((AND(F26>=44000,F26<45000)),$J$153,IF((AND(F26>=45000,F26<46000)),$J$154,IF((AND(F26>=46000,F26<47000)),$J$155,IF((AND(F26>=47000,F26<48000)),$J$156,IF((AND(F26>=48000,F26<49000)),$J$157,IF((AND(F26>=49000,F26<50000)),$J$158,IF((AND(F26>=50000,F26<51000)),$J$159,IF((AND(F26>=51000,F26<52000)),$J$160,IF((AND(F26>=52000,F26<53000)),$J$161,IF((AND(F26>=53000,F26<54000)),$J$162,IF((AND(F26>=54000,F26<55000)),$J$163,IF((AND(F26>=55000,F26<56000)),$J$164,IF((AND(F26>=56000,F26<57000)),$J$165,IF((AND(F26>=57000,F26<58000)),$J$166,IF((AND(F26>=58000,F26<59000)),$J$167,IF((AND(F26>=59000,F26<60000)),$J$168,IF((AND(F26>=60000,F26<61000)),$J$169,"0"))))))))))))))))))))))))))))))))))))))))))))))))))))))))) -> 0
A27: 25 | B27: =SUBSTITUTE(TRIM(LEFT(D27,FIND("-",D27&"-")-1))," ","-") -> DDN-760 | C27: =TRIM(MID(D27,FIND("-",D27)+1,LEN(D27))) -> Merville Subdivision,Magdum,Tagum City | D27: DDN 760-Merville Subdivision,Magdum,Tagum City | E27: ELVI FABON OÑEZ | F27: =IFERROR(VLOOKUP($B27,'EOD - SEPTEMBER 28, 2026'!$B$2:$G$991,3,FALSE),0) -> 4115 | G27: =IFERROR(VLOOKUP($B27,'EOD - SEPTEMBER 28, 2026'!$B$2:$G$991,6,FALSE),0) -> 0 | H27: =F27*0.125 -> 514.375 | I27: =F27-G27-H27 -> 3600.625 | J27: =IF((AND(F27>=100,F27<5000)),$J$113,IF((AND(F27>=5000,F27<6000)),$J$114,IF((AND(F27>=6000,F27<7000)),$J$115,IF((AND(F27>=7000,F27<8000)),$J$116,IF((AND(F27>=8000,F27<9000)),$J$117,IF((AND(F27>=9000,F27<10000)),$J$118,IF((AND(F27>=10000,F27<11000)),$J$119,IF((AND(F27>=11000,F27<12000)),$J$120,IF((AND(F27>=12000,F27<13000)),$J$121,IF((AND(F27>=13000,F27<14000)),$J$122,IF((AND(F27>=14000,F27<15000)),$J$123,IF((AND(F27>=15000,F27<16000)),$J$124,IF((AND(F27>=16000,F27<17000)),$J$125,IF((AND(F27>=17000,F27<18000)),$J$126,IF((AND(F27>=18000,F27<19000)),$J$127,IF((AND(F27>=19000,F27<20000)),$J$128,IF((AND(F27>=20000,F27<21000)),$J$129,IF((AND(F27>=21000,F27<22000)),$J$130,IF((AND(F27>=22000,F27<23000)),$J$131,IF((AND(F27>=23000,F27<24000)),$J$132,IF((AND(F27>=24000,F27<25000)),$J$133,IF((AND(F27>=25000,F27<26000)),$J$134,IF((AND(F27>=26000,F27<27000)),$J$135,IF((AND(F27>=27000,F27<28000)),$J$136,IF((AND(F27>=28000,F27<29000)),$J$137,IF((AND(F27>=29000,F27<30000)),$J$138,IF((AND(F27>=30000,F27<31000)),$J$139,IF((AND(F27>=31000,F27<32000)),$J$140,IF((AND(F27>=32000,F27<33000)),$J$141,IF((AND(F27>=33000,F27<34000)),$J$142,IF((AND(F27>=34000,F27<35000)),$J$143,IF((AND(F27>=35000,F27<36000)),$J$144,IF((AND(F27>=36000,F27<37000)),$J$145,IF((AND(F27>=37000,F27<38000)),$J$146,IF((AND(F27>=38000,F27<39000)),$J$147,IF((AND(F27>=39000,F27<40000)),$J$148,IF((AND(F27>=40000,F27<41000)),$J$149,IF((AND(F27>=41000,F27<42000)),$J$150,IF((AND(F27>=42000,F27<43000)),$J$151,IF((AND(F27>=43000,F27<44000)),$J$152,IF((AND(F27>=44000,F27<45000)),$J$153,IF((AND(F27>=45000,F27<46000)),$J$154,IF((AND(F27>=46000,F27<47000)),$J$155,IF((AND(F27>=47000,F27<48000)),$J$156,IF((AND(F27>=48000,F27<49000)),$J$157,IF((AND(F27>=49000,F27<50000)),$J$158,IF((AND(F27>=50000,F27<51000)),$J$159,IF((AND(F27>=51000,F27<52000)),$J$160,IF((AND(F27>=52000,F27<53000)),$J$161,IF((AND(F27>=53000,F27<54000)),$J$162,IF((AND(F27>=54000,F27<55000)),$J$163,IF((AND(F27>=55000,F27<56000)),$J$164,IF((AND(F27>=56000,F27<57000)),$J$165,IF((AND(F27>=57000,F27<58000)),$J$166,IF((AND(F27>=58000,F27<59000)),$J$167,IF((AND(F27>=59000,F27<60000)),$J$168,IF((AND(F27>=60000,F27<61000)),$J$169,"0"))))))))))))))))))))))))))))))))))))))))))))))))))))))))) -> 250
A28: 26 | B28: =SUBSTITUTE(TRIM(LEFT(D28,FIND("-",D28&"-")-1))," ","-") -> DDN-761 | C28: =TRIM(MID(D28,FIND("-",D28)+1,LEN(D28))) -> Diamond Street,Crystal Plain,Panabo City | D28: DDN 761-Diamond Street,Crystal Plain,Panabo City | E28: DANILYN BEJOR | F28: =IFERROR(VLOOKUP($B28,'EOD - SEPTEMBER 28, 2026'!$B$2:$G$991,3,FALSE),0) -> 2826 | G28: =IFERROR(VLOOKUP($B28,'EOD - SEPTEMBER 28, 2026'!$B$2:$G$991,6,FALSE),0) -> 1600 | H28: =F28*0.125 -> 353.25 | I28: =F28-G28-H28 -> 872.75 | J28: =IF((AND(F28>=100,F28<5000)),$J$113,IF((AND(F28>=5000,F28<6000)),$J$114,IF((AND(F28>=6000,F28<7000)),$J$115,IF((AND(F28>=7000,F28<8000)),$J$116,IF((AND(F28>=8000,F28<9000)),$J$117,IF((AND(F28>=9000,F28<10000)),$J$118,IF((AND(F28>=10000,F28<11000)),$J$119,IF((AND(F28>=11000,F28<12000)),$J$120,IF((AND(F28>=12000,F28<13000)),$J$121,IF((AND(F28>=13000,F28<14000)),$J$122,IF((AND(F28>=14000,F28<15000)),$J$123,IF((AND(F28>=15000,F28<16000)),$J$124,IF((AND(F28>=16000,F28<17000)),$J$125,IF((AND(F28>=17000,F28<18000)),$J$126,IF((AND(F28>=18000,F28<19000)),$J$127,IF((AND(F28>=19000,F28<20000)),$J$128,IF((AND(F28>=20000,F28<21000)),$J$129,IF((AND(F28>=21000,F28<22000)),$J$130,IF((AND(F28>=22000,F28<23000)),$J$131,IF((AND(F28>=23000,F28<24000)),$J$132,IF((AND(F28>=24000,F28<25000)),$J$133,IF((AND(F28>=25000,F28<26000)),$J$134,IF((AND(F28>=26000,F28<27000)),$J$135,IF((AND(F28>=27000,F28<28000)),$J$136,IF((AND(F28>=28000,F28<29000)),$J$137,IF((AND(F28>=29000,F28<30000)),$J$138,IF((AND(F28>=30000,F28<31000)),$J$139,IF((AND(F28>=31000,F28<32000)),$J$140,IF((AND(F28>=32000,F28<33000)),$J$141,IF((AND(F28>=33000,F28<34000)),$J$142,IF((AND(F28>=34000,F28<35000)),$J$143,IF((AND(F28>=35000,F28<36000)),$J$144,IF((AND(F28>=36000,F28<37000)),$J$145,IF((AND(F28>=37000,F28<38000)),$J$146,IF((AND(F28>=38000,F28<39000)),$J$147,IF((AND(F28>=39000,F28<40000)),$J$148,IF((AND(F28>=40000,F28<41000)),$J$149,IF((AND(F28>=41000,F28<42000)),$J$150,IF((AND(F28>=42000,F28<43000)),$J$151,IF((AND(F28>=43000,F28<44000)),$J$152,IF((AND(F28>=44000,F28<45000)),$J$153,IF((AND(F28>=45000,F28<46000)),$J$154,IF((AND(F28>=46000,F28<47000)),$J$155,IF((AND(F28>=47000,F28<48000)),$J$156,IF((AND(F28>=48000,F28<49000)),$J$157,IF((AND(F28>=49000,F28<50000)),$J$158,IF((AND(F28>=50000,F28<51000)),$J$159,IF((AND(F28>=51000,F28<52000)),$J$160,IF((AND(F28>=52000,F28<53000)),$J$161,IF((AND(F28>=53000,F28<54000)),$J$162,IF((AND(F28>=54000,F28<55000)),$J$163,IF((AND(F28>=55000,F28<56000)),$J$164,IF((AND(F28>=56000,F28<57000)),$J$165,IF((AND(F28>=57000,F28<58000)),$J$166,IF((AND(F28>=58000,F28<59000)),$J$167,IF((AND(F28>=59000,F28<60000)),$J$168,IF((AND(F28>=60000,F28<61000)),$J$169,"0"))))))))))))))))))))))))))))))))))))))))))))))))))))))))) -> 250
A29: 27 | B29: =SUBSTITUTE(TRIM(LEFT(D29,FIND("-",D29&"-")-1))," ","-") -> DDN-762 | C29: =TRIM(MID(D29,FIND("-",D29)+1,LEN(D29))) -> Sabungan ni NENE,Tibal.og,Sto.Tomas | D29: DDN 762-Sabungan ni NENE,Tibal.og,Sto.Tomas | E29: DAVILYN GELITO | F29: =IFERROR(VLOOKUP($B29,'EOD - SEPTEMBER 28, 2026'!$B$2:$G$991,3,FALSE),0) -> 14410 | G29: =IFERROR(VLOOKUP($B29,'EOD - SEPTEMBER 28, 2026'!$B$2:$G$991,6,FALSE),0) -> 4000 | H29: =F29*0.125 -> 1801.25 | I29: =F29-G29-H29 -> 8608.75 | J29: =IF((AND(F29>=100,F29<5000)),$J$113,IF((AND(F29>=5000,F29<6000)),$J$114,IF((AND(F29>=6000,F29<7000)),$J$115,IF((AND(F29>=7000,F29<8000)),$J$116,IF((AND(F29>=8000,F29<9000)),$J$117,IF((AND(F29>=9000,F29<10000)),$J$118,IF((AND(F29>=10000,F29<11000)),$J$119,IF((AND(F29>=11000,F29<12000)),$J$120,IF((AND(F29>=12000,F29<13000)),$J$121,IF((AND(F29>=13000,F29<14000)),$J$122,IF((AND(F29>=14000,F29<15000)),$J$123,IF((AND(F29>=15000,F29<16000)),$J$124,IF((AND(F29>=16000,F29<17000)),$J$125,IF((AND(F29>=17000,F29<18000)),$J$126,IF((AND(F29>=18000,F29<19000)),$J$127,IF((AND(F29>=19000,F29<20000)),$J$128,IF((AND(F29>=20000,F29<21000)),$J$129,IF((AND(F29>=21000,F29<22000)),$J$130,IF((AND(F29>=22000,F29<23000)),$J$131,IF((AND(F29>=23000,F29<24000)),$J$132,IF((AND(F29>=24000,F29<25000)),$J$133,IF((AND(F29>=25000,F29<26000)),$J$134,IF((AND(F29>=26000,F29<27000)),$J$135,IF((AND(F29>=27000,F29<28000)),$J$136,IF((AND(F29>=28000,F29<29000)),$J$137,IF((AND(F29>=29000,F29<30000)),$J$138,IF((AND(F29>=30000,F29<31000)),$J$139,IF((AND(F29>=31000,F29<32000)),$J$140,IF((AND(F29>=32000,F29<33000)),$J$141,IF((AND(F29>=33000,F29<34000)),$J$142,IF((AND(F29>=34000,F29<35000)),$J$143,IF((AND(F29>=35000,F29<36000)),$J$144,IF((AND(F29>=36000,F29<37000)),$J$145,IF((AND(F29>=37000,F29<38000)),$J$146,IF((AND(F29>=38000,F29<39000)),$J$147,IF((AND(F29>=39000,F29<40000)),$J$148,IF((AND(F29>=40000,F29<41000)),$J$149,IF((AND(F29>=41000,F29<42000)),$J$150,IF((AND(F29>=42000,F29<43000)),$J$151,IF((AND(F29>=43000,F29<44000)),$J$152,IF((AND(F29>=44000,F29<45000)),$J$153,IF((AND(F29>=45000,F29<46000)),$J$154,IF((AND(F29>=46000,F29<47000)),$J$155,IF((AND(F29>=47000,F29<48000)),$J$156,IF((AND(F29>=48000,F29<49000)),$J$157,IF((AND(F29>=49000,F29<50000)),$J$158,IF((AND(F29>=50000,F29<51000)),$J$159,IF((AND(F29>=51000,F29<52000)),$J$160,IF((AND(F29>=52000,F29<53000)),$J$161,IF((AND(F29>=53000,F29<54000)),$J$162,IF((AND(F29>=54000,F29<55000)),$J$163,IF((AND(F29>=55000,F29<56000)),$J$164,IF((AND(F29>=56000,F29<57000)),$J$165,IF((AND(F29>=57000,F29<58000)),$J$166,IF((AND(F29>=58000,F29<59000)),$J$167,IF((AND(F29>=59000,F29<60000)),$J$168,IF((AND(F29>=60000,F29<61000)),$J$169,"0"))))))))))))))))))))))))))))))))))))))))))))))))))))))))) -> 390
A30: 28 | B30: =SUBSTITUTE(TRIM(LEFT(D30,FIND("-",D30&"-")-1))," ","-") -> DDN-763 | C30: =TRIM(MID(D30,FIND("-",D30)+1,LEN(D30))) -> Mabitad Extension Carenderia,Panabo City | D30: DDN 763-Mabitad Extension Carenderia,Panabo City | E30: FLORESTE ALDERITE | F30: =IFERROR(VLOOKUP($B30,'EOD - SEPTEMBER 28, 2026'!$B$2:$G$991,3,FALSE),0) -> 3810 | G30: =IFERROR(VLOOKUP($B30,'EOD - SEPTEMBER 28, 2026'!$B$2:$G$991,6,FALSE),0) -> 0 | H30: =F30*0.125 -> 476.25 | I30: =F30-G30-H30 -> 3333.75 | J30: =IF((AND(F30>=100,F30<5000)),$J$113,IF((AND(F30>=5000,F30<6000)),$J$114,IF((AND(F30>=6000,F30<7000)),$J$115,IF((AND(F30>=7000,F30<8000)),$J$116,IF((AND(F30>=8000,F30<9000)),$J$117,IF((AND(F30>=9000,F30<10000)),$J$118,IF((AND(F30>=10000,F30<11000)),$J$119,IF((AND(F30>=11000,F30<12000)),$J$120,IF((AND(F30>=12000,F30<13000)),$J$121,IF((AND(F30>=13000,F30<14000)),$J$122,IF((AND(F30>=14000,F30<15000)),$J$123,IF((AND(F30>=15000,F30<16000)),$J$124,IF((AND(F30>=16000,F30<17000)),$J$125,IF((AND(F30>=17000,F30<18000)),$J$126,IF((AND(F30>=18000,F30<19000)),$J$127,IF((AND(F30>=19000,F30<20000)),$J$128,IF((AND(F30>=20000,F30<21000)),$J$129,IF((AND(F30>=21000,F30<22000)),$J$130,IF((AND(F30>=22000,F30<23000)),$J$131,IF((AND(F30>=23000,F30<24000)),$J$132,IF((AND(F30>=24000,F30<25000)),$J$133,IF((AND(F30>=25000,F30<26000)),$J$134,IF((AND(F30>=26000,F30<27000)),$J$135,IF((AND(F30>=27000,F30<28000)),$J$136,IF((AND(F30>=28000,F30<29000)),$J$137,IF((AND(F30>=29000,F30<30000)),$J$138,IF((AND(F30>=30000,F30<31000)),$J$139,IF((AND(F30>=31000,F30<32000)),$J$140,IF((AND(F30>=32000,F30<33000)),$J$141,IF((AND(F30>=33000,F30<34000)),$J$142,IF((AND(F30>=34000,F30<35000)),$J$143,IF((AND(F30>=35000,F30<36000)),$J$144,IF((AND(F30>=36000,F30<37000)),$J$145,IF((AND(F30>=37000,F30<38000)),$J$146,IF((AND(F30>=38000,F30<39000)),$J$147,IF((AND(F30>=39000,F30<40000)),$J$148,IF((AND(F30>=40000,F30<41000)),$J$149,IF((AND(F30>=41000,F30<42000)),$J$150,IF((AND(F30>=42000,F30<43000)),$J$151,IF((AND(F30>=43000,F30<44000)),$J$152,IF((AND(F30>=44000,F30<45000)),$J$153,IF((AND(F30>=45000,F30<46000)),$J$154,IF((AND(F30>=46000,F30<47000)),$J$155,IF((AND(F30>=47000,F30<48000)),$J$156,IF((AND(F30>=48000,F30<49000)),$J$157,IF((AND(F30>=49000,F30<50000)),$J$158,IF((AND(F30>=50000,F30<51000)),$J$159,IF((AND(F30>=51000,F30<52000)),$J$160,IF((AND(F30>=52000,F30<53000)),$J$161,IF((AND(F30>=53000,F30<54000)),$J$162,IF((AND(F30>=54000,F30<55000)),$J$163,IF((AND(F30>=55000,F30<56000)),$J$164,IF((AND(F30>=56000,F30<57000)),$J$165,IF((AND(F30>=57000,F30<58000)),$J$166,IF((AND(F30>=58000,F30<59000)),$J$167,IF((AND(F30>=59000,F30<60000)),$J$168,IF((AND(F30>=60000,F30<61000)),$J$169,"0"))))))))))))))))))))))))))))))))))))))))))))))))))))))))) -> 250
A31: 29 | B31: =SUBSTITUTE(TRIM(LEFT(D31,FIND("-",D31&"-")-1))," ","-") -> DDN-764 | C31: =TRIM(MID(D31,FIND("-",D31)+1,LEN(D31))) -> P1-Durian,New Visayas,Panabo City | D31: DDN 764 - P1-Durian,New Visayas,Panabo City | E31: NICMEL TABON | F31: =IFERROR(VLOOKUP($B31,'EOD - SEPTEMBER 28, 2026'!$B$2:$G$991,3,FALSE),0) -> 11195 | G31: =IFERROR(VLOOKUP($B31,'EOD - SEPTEMBER 28, 2026'!$B$2:$G$991,6,FALSE),0) -> 3200 | H31: =F31*0.125 -> 1399.375 | I31: =F31-G31-H31 -> 6595.625 | J31: =IF((AND(F31>=100,F31<5000)),$J$113,IF((AND(F31>=5000,F31<6000)),$J$114,IF((AND(F31>=6000,F31<7000)),$J$115,IF((AND(F31>=7000,F31<8000)),$J$116,IF((AND(F31>=8000,F31<9000)),$J$117,IF((AND(F31>=9000,F31<10000)),$J$118,IF((AND(F31>=10000,F31<11000)),$J$119,IF((AND(F31>=11000,F31<12000)),$J$120,IF((AND(F31>=12000,F31<13000)),$J$121,IF((AND(F31>=13000,F31<14000)),$J$122,IF((AND(F31>=14000,F31<15000)),$J$123,IF((AND(F31>=15000,F31<16000)),$J$124,IF((AND(F31>=16000,F31<17000)),$J$125,IF((AND(F31>=17000,F31<18000)),$J$126,IF((AND(F31>=18000,F31<19000)),$J$127,IF((AND(F31>=19000,F31<20000)),$J$128,IF((AND(F31>=20000,F31<21000)),$J$129,IF((AND(F31>=21000,F31<22000)),$J$130,IF((AND(F31>=22000,F31<23000)),$J$131,IF((AND(F31>=23000,F31<24000)),$J$132,IF((AND(F31>=24000,F31<25000)),$J$133,IF((AND(F31>=25000,F31<26000)),$J$134,IF((AND(F31>=26000,F31<27000)),$J$135,IF((AND(F31>=27000,F31<28000)),$J$136,IF((AND(F31>=28000,F31<29000)),$J$137,IF((AND(F31>=29000,F31<30000)),$J$138,IF((AND(F31>=30000,F31<31000)),$J$139,IF((AND(F31>=31000,F31<32000)),$J$140,IF((AND(F31>=32000,F31<33000)),$J$141,IF((AND(F31>=33000,F31<34000)),$J$142,IF((AND(F31>=34000,F31<35000)),$J$143,IF((AND(F31>=35000,F31<36000)),$J$144,IF((AND(F31>=36000,F31<37000)),$J$145,IF((AND(F31>=37000,F31<38000)),$J$146,IF((AND(F31>=38000,F31<39000)),$J$147,IF((AND(F31>=39000,F31<40000)),$J$148,IF((AND(F31>=40000,F31<41000)),$J$149,IF((AND(F31>=41000,F31<42000)),$J$150,IF((AND(F31>=42000,F31<43000)),$J$151,IF((AND(F31>=43000,F31<44000)),$J$152,IF((AND(F31>=44000,F31<45000)),$J$153,IF((AND(F31>=45000,F31<46000)),$J$154,IF((AND(F31>=46000,F31<47000)),$J$155,IF((AND(F31>=47000,F31<48000)),$J$156,IF((AND(F31>=48000,F31<49000)),$J$157,IF((AND(F31>=49000,F31<50000)),$J$158,IF((AND(F31>=50000,F31<51000)),$J$159,IF((AND(F31>=51000,F31<52000)),$J$160,IF((AND(F31>=52000,F31<53000)),$J$161,IF((AND(F31>=53000,F31<54000)),$J$162,IF((AND(F31>=54000,F31<55000)),$J$163,IF((AND(F31>=55000,F31<56000)),$J$164,IF((AND(F31>=56000,F31<57000)),$J$165,IF((AND(F31>=57000,F31<58000)),$J$166,IF((AND(F31>=58000,F31<59000)),$J$167,IF((AND(F31>=59000,F31<60000)),$J$168,IF((AND(F31>=60000,F31<61000)),$J$169,"0"))))))))))))))))))))))))))))))))))))))))))))))))))))))))) -> 360
A32: 30 | B32: =SUBSTITUTE(TRIM(LEFT(D32,FIND("-",D32&"-")-1))," ","-") -> DDN-765 | C32: =TRIM(MID(D32,FIND("-",D32)+1,LEN(D32))) -> Mannga,New Visayas | D32: DDN 765-Mannga,New Visayas | E32: Jenyvev Huraño Tura | F32: =IFERROR(VLOOKUP($B32,'EOD - SEPTEMBER 28, 2026'!$B$2:$G$991,3,FALSE),0) -> 0 | G32: =IFERROR(VLOOKUP($B32,'EOD - SEPTEMBER 28, 2026'!$B$2:$G$991,6,FALSE),0) -> 0 | H32: =F32*0.125 -> 0 | I32: =F32-G32-H32 -> 0 | J32: =IF((AND(F32>=100,F32<5000)),$J$113,IF((AND(F32>=5000,F32<6000)),$J$114,IF((AND(F32>=6000,F32<7000)),$J$115,IF((AND(F32>=7000,F32<8000)),$J$116,IF((AND(F32>=8000,F32<9000)),$J$117,IF((AND(F32>=9000,F32<10000)),$J$118,IF((AND(F32>=10000,F32<11000)),$J$119,IF((AND(F32>=11000,F32<12000)),$J$120,IF((AND(F32>=12000,F32<13000)),$J$121,IF((AND(F32>=13000,F32<14000)),$J$122,IF((AND(F32>=14000,F32<15000)),$J$123,IF((AND(F32>=15000,F32<16000)),$J$124,IF((AND(F32>=16000,F32<17000)),$J$125,IF((AND(F32>=17000,F32<18000)),$J$126,IF((AND(F32>=18000,F32<19000)),$J$127,IF((AND(F32>=19000,F32<20000)),$J$128,IF((AND(F32>=20000,F32<21000)),$J$129,IF((AND(F32>=21000,F32<22000)),$J$130,IF((AND(F32>=22000,F32<23000)),$J$131,IF((AND(F32>=23000,F32<24000)),$J$132,IF((AND(F32>=24000,F32<25000)),$J$133,IF((AND(F32>=25000,F32<26000)),$J$134,IF((AND(F32>=26000,F32<27000)),$J$135,IF((AND(F32>=27000,F32<28000)),$J$136,IF((AND(F32>=28000,F32<29000)),$J$137,IF((AND(F32>=29000,F32<30000)),$J$138,IF((AND(F32>=30000,F32<31000)),$J$139,IF((AND(F32>=31000,F32<32000)),$J$140,IF((AND(F32>=32000,F32<33000)),$J$141,IF((AND(F32>=33000,F32<34000)),$J$142,IF((AND(F32>=34000,F32<35000)),$J$143,IF((AND(F32>=35000,F32<36000)),$J$144,IF((AND(F32>=36000,F32<37000)),$J$145,IF((AND(F32>=37000,F32<38000)),$J$146,IF((AND(F32>=38000,F32<39000)),$J$147,IF((AND(F32>=39000,F32<40000)),$J$148,IF((AND(F32>=40000,F32<41000)),$J$149,IF((AND(F32>=41000,F32<42000)),$J$150,IF((AND(F32>=42000,F32<43000)),$J$151,IF((AND(F32>=43000,F32<44000)),$J$152,IF((AND(F32>=44000,F32<45000)),$J$153,IF((AND(F32>=45000,F32<46000)),$J$154,IF((AND(F32>=46000,F32<47000)),$J$155,IF((AND(F32>=47000,F32<48000)),$J$156,IF((AND(F32>=48000,F32<49000)),$J$157,IF((AND(F32>=49000,F32<50000)),$J$158,IF((AND(F32>=50000,F32<51000)),$J$159,IF((AND(F32>=51000,F32<52000)),$J$160,IF((AND(F32>=52000,F32<53000)),$J$161,IF((AND(F32>=53000,F32<54000)),$J$162,IF((AND(F32>=54000,F32<55000)),$J$163,IF((AND(F32>=55000,F32<56000)),$J$164,IF((AND(F32>=56000,F32<57000)),$J$165,IF((AND(F32>=57000,F32<58000)),$J$166,IF((AND(F32>=58000,F32<59000)),$J$167,IF((AND(F32>=59000,F32<60000)),$J$168,IF((AND(F32>=60000,F32<61000)),$J$169,"0"))))))))))))))))))))))))))))))))))))))))))))))))))))))))) -> 0
A33: 31 | B33: =SUBSTITUTE(TRIM(LEFT(D33,FIND("-",D33&"-")-1))," ","-") -> DDN-766 | C33: =TRIM(MID(D33,FIND("-",D33)+1,LEN(D33))) -> Near Cemetery,Pagsabangan, Tagum City | D33: DDN 766-Near Cemetery,Pagsabangan, Tagum City | F33: =IFERROR(VLOOKUP($B33,'EOD - SEPTEMBER 28, 2026'!$B$2:$G$991,3,FALSE),0) -> 0 | G33: =IFERROR(VLOOKUP($B33,'EOD - SEPTEMBER 28, 2026'!$B$2:$G$991,6,FALSE),0) -> 0 | H33: =F33*0.125 -> 0 | I33: =F33-G33-H33 -> 0 | J33: =IF((AND(F33>=100,F33<5000)),$J$113,IF((AND(F33>=5000,F33<6000)),$J$114,IF((AND(F33>=6000,F33<7000)),$J$115,IF((AND(F33>=7000,F33<8000)),$J$116,IF((AND(F33>=8000,F33<9000)),$J$117,IF((AND(F33>=9000,F33<10000)),$J$118,IF((AND(F33>=10000,F33<11000)),$J$119,IF((AND(F33>=11000,F33<12000)),$J$120,IF((AND(F33>=12000,F33<13000)),$J$121,IF((AND(F33>=13000,F33<14000)),$J$122,IF((AND(F33>=14000,F33<15000)),$J$123,IF((AND(F33>=15000,F33<16000)),$J$124,IF((AND(F33>=16000,F33<17000)),$J$125,IF((AND(F33>=17000,F33<18000)),$J$126,IF((AND(F33>=18000,F33<19000)),$J$127,IF((AND(F33>=19000,F33<20000)),$J$128,IF((AND(F33>=20000,F33<21000)),$J$129,IF((AND(F33>=21000,F33<22000)),$J$130,IF((AND(F33>=22000,F33<23000)),$J$131,IF((AND(F33>=23000,F33<24000)),$J$132,IF((AND(F33>=24000,F33<25000)),$J$133,IF((AND(F33>=25000,F33<26000)),$J$134,IF((AND(F33>=26000,F33<27000)),$J$135,IF((AND(F33>=27000,F33<28000)),$J$136,IF((AND(F33>=28000,F33<29000)),$J$137,IF((AND(F33>=29000,F33<30000)),$J$138,IF((AND(F33>=30000,F33<31000)),$J$139,IF((AND(F33>=31000,F33<32000)),$J$140,IF((AND(F33>=32000,F33<33000)),$J$141,IF((AND(F33>=33000,F33<34000)),$J$142,IF((AND(F33>=34000,F33<35000)),$J$143,IF((AND(F33>=35000,F33<36000)),$J$144,IF((AND(F33>=36000,F33<37000)),$J$145,IF((AND(F33>=37000,F33<38000)),$J$146,IF((AND(F33>=38000,F33<39000)),$J$147,IF((AND(F33>=39000,F33<40000)),$J$148,IF((AND(F33>=40000,F33<41000)),$J$149,IF((AND(F33>=41000,F33<42000)),$J$150,IF((AND(F33>=42000,F33<43000)),$J$151,IF((AND(F33>=43000,F33<44000)),$J$152,IF((AND(F33>=44000,F33<45000)),$J$153,IF((AND(F33>=45000,F33<46000)),$J$154,IF((AND(F33>=46000,F33<47000)),$J$155,IF((AND(F33>=47000,F33<48000)),$J$156,IF((AND(F33>=48000,F33<49000)),$J$157,IF((AND(F33>=49000,F33<50000)),$J$158,IF((AND(F33>=50000,F33<51000)),$J$159,IF((AND(F33>=51000,F33<52000)),$J$160,IF((AND(F33>=52000,F33<53000)),$J$161,IF((AND(F33>=53000,F33<54000)),$J$162,IF((AND(F33>=54000,F33<55000)),$J$163,IF((AND(F33>=55000,F33<56000)),$J$164,IF((AND(F33>=56000,F33<57000)),$J$165,IF((AND(F33>=57000,F33<58000)),$J$166,IF((AND(F33>=58000,F33<59000)),$J$167,IF((AND(F33>=59000,F33<60000)),$J$168,IF((AND(F33>=60000,F33<61000)),$J$169,"0"))))))))))))))))))))))))))))))))))))))))))))))))))))))))) -> 0
A34: 32 | B34: =SUBSTITUTE(TRIM(LEFT(D34,FIND("-",D34&"-")-1))," ","-") -> DDN-767 | C34: =TRIM(MID(D34,FIND("-",D34)+1,LEN(D34))) -> Feeder Road 1-Azucena Street, Sto. Tomas | D34: DDN 767-Feeder Road 1-Azucena Street, Sto. Tomas | E34: APRILYN V. CAHINTONG | F34: =IFERROR(VLOOKUP($B34,'EOD - SEPTEMBER 28, 2026'!$B$2:$G$991,3,FALSE),0) -> 16263 | G34: =IFERROR(VLOOKUP($B34,'EOD - SEPTEMBER 28, 2026'!$B$2:$G$991,6,FALSE),0) -> 7200 | H34: =F34*0.125 -> 2032.875 | I34: =F34-G34-H34 -> 7030.125 | J34: =IF((AND(F34>=100,F34<5000)),$J$113,IF((AND(F34>=5000,F34<6000)),$J$114,IF((AND(F34>=6000,F34<7000)),$J$115,IF((AND(F34>=7000,F34<8000)),$J$116,IF((AND(F34>=8000,F34<9000)),$J$117,IF((AND(F34>=9000,F34<10000)),$J$118,IF((AND(F34>=10000,F34<11000)),$J$119,IF((AND(F34>=11000,F34<12000)),$J$120,IF((AND(F34>=12000,F34<13000)),$J$121,IF((AND(F34>=13000,F34<14000)),$J$122,IF((AND(F34>=14000,F34<15000)),$J$123,IF((AND(F34>=15000,F34<16000)),$J$124,IF((AND(F34>=16000,F34<17000)),$J$125,IF((AND(F34>=17000,F34<18000)),$J$126,IF((AND(F34>=18000,F34<19000)),$J$127,IF((AND(F34>=19000,F34<20000)),$J$128,IF((AND(F34>=20000,F34<21000)),$J$129,IF((AND(F34>=21000,F34<22000)),$J$130,IF((AND(F34>=22000,F34<23000)),$J$131,IF((AND(F34>=23000,F34<24000)),$J$132,IF((AND(F34>=24000,F34<25000)),$J$133,IF((AND(F34>=25000,F34<26000)),$J$134,IF((AND(F34>=26000,F34<27000)),$J$135,IF((AND(F34>=27000,F34<28000)),$J$136,IF((AND(F34>=28000,F34<29000)),$J$137,IF((AND(F34>=29000,F34<30000)),$J$138,IF((AND(F34>=30000,F34<31000)),$J$139,IF((AND(F34>=31000,F34<32000)),$J$140,IF((AND(F34>=32000,F34<33000)),$J$141,IF((AND(F34>=33000,F34<34000)),$J$142,IF((AND(F34>=34000,F34<35000)),$J$143,IF((AND(F34>=35000,F34<36000)),$J$144,IF((AND(F34>=36000,F34<37000)),$J$145,IF((AND(F34>=37000,F34<38000)),$J$146,IF((AND(F34>=38000,F34<39000)),$J$147,IF((AND(F34>=39000,F34<40000)),$J$148,IF((AND(F34>=40000,F34<41000)),$J$149,IF((AND(F34>=41000,F34<42000)),$J$150,IF((AND(F34>=42000,F34<43000)),$J$151,IF((AND(F34>=43000,F34<44000)),$J$152,IF((AND(F34>=44000,F34<45000)),$J$153,IF((AND(F34>=45000,F34<46000)),$J$154,IF((AND(F34>=46000,F34<47000)),$J$155,IF((AND(F34>=47000,F34<48000)),$J$156,IF((AND(F34>=48000,F34<49000)),$J$157,IF((AND(F34>=49000,F34<50000)),$J$158,IF((AND(F34>=50000,F34<51000)),$J$159,IF((AND(F34>=51000,F34<52000)),$J$160,IF((AND(F34>=52000,F34<53000)),$J$161,IF((AND(F34>=53000,F34<54000)),$J$162,IF((AND(F34>=54000,F34<55000)),$J$163,IF((AND(F34>=55000,F34<56000)),$J$164,IF((AND(F34>=56000,F34<57000)),$J$165,IF((AND(F34>=57000,F34<58000)),$J$166,IF((AND(F34>=58000,F34<59000)),$J$167,IF((AND(F34>=59000,F34<60000)),$J$168,IF((AND(F34>=60000,F34<61000)),$J$169,"0"))))))))))))))))))))))))))))))))))))))))))))))))))))))))) -> 410
A35: 33 | B35: =SUBSTITUTE(TRIM(LEFT(D35,FIND("-",D35&"-")-1))," ","-") -> DDN-768 | C35: =TRIM(MID(D35,FIND("-",D35)+1,LEN(D35))) -> Purok Marang Cagangohan Panabo | D35: DDN 768-Purok Marang Cagangohan Panabo | E35: ALMERA DIGAMON | F35: =IFERROR(VLOOKUP($B35,'EOD - SEPTEMBER 28, 2026'!$B$2:$G$991,3,FALSE),0) -> 4597 | G35: =IFERROR(VLOOKUP($B35,'EOD - SEPTEMBER 28, 2026'!$B$2:$G$991,6,FALSE),0) -> 0 | H35: =F35*0.125 -> 574.625 | I35: =F35-G35-H35 -> 4022.375 | J35: =IF((AND(F35>=100,F35<5000)),$J$113,IF((AND(F35>=5000,F35<6000)),$J$114,IF((AND(F35>=6000,F35<7000)),$J$115,IF((AND(F35>=7000,F35<8000)),$J$116,IF((AND(F35>=8000,F35<9000)),$J$117,IF((AND(F35>=9000,F35<10000)),$J$118,IF((AND(F35>=10000,F35<11000)),$J$119,IF((AND(F35>=11000,F35<12000)),$J$120,IF((AND(F35>=12000,F35<13000)),$J$121,IF((AND(F35>=13000,F35<14000)),$J$122,IF((AND(F35>=14000,F35<15000)),$J$123,IF((AND(F35>=15000,F35<16000)),$J$124,IF((AND(F35>=16000,F35<17000)),$J$125,IF((AND(F35>=17000,F35<18000)),$J$126,IF((AND(F35>=18000,F35<19000)),$J$127,IF((AND(F35>=19000,F35<20000)),$J$128,IF((AND(F35>=20000,F35<21000)),$J$129,IF((AND(F35>=21000,F35<22000)),$J$130,IF((AND(F35>=22000,F35<23000)),$J$131,IF((AND(F35>=23000,F35<24000)),$J$132,IF((AND(F35>=24000,F35<25000)),$J$133,IF((AND(F35>=25000,F35<26000)),$J$134,IF((AND(F35>=26000,F35<27000)),$J$135,IF((AND(F35>=27000,F35<28000)),$J$136,IF((AND(F35>=28000,F35<29000)),$J$137,IF((AND(F35>=29000,F35<30000)),$J$138,IF((AND(F35>=30000,F35<31000)),$J$139,IF((AND(F35>=31000,F35<32000)),$J$140,IF((AND(F35>=32000,F35<33000)),$J$141,IF((AND(F35>=33000,F35<34000)),$J$142,IF((AND(F35>=34000,F35<35000)),$J$143,IF((AND(F35>=35000,F35<36000)),$J$144,IF((AND(F35>=36000,F35<37000)),$J$145,IF((AND(F35>=37000,F35<38000)),$J$146,IF((AND(F35>=38000,F35<39000)),$J$147,IF((AND(F35>=39000,F35<40000)),$J$148,IF((AND(F35>=40000,F35<41000)),$J$149,IF((AND(F35>=41000,F35<42000)),$J$150,IF((AND(F35>=42000,F35<43000)),$J$151,IF((AND(F35>=43000,F35<44000)),$J$152,IF((AND(F35>=44000,F35<45000)),$J$153,IF((AND(F35>=45000,F35<46000)),$J$154,IF((AND(F35>=46000,F35<47000)),$J$155,IF((AND(F35>=47000,F35<48000)),$J$156,IF((AND(F35>=48000,F35<49000)),$J$157,IF((AND(F35>=49000,F35<50000)),$J$158,IF((AND(F35>=50000,F35<51000)),$J$159,IF((AND(F35>=51000,F35<52000)),$J$160,IF((AND(F35>=52000,F35<53000)),$J$161,IF((AND(F35>=53000,F35<54000)),$J$162,IF((AND(F35>=54000,F35<55000)),$J$163,IF((AND(F35>=55000,F35<56000)),$J$164,IF((AND(F35>=56000,F35<57000)),$J$165,IF((AND(F35>=57000,F35<58000)),$J$166,IF((AND(F35>=58000,F35<59000)),$J$167,IF((AND(F35>=59000,F35<60000)),$J$168,IF((AND(F35>=60000,F35<61000)),$J$169,"0"))))))))))))))))))))))))))))))))))))))))))))))))))))))))) -> 250
A36: 34 | B36: =SUBSTITUTE(TRIM(LEFT(D36,FIND("-",D36&"-")-1))," ","-") -> DDN-769 | C36: =TRIM(MID(D36,FIND("-",D36)+1,LEN(D36))) -> Davao Medical Center,Apokon,Tagum | D36: DDN 769-Davao Medical Center,Apokon,Tagum | E36: MARY JANE TALISIC | F36: =IFERROR(VLOOKUP($B36,'EOD - SEPTEMBER 28, 2026'!$B$2:$G$991,3,FALSE),0) -> 31974 | G36: =IFERROR(VLOOKUP($B36,'EOD - SEPTEMBER 28, 2026'!$B$2:$G$991,6,FALSE),0) -> 3200 | H36: =F36*0.125 -> 3996.75 | I36: =F36-G36-H36 -> 24777.25 | J36: =IF((AND(F36>=100,F36<5000)),$J$113,IF((AND(F36>=5000,F36<6000)),$J$114,IF((AND(F36>=6000,F36<7000)),$J$115,IF((AND(F36>=7000,F36<8000)),$J$116,IF((AND(F36>=8000,F36<9000)),$J$117,IF((AND(F36>=9000,F36<10000)),$J$118,IF((AND(F36>=10000,F36<11000)),$J$119,IF((AND(F36>=11000,F36<12000)),$J$120,IF((AND(F36>=12000,F36<13000)),$J$121,IF((AND(F36>=13000,F36<14000)),$J$122,IF((AND(F36>=14000,F36<15000)),$J$123,IF((AND(F36>=15000,F36<16000)),$J$124,IF((AND(F36>=16000,F36<17000)),$J$125,IF((AND(F36>=17000,F36<18000)),$J$126,IF((AND(F36>=18000,F36<19000)),$J$127,IF((AND(F36>=19000,F36<20000)),$J$128,IF((AND(F36>=20000,F36<21000)),$J$129,IF((AND(F36>=21000,F36<22000)),$J$130,IF((AND(F36>=22000,F36<23000)),$J$131,IF((AND(F36>=23000,F36<24000)),$J$132,IF((AND(F36>=24000,F36<25000)),$J$133,IF((AND(F36>=25000,F36<26000)),$J$134,IF((AND(F36>=26000,F36<27000)),$J$135,IF((AND(F36>=27000,F36<28000)),$J$136,IF((AND(F36>=28000,F36<29000)),$J$137,IF((AND(F36>=29000,F36<30000)),$J$138,IF((AND(F36>=30000,F36<31000)),$J$139,IF((AND(F36>=31000,F36<32000)),$J$140,IF((AND(F36>=32000,F36<33000)),$J$141,IF((AND(F36>=33000,F36<34000)),$J$142,IF((AND(F36>=34000,F36<35000)),$J$143,IF((AND(F36>=35000,F36<36000)),$J$144,IF((AND(F36>=36000,F36<37000)),$J$145,IF((AND(F36>=37000,F36<38000)),$J$146,IF((AND(F36>=38000,F36<39000)),$J$147,IF((AND(F36>=39000,F36<40000)),$J$148,IF((AND(F36>=40000,F36<41000)),$J$149,IF((AND(F36>=41000,F36<42000)),$J$150,IF((AND(F36>=42000,F36<43000)),$J$151,IF((AND(F36>=43000,F36<44000)),$J$152,IF((AND(F36>=44000,F36<45000)),$J$153,IF((AND(F36>=45000,F36<46000)),$J$154,IF((AND(F36>=46000,F36<47000)),$J$155,IF((AND(F36>=47000,F36<48000)),$J$156,IF((AND(F36>=48000,F36<49000)),$J$157,IF((AND(F36>=49000,F36<50000)),$J$158,IF((AND(F36>=50000,F36<51000)),$J$159,IF((AND(F36>=51000,F36<52000)),$J$160,IF((AND(F36>=52000,F36<53000)),$J$161,IF((AND(F36>=53000,F36<54000)),$J$162,IF((AND(F36>=54000,F36<55000)),$J$163,IF((AND(F36>=55000,F36<56000)),$J$164,IF((AND(F36>=56000,F36<57000)),$J$165,IF((AND(F36>=57000,F36<58000)),$J$166,IF((AND(F36>=58000,F36<59000)),$J$167,IF((AND(F36>=59000,F36<60000)),$J$168,IF((AND(F36>=60000,F36<61000)),$J$169,"0"))))))))))))))))))))))))))))))))))))))))))))))))))))))))) -> 560
A37: 35 | B37: =SUBSTITUTE(TRIM(LEFT(D37,FIND("-",D37&"-")-1))," ","-") -> DDN-770 | C37: =TRIM(MID(D37,FIND("-",D37)+1,LEN(D37))) -> Timog Ave,Tagum City | D37: DDN 770-Timog Ave,Tagum City | E37: JIANALYN DAYADAY | F37: =IFERROR(VLOOKUP($B37,'EOD - SEPTEMBER 28, 2026'!$B$2:$G$991,3,FALSE),0) -> 21430 | G37: =IFERROR(VLOOKUP($B37,'EOD - SEPTEMBER 28, 2026'!$B$2:$G$991,6,FALSE),0) -> 2400 | H37: =F37*0.125 -> 2678.75 | I37: =F37-G37-H37 -> 16351.25 | J37: =IF((AND(F37>=100,F37<5000)),$J$113,IF((AND(F37>=5000,F37<6000)),$J$114,IF((AND(F37>=6000,F37<7000)),$J$115,IF((AND(F37>=7000,F37<8000)),$J$116,IF((AND(F37>=8000,F37<9000)),$J$117,IF((AND(F37>=9000,F37<10000)),$J$118,IF((AND(F37>=10000,F37<11000)),$J$119,IF((AND(F37>=11000,F37<12000)),$J$120,IF((AND(F37>=12000,F37<13000)),$J$121,IF((AND(F37>=13000,F37<14000)),$J$122,IF((AND(F37>=14000,F37<15000)),$J$123,IF((AND(F37>=15000,F37<16000)),$J$124,IF((AND(F37>=16000,F37<17000)),$J$125,IF((AND(F37>=17000,F37<18000)),$J$126,IF((AND(F37>=18000,F37<19000)),$J$127,IF((AND(F37>=19000,F37<20000)),$J$128,IF((AND(F37>=20000,F37<21000)),$J$129,IF((AND(F37>=21000,F37<22000)),$J$130,IF((AND(F37>=22000,F37<23000)),$J$131,IF((AND(F37>=23000,F37<24000)),$J$132,IF((AND(F37>=24000,F37<25000)),$J$133,IF((AND(F37>=25000,F37<26000)),$J$134,IF((AND(F37>=26000,F37<27000)),$J$135,IF((AND(F37>=27000,F37<28000)),$J$136,IF((AND(F37>=28000,F37<29000)),$J$137,IF((AND(F37>=29000,F37<30000)),$J$138,IF((AND(F37>=30000,F37<31000)),$J$139,IF((AND(F37>=31000,F37<32000)),$J$140,IF((AND(F37>=32000,F37<33000)),$J$141,IF((AND(F37>=33000,F37<34000)),$J$142,IF((AND(F37>=34000,F37<35000)),$J$143,IF((AND(F37>=35000,F37<36000)),$J$144,IF((AND(F37>=36000,F37<37000)),$J$145,IF((AND(F37>=37000,F37<38000)),$J$146,IF((AND(F37>=38000,F37<39000)),$J$147,IF((AND(F37>=39000,F37<40000)),$J$148,IF((AND(F37>=40000,F37<41000)),$J$149,IF((AND(F37>=41000,F37<42000)),$J$150,IF((AND(F37>=42000,F37<43000)),$J$151,IF((AND(F37>=43000,F37<44000)),$J$152,IF((AND(F37>=44000,F37<45000)),$J$153,IF((AND(F37>=45000,F37<46000)),$J$154,IF((AND(F37>=46000,F37<47000)),$J$155,IF((AND(F37>=47000,F37<48000)),$J$156,IF((AND(F37>=48000,F37<49000)),$J$157,IF((AND(F37>=49000,F37<50000)),$J$158,IF((AND(F37>=50000,F37<51000)),$J$159,IF((AND(F37>=51000,F37<52000)),$J$160,IF((AND(F37>=52000,F37<53000)),$J$161,IF((AND(F37>=53000,F37<54000)),$J$162,IF((AND(F37>=54000,F37<55000)),$J$163,IF((AND(F37>=55000,F37<56000)),$J$164,IF((AND(F37>=56000,F37<57000)),$J$165,IF((AND(F37>=57000,F37<58000)),$J$166,IF((AND(F37>=58000,F37<59000)),$J$167,IF((AND(F37>=59000,F37<60000)),$J$168,IF((AND(F37>=60000,F37<61000)),$J$169,"0"))))))))))))))))))))))))))))))))))))))))))))))))))))))))) -> 460
A38: 36 | B38: =SUBSTITUTE(TRIM(LEFT(D38,FIND("-",D38&"-")-1))," ","-") -> DDN-771 | C38: =TRIM(MID(D38,FIND("-",D38)+1,LEN(D38))) -> Bilyaran,Feeder Road 2,Sto. Tomas | D38: DDN 771-Bilyaran,Feeder Road 2,Sto. Tomas | E38: MARY JOYL. POBRE | F38: =IFERROR(VLOOKUP($B38,'EOD - SEPTEMBER 28, 2026'!$B$2:$G$991,3,FALSE),0) -> 11634 | G38: =IFERROR(VLOOKUP($B38,'EOD - SEPTEMBER 28, 2026'!$B$2:$G$991,6,FALSE),0) -> 1600 | H38: =F38*0.125 -> 1454.25 | I38: =F38-G38-H38 -> 8579.75 | J38: =IF((AND(F38>=100,F38<5000)),$J$113,IF((AND(F38>=5000,F38<6000)),$J$114,IF((AND(F38>=6000,F38<7000)),$J$115,IF((AND(F38>=7000,F38<8000)),$J$116,IF((AND(F38>=8000,F38<9000)),$J$117,IF((AND(F38>=9000,F38<10000)),$J$118,IF((AND(F38>=10000,F38<11000)),$J$119,IF((AND(F38>=11000,F38<12000)),$J$120,IF((AND(F38>=12000,F38<13000)),$J$121,IF((AND(F38>=13000,F38<14000)),$J$122,IF((AND(F38>=14000,F38<15000)),$J$123,IF((AND(F38>=15000,F38<16000)),$J$124,IF((AND(F38>=16000,F38<17000)),$J$125,IF((AND(F38>=17000,F38<18000)),$J$126,IF((AND(F38>=18000,F38<19000)),$J$127,IF((AND(F38>=19000,F38<20000)),$J$128,IF((AND(F38>=20000,F38<21000)),$J$129,IF((AND(F38>=21000,F38<22000)),$J$130,IF((AND(F38>=22000,F38<23000)),$J$131,IF((AND(F38>=23000,F38<24000)),$J$132,IF((AND(F38>=24000,F38<25000)),$J$133,IF((AND(F38>=25000,F38<26000)),$J$134,IF((AND(F38>=26000,F38<27000)),$J$135,IF((AND(F38>=27000,F38<28000)),$J$136,IF((AND(F38>=28000,F38<29000)),$J$137,IF((AND(F38>=29000,F38<30000)),$J$138,IF((AND(F38>=30000,F38<31000)),$J$139,IF((AND(F38>=31000,F38<32000)),$J$140,IF((AND(F38>=32000,F38<33000)),$J$141,IF((AND(F38>=33000,F38<34000)),$J$142,IF((AND(F38>=34000,F38<35000)),$J$143,IF((AND(F38>=35000,F38<36000)),$J$144,IF((AND(F38>=36000,F38<37000)),$J$145,IF((AND(F38>=37000,F38<38000)),$J$146,IF((AND(F38>=38000,F38<39000)),$J$147,IF((AND(F38>=39000,F38<40000)),$J$148,IF((AND(F38>=40000,F38<41000)),$J$149,IF((AND(F38>=41000,F38<42000)),$J$150,IF((AND(F38>=42000,F38<43000)),$J$151,IF((AND(F38>=43000,F38<44000)),$J$152,IF((AND(F38>=44000,F38<45000)),$J$153,IF((AND(F38>=45000,F38<46000)),$J$154,IF((AND(F38>=46000,F38<47000)),$J$155,IF((AND(F38>=47000,F38<48000)),$J$156,IF((AND(F38>=48000,F38<49000)),$J$157,IF((AND(F38>=49000,F38<50000)),$J$158,IF((AND(F38>=50000,F38<51000)),$J$159,IF((AND(F38>=51000,F38<52000)),$J$160,IF((AND(F38>=52000,F38<53000)),$J$161,IF((AND(F38>=53000,F38<54000)),$J$162,IF((AND(F38>=54000,F38<55000)),$J$163,IF((AND(F38>=55000,F38<56000)),$J$164,IF((AND(F38>=56000,F38<57000)),$J$165,IF((AND(F38>=57000,F38<58000)),$J$166,IF((AND(F38>=58000,F38<59000)),$J$167,IF((AND(F38>=59000,F38<60000)),$J$168,IF((AND(F38>=60000,F38<61000)),$J$169,"0"))))))))))))))))))))))))))))))))))))))))))))))))))))))))) -> 360
A39: 37 | B39: =SUBSTITUTE(TRIM(LEFT(D39,FIND("-",D39&"-")-1))," ","-") -> DDN-772 | C39: =TRIM(MID(D39,FIND("-",D39)+1,LEN(D39))) -> Purok Palmera,Visayan Village,Tagum | D39: DDN 772-Purok Palmera,Visayan Village,Tagum | E39: PATRICIA MANOVA COQUILLA | F39: =IFERROR(VLOOKUP($B39,'EOD - SEPTEMBER 28, 2026'!$B$2:$G$991,3,FALSE),0) -> 10893 | G39: =IFERROR(VLOOKUP($B39,'EOD - SEPTEMBER 28, 2026'!$B$2:$G$991,6,FALSE),0) -> 1600 | H39: =F39*0.125 -> 1361.625 | I39: =F39-G39-H39 -> 7931.375 | J39: =IF((AND(F39>=100,F39<5000)),$J$113,IF((AND(F39>=5000,F39<6000)),$J$114,IF((AND(F39>=6000,F39<7000)),$J$115,IF((AND(F39>=7000,F39<8000)),$J$116,IF((AND(F39>=8000,F39<9000)),$J$117,IF((AND(F39>=9000,F39<10000)),$J$118,IF((AND(F39>=10000,F39<11000)),$J$119,IF((AND(F39>=11000,F39<12000)),$J$120,IF((AND(F39>=12000,F39<13000)),$J$121,IF((AND(F39>=13000,F39<14000)),$J$122,IF((AND(F39>=14000,F39<15000)),$J$123,IF((AND(F39>=15000,F39<16000)),$J$124,IF((AND(F39>=16000,F39<17000)),$J$125,IF((AND(F39>=17000,F39<18000)),$J$126,IF((AND(F39>=18000,F39<19000)),$J$127,IF((AND(F39>=19000,F39<20000)),$J$128,IF((AND(F39>=20000,F39<21000)),$J$129,IF((AND(F39>=21000,F39<22000)),$J$130,IF((AND(F39>=22000,F39<23000)),$J$131,IF((AND(F39>=23000,F39<24000)),$J$132,IF((AND(F39>=24000,F39<25000)),$J$133,IF((AND(F39>=25000,F39<26000)),$J$134,IF((AND(F39>=26000,F39<27000)),$J$135,IF((AND(F39>=27000,F39<28000)),$J$136,IF((AND(F39>=28000,F39<29000)),$J$137,IF((AND(F39>=29000,F39<30000)),$J$138,IF((AND(F39>=30000,F39<31000)),$J$139,IF((AND(F39>=31000,F39<32000)),$J$140,IF((AND(F39>=32000,F39<33000)),$J$141,IF((AND(F39>=33000,F39<34000)),$J$142,IF((AND(F39>=34000,F39<35000)),$J$143,IF((AND(F39>=35000,F39<36000)),$J$144,IF((AND(F39>=36000,F39<37000)),$J$145,IF((AND(F39>=37000,F39<38000)),$J$146,IF((AND(F39>=38000,F39<39000)),$J$147,IF((AND(F39>=39000,F39<40000)),$J$148,IF((AND(F39>=40000,F39<41000)),$J$149,IF((AND(F39>=41000,F39<42000)),$J$150,IF((AND(F39>=42000,F39<43000)),$J$151,IF((AND(F39>=43000,F39<44000)),$J$152,IF((AND(F39>=44000,F39<45000)),$J$153,IF((AND(F39>=45000,F39<46000)),$J$154,IF((AND(F39>=46000,F39<47000)),$J$155,IF((AND(F39>=47000,F39<48000)),$J$156,IF((AND(F39>=48000,F39<49000)),$J$157,IF((AND(F39>=49000,F39<50000)),$J$158,IF((AND(F39>=50000,F39<51000)),$J$159,IF((AND(F39>=51000,F39<52000)),$J$160,IF((AND(F39>=52000,F39<53000)),$J$161,IF((AND(F39>=53000,F39<54000)),$J$162,IF((AND(F39>=54000,F39<55000)),$J$163,IF((AND(F39>=55000,F39<56000)),$J$164,IF((AND(F39>=56000,F39<57000)),$J$165,IF((AND(F39>=57000,F39<58000)),$J$166,IF((AND(F39>=58000,F39<59000)),$J$167,IF((AND(F39>=59000,F39<60000)),$J$168,IF((AND(F39>=60000,F39<61000)),$J$169,"0"))))))))))))))))))))))))))))))))))))))))))))))))))))))))) -> 350
A40: 38 | B40: =SUBSTITUTE(TRIM(LEFT(D40,FIND("-",D40&"-")-1))," ","-") -> DDN-773 | C40: =TRIM(MID(D40,FIND("-",D40)+1,LEN(D40))) -> PUROK 3 NEW KATIPUNAN,STO.TOMAS | D40: DDN 773-PUROK 3 NEW KATIPUNAN,STO.TOMAS | E40: CHERYL MAE PARAME | F40: =IFERROR(VLOOKUP($B40,'EOD - SEPTEMBER 28, 2026'!$B$2:$G$991,3,FALSE),0) -> 6378 | G40: =IFERROR(VLOOKUP($B40,'EOD - SEPTEMBER 28, 2026'!$B$2:$G$991,6,FALSE),0) -> 0 | H40: =F40*0.125 -> 797.25 | I40: =F40-G40-H40 -> 5580.75 | J40: =IF((AND(F40>=100,F40<5000)),$J$113,IF((AND(F40>=5000,F40<6000)),$J$114,IF((AND(F40>=6000,F40<7000)),$J$115,IF((AND(F40>=7000,F40<8000)),$J$116,IF((AND(F40>=8000,F40<9000)),$J$117,IF((AND(F40>=9000,F40<10000)),$J$118,IF((AND(F40>=10000,F40<11000)),$J$119,IF((AND(F40>=11000,F40<12000)),$J$120,IF((AND(F40>=12000,F40<13000)),$J$121,IF((AND(F40>=13000,F40<14000)),$J$122,IF((AND(F40>=14000,F40<15000)),$J$123,IF((AND(F40>=15000,F40<16000)),$J$124,IF((AND(F40>=16000,F40<17000)),$J$125,IF((AND(F40>=17000,F40<18000)),$J$126,IF((AND(F40>=18000,F40<19000)),$J$127,IF((AND(F40>=19000,F40<20000)),$J$128,IF((AND(F40>=20000,F40<21000)),$J$129,IF((AND(F40>=21000,F40<22000)),$J$130,IF((AND(F40>=22000,F40<23000)),$J$131,IF((AND(F40>=23000,F40<24000)),$J$132,IF((AND(F40>=24000,F40<25000)),$J$133,IF((AND(F40>=25000,F40<26000)),$J$134,IF((AND(F40>=26000,F40<27000)),$J$135,IF((AND(F40>=27000,F40<28000)),$J$136,IF((AND(F40>=28000,F40<29000)),$J$137,IF((AND(F40>=29000,F40<30000)),$J$138,IF((AND(F40>=30000,F40<31000)),$J$139,IF((AND(F40>=31000,F40<32000)),$J$140,IF((AND(F40>=32000,F40<33000)),$J$141,IF((AND(F40>=33000,F40<34000)),$J$142,IF((AND(F40>=34000,F40<35000)),$J$143,IF((AND(F40>=35000,F40<36000)),$J$144,IF((AND(F40>=36000,F40<37000)),$J$145,IF((AND(F40>=37000,F40<38000)),$J$146,IF((AND(F40>=38000,F40<39000)),$J$147,IF((AND(F40>=39000,F40<40000)),$J$148,IF((AND(F40>=40000,F40<41000)),$J$149,IF((AND(F40>=41000,F40<42000)),$J$150,IF((AND(F40>=42000,F40<43000)),$J$151,IF((AND(F40>=43000,F40<44000)),$J$152,IF((AND(F40>=44000,F40<45000)),$J$153,IF((AND(F40>=45000,F40<46000)),$J$154,IF((AND(F40>=46000,F40<47000)),$J$155,IF((AND(F40>=47000,F40<48000)),$J$156,IF((AND(F40>=48000,F40<49000)),$J$157,IF((AND(F40>=49000,F40<50000)),$J$158,IF((AND(F40>=50000,F40<51000)),$J$159,IF((AND(F40>=51000,F40<52000)),$J$160,IF((AND(F40>=52000,F40<53000)),$J$161,IF((AND(F40>=53000,F40<54000)),$J$162,IF((AND(F40>=54000,F40<55000)),$J$163,IF((AND(F40>=55000,F40<56000)),$J$164,IF((AND(F40>=56000,F40<57000)),$J$165,IF((AND(F40>=57000,F40<58000)),$J$166,IF((AND(F40>=58000,F40<59000)),$J$167,IF((AND(F40>=59000,F40<60000)),$J$168,IF((AND(F40>=60000,F40<61000)),$J$169,"0"))))))))))))))))))))))))))))))))))))))))))))))))))))))))) -> 310
A41: 39 | B41: =SUBSTITUTE(TRIM(LEFT(D41,FIND("-",D41&"-")-1))," ","-") -> DDN-774 | C41: =TRIM(MID(D41,FIND("-",D41)+1,LEN(D41))) -> First Oriental Street, Tagum City | D41: DDN 774-First Oriental Street, Tagum City | E41: RADIN MAYAKI WENG | F41: =IFERROR(VLOOKUP($B41,'EOD - SEPTEMBER 28, 2026'!$B$2:$G$991,3,FALSE),0) -> 10352 | G41: =IFERROR(VLOOKUP($B41,'EOD - SEPTEMBER 28, 2026'!$B$2:$G$991,6,FALSE),0) -> 400 | H41: =F41*0.125 -> 1294 | I41: =F41-G41-H41 -> 8658 | J41: =IF((AND(F41>=100,F41<5000)),$J$113,IF((AND(F41>=5000,F41<6000)),$J$114,IF((AND(F41>=6000,F41<7000)),$J$115,IF((AND(F41>=7000,F41<8000)),$J$116,IF((AND(F41>=8000,F41<9000)),$J$117,IF((AND(F41>=9000,F41<10000)),$J$118,IF((AND(F41>=10000,F41<11000)),$J$119,IF((AND(F41>=11000,F41<12000)),$J$120,IF((AND(F41>=12000,F41<13000)),$J$121,IF((AND(F41>=13000,F41<14000)),$J$122,IF((AND(F41>=14000,F41<15000)),$J$123,IF((AND(F41>=15000,F41<16000)),$J$124,IF((AND(F41>=16000,F41<17000)),$J$125,IF((AND(F41>=17000,F41<18000)),$J$126,IF((AND(F41>=18000,F41<19000)),$J$127,IF((AND(F41>=19000,F41<20000)),$J$128,IF((AND(F41>=20000,F41<21000)),$J$129,IF((AND(F41>=21000,F41<22000)),$J$130,IF((AND(F41>=22000,F41<23000)),$J$131,IF((AND(F41>=23000,F41<24000)),$J$132,IF((AND(F41>=24000,F41<25000)),$J$133,IF((AND(F41>=25000,F41<26000)),$J$134,IF((AND(F41>=26000,F41<27000)),$J$135,IF((AND(F41>=27000,F41<28000)),$J$136,IF((AND(F41>=28000,F41<29000)),$J$137,IF((AND(F41>=29000,F41<30000)),$J$138,IF((AND(F41>=30000,F41<31000)),$J$139,IF((AND(F41>=31000,F41<32000)),$J$140,IF((AND(F41>=32000,F41<33000)),$J$141,IF((AND(F41>=33000,F41<34000)),$J$142,IF((AND(F41>=34000,F41<35000)),$J$143,IF((AND(F41>=35000,F41<36000)),$J$144,IF((AND(F41>=36000,F41<37000)),$J$145,IF((AND(F41>=37000,F41<38000)),$J$146,IF((AND(F41>=38000,F41<39000)),$J$147,IF((AND(F41>=39000,F41<40000)),$J$148,IF((AND(F41>=40000,F41<41000)),$J$149,IF((AND(F41>=41000,F41<42000)),$J$150,IF((AND(F41>=42000,F41<43000)),$J$151,IF((AND(F41>=43000,F41<44000)),$J$152,IF((AND(F41>=44000,F41<45000)),$J$153,IF((AND(F41>=45000,F41<46000)),$J$154,IF((AND(F41>=46000,F41<47000)),$J$155,IF((AND(F41>=47000,F41<48000)),$J$156,IF((AND(F41>=48000,F41<49000)),$J$157,IF((AND(F41>=49000,F41<50000)),$J$158,IF((AND(F41>=50000,F41<51000)),$J$159,IF((AND(F41>=51000,F41<52000)),$J$160,IF((AND(F41>=52000,F41<53000)),$J$161,IF((AND(F41>=53000,F41<54000)),$J$162,IF((AND(F41>=54000,F41<55000)),$J$163,IF((AND(F41>=55000,F41<56000)),$J$164,IF((AND(F41>=56000,F41<57000)),$J$165,IF((AND(F41>=57000,F41<58000)),$J$166,IF((AND(F41>=58000,F41<59000)),$J$167,IF((AND(F41>=59000,F41<60000)),$J$168,IF((AND(F41>=60000,F41<61000)),$J$169,"0"))))))))))))))))))))))))))))))))))))))))))))))))))))))))) -> 350
A42: 40 | B42: =SUBSTITUTE(TRIM(LEFT(D42,FIND("-",D42&"-")-1))," ","-") -> DDN-775 | C42: =TRIM(MID(D42,FIND("-",D42)+1,LEN(D42))) -> Uraya Subd,Circumferential Road,Tagum | D42: DDN 775-Uraya Subd,Circumferential Road,Tagum | E42: CENDY MAE P. JAVA | F42: =IFERROR(VLOOKUP($B42,'EOD - SEPTEMBER 28, 2026'!$B$2:$G$991,3,FALSE),0) -> 24084 | G42: =IFERROR(VLOOKUP($B42,'EOD - SEPTEMBER 28, 2026'!$B$2:$G$991,6,FALSE),0) -> 800 | H42: =F42*0.125 -> 3010.5 | I42: =F42-G42-H42 -> 20273.5 | J42: =IF((AND(F42>=100,F42<5000)),$J$113,IF((AND(F42>=5000,F42<6000)),$J$114,IF((AND(F42>=6000,F42<7000)),$J$115,IF((AND(F42>=7000,F42<8000)),$J$116,IF((AND(F42>=8000,F42<9000)),$J$117,IF((AND(F42>=9000,F42<10000)),$J$118,IF((AND(F42>=10000,F42<11000)),$J$119,IF((AND(F42>=11000,F42<12000)),$J$120,IF((AND(F42>=12000,F42<13000)),$J$121,IF((AND(F42>=13000,F42<14000)),$J$122,IF((AND(F42>=14000,F42<15000)),$J$123,IF((AND(F42>=15000,F42<16000)),$J$124,IF((AND(F42>=16000,F42<17000)),$J$125,IF((AND(F42>=17000,F42<18000)),$J$126,IF((AND(F42>=18000,F42<19000)),$J$127,IF((AND(F42>=19000,F42<20000)),$J$128,IF((AND(F42>=20000,F42<21000)),$J$129,IF((AND(F42>=21000,F42<22000)),$J$130,IF((AND(F42>=22000,F42<23000)),$J$131,IF((AND(F42>=23000,F42<24000)),$J$132,IF((AND(F42>=24000,F42<25000)),$J$133,IF((AND(F42>=25000,F42<26000)),$J$134,IF((AND(F42>=26000,F42<27000)),$J$135,IF((AND(F42>=27000,F42<28000)),$J$136,IF((AND(F42>=28000,F42<29000)),$J$137,IF((AND(F42>=29000,F42<30000)),$J$138,IF((AND(F42>=30000,F42<31000)),$J$139,IF((AND(F42>=31000,F42<32000)),$J$140,IF((AND(F42>=32000,F42<33000)),$J$141,IF((AND(F42>=33000,F42<34000)),$J$142,IF((AND(F42>=34000,F42<35000)),$J$143,IF((AND(F42>=35000,F42<36000)),$J$144,IF((AND(F42>=36000,F42<37000)),$J$145,IF((AND(F42>=37000,F42<38000)),$J$146,IF((AND(F42>=38000,F42<39000)),$J$147,IF((AND(F42>=39000,F42<40000)),$J$148,IF((AND(F42>=40000,F42<41000)),$J$149,IF((AND(F42>=41000,F42<42000)),$J$150,IF((AND(F42>=42000,F42<43000)),$J$151,IF((AND(F42>=43000,F42<44000)),$J$152,IF((AND(F42>=44000,F42<45000)),$J$153,IF((AND(F42>=45000,F42<46000)),$J$154,IF((AND(F42>=46000,F42<47000)),$J$155,IF((AND(F42>=47000,F42<48000)),$J$156,IF((AND(F42>=48000,F42<49000)),$J$157,IF((AND(F42>=49000,F42<50000)),$J$158,IF((AND(F42>=50000,F42<51000)),$J$159,IF((AND(F42>=51000,F42<52000)),$J$160,IF((AND(F42>=52000,F42<53000)),$J$161,IF((AND(F42>=53000,F42<54000)),$J$162,IF((AND(F42>=54000,F42<55000)),$J$163,IF((AND(F42>=55000,F42<56000)),$J$164,IF((AND(F42>=56000,F42<57000)),$J$165,IF((AND(F42>=57000,F42<58000)),$J$166,IF((AND(F42>=58000,F42<59000)),$J$167,IF((AND(F42>=59000,F42<60000)),$J$168,IF((AND(F42>=60000,F42<61000)),$J$169,"0"))))))))))))))))))))))))))))))))))))))))))))))))))))))))) -> 490
A43: 41 | B43: =SUBSTITUTE(TRIM(LEFT(D43,FIND("-",D43&"-")-1))," ","-") -> DDN-776 | C43: =TRIM(MID(D43,FIND("-",D43)+1,LEN(D43))) -> Aala Road,Provincial Capitol,Tagum City | D43: DDN 776-Aala Road,Provincial Capitol,Tagum City | E43: JOSEPHINE L. DELIGERO | F43: =IFERROR(VLOOKUP($B43,'EOD - SEPTEMBER 28, 2026'!$B$2:$G$991,3,FALSE),0) -> 6144 | G43: =IFERROR(VLOOKUP($B43,'EOD - SEPTEMBER 28, 2026'!$B$2:$G$991,6,FALSE),0) -> 0 | H43: =F43*0.125 -> 768 | I43: =F43-G43-H43 -> 5376 | J43: =IF((AND(F43>=100,F43<5000)),$J$113,IF((AND(F43>=5000,F43<6000)),$J$114,IF((AND(F43>=6000,F43<7000)),$J$115,IF((AND(F43>=7000,F43<8000)),$J$116,IF((AND(F43>=8000,F43<9000)),$J$117,IF((AND(F43>=9000,F43<10000)),$J$118,IF((AND(F43>=10000,F43<11000)),$J$119,IF((AND(F43>=11000,F43<12000)),$J$120,IF((AND(F43>=12000,F43<13000)),$J$121,IF((AND(F43>=13000,F43<14000)),$J$122,IF((AND(F43>=14000,F43<15000)),$J$123,IF((AND(F43>=15000,F43<16000)),$J$124,IF((AND(F43>=16000,F43<17000)),$J$125,IF((AND(F43>=17000,F43<18000)),$J$126,IF((AND(F43>=18000,F43<19000)),$J$127,IF((AND(F43>=19000,F43<20000)),$J$128,IF((AND(F43>=20000,F43<21000)),$J$129,IF((AND(F43>=21000,F43<22000)),$J$130,IF((AND(F43>=22000,F43<23000)),$J$131,IF((AND(F43>=23000,F43<24000)),$J$132,IF((AND(F43>=24000,F43<25000)),$J$133,IF((AND(F43>=25000,F43<26000)),$J$134,IF((AND(F43>=26000,F43<27000)),$J$135,IF((AND(F43>=27000,F43<28000)),$J$136,IF((AND(F43>=28000,F43<29000)),$J$137,IF((AND(F43>=29000,F43<30000)),$J$138,IF((AND(F43>=30000,F43<31000)),$J$139,IF((AND(F43>=31000,F43<32000)),$J$140,IF((AND(F43>=32000,F43<33000)),$J$141,IF((AND(F43>=33000,F43<34000)),$J$142,IF((AND(F43>=34000,F43<35000)),$J$143,IF((AND(F43>=35000,F43<36000)),$J$144,IF((AND(F43>=36000,F43<37000)),$J$145,IF((AND(F43>=37000,F43<38000)),$J$146,IF((AND(F43>=38000,F43<39000)),$J$147,IF((AND(F43>=39000,F43<40000)),$J$148,IF((AND(F43>=40000,F43<41000)),$J$149,IF((AND(F43>=41000,F43<42000)),$J$150,IF((AND(F43>=42000,F43<43000)),$J$151,IF((AND(F43>=43000,F43<44000)),$J$152,IF((AND(F43>=44000,F43<45000)),$J$153,IF((AND(F43>=45000,F43<46000)),$J$154,IF((AND(F43>=46000,F43<47000)),$J$155,IF((AND(F43>=47000,F43<48000)),$J$156,IF((AND(F43>=48000,F43<49000)),$J$157,IF((AND(F43>=49000,F43<50000)),$J$158,IF((AND(F43>=50000,F43<51000)),$J$159,IF((AND(F43>=51000,F43<52000)),$J$160,IF((AND(F43>=52000,F43<53000)),$J$161,IF((AND(F43>=53000,F43<54000)),$J$162,IF((AND(F43>=54000,F43<55000)),$J$163,IF((AND(F43>=55000,F43<56000)),$J$164,IF((AND(F43>=56000,F43<57000)),$J$165,IF((AND(F43>=57000,F43<58000)),$J$166,IF((AND(F43>=58000,F43<59000)),$J$167,IF((AND(F43>=59000,F43<60000)),$J$168,IF((AND(F43>=60000,F43<61000)),$J$169,"0"))))))))))))))))))))))))))))))))))))))))))))))))))))))))) -> 310
A44: 42 | B44: =SUBSTITUTE(TRIM(LEFT(D44,FIND("-",D44&"-")-1))," ","-") -> DDN-777 | C44: =TRIM(MID(D44,FIND("-",D44)+1,LEN(D44))) -> Bincungan 2,Tagum City | D44: DDN 777-Bincungan 2,Tagum City | E44: GLENDA OLINGAY | F44: =IFERROR(VLOOKUP($B44,'EOD - SEPTEMBER 28, 2026'!$B$2:$G$991,3,FALSE),0) -> 6575 | G44: =IFERROR(VLOOKUP($B44,'EOD - SEPTEMBER 28, 2026'!$B$2:$G$991,6,FALSE),0) -> 0 | H44: =F44*0.125 -> 821.875 | I44: =F44-G44-H44 -> 5753.125 | J44: =IF((AND(F44>=100,F44<5000)),$J$113,IF((AND(F44>=5000,F44<6000)),$J$114,IF((AND(F44>=6000,F44<7000)),$J$115,IF((AND(F44>=7000,F44<8000)),$J$116,IF((AND(F44>=8000,F44<9000)),$J$117,IF((AND(F44>=9000,F44<10000)),$J$118,IF((AND(F44>=10000,F44<11000)),$J$119,IF((AND(F44>=11000,F44<12000)),$J$120,IF((AND(F44>=12000,F44<13000)),$J$121,IF((AND(F44>=13000,F44<14000)),$J$122,IF((AND(F44>=14000,F44<15000)),$J$123,IF((AND(F44>=15000,F44<16000)),$J$124,IF((AND(F44>=16000,F44<17000)),$J$125,IF((AND(F44>=17000,F44<18000)),$J$126,IF((AND(F44>=18000,F44<19000)),$J$127,IF((AND(F44>=19000,F44<20000)),$J$128,IF((AND(F44>=20000,F44<21000)),$J$129,IF((AND(F44>=21000,F44<22000)),$J$130,IF((AND(F44>=22000,F44<23000)),$J$131,IF((AND(F44>=23000,F44<24000)),$J$132,IF((AND(F44>=24000,F44<25000)),$J$133,IF((AND(F44>=25000,F44<26000)),$J$134,IF((AND(F44>=26000,F44<27000)),$J$135,IF((AND(F44>=27000,F44<28000)),$J$136,IF((AND(F44>=28000,F44<29000)),$J$137,IF((AND(F44>=29000,F44<30000)),$J$138,IF((AND(F44>=30000,F44<31000)),$J$139,IF((AND(F44>=31000,F44<32000)),$J$140,IF((AND(F44>=32000,F44<33000)),$J$141,IF((AND(F44>=33000,F44<34000)),$J$142,IF((AND(F44>=34000,F44<35000)),$J$143,IF((AND(F44>=35000,F44<36000)),$J$144,IF((AND(F44>=36000,F44<37000)),$J$145,IF((AND(F44>=37000,F44<38000)),$J$146,IF((AND(F44>=38000,F44<39000)),$J$147,IF((AND(F44>=39000,F44<40000)),$J$148,IF((AND(F44>=40000,F44<41000)),$J$149,IF((AND(F44>=41000,F44<42000)),$J$150,IF((AND(F44>=42000,F44<43000)),$J$151,IF((AND(F44>=43000,F44<44000)),$J$152,IF((AND(F44>=44000,F44<45000)),$J$153,IF((AND(F44>=45000,F44<46000)),$J$154,IF((AND(F44>=46000,F44<47000)),$J$155,IF((AND(F44>=47000,F44<48000)),$J$156,IF((AND(F44>=48000,F44<49000)),$J$157,IF((AND(F44>=49000,F44<50000)),$J$158,IF((AND(F44>=50000,F44<51000)),$J$159,IF((AND(F44>=51000,F44<52000)),$J$160,IF((AND(F44>=52000,F44<53000)),$J$161,IF((AND(F44>=53000,F44<54000)),$J$162,IF((AND(F44>=54000,F44<55000)),$J$163,IF((AND(F44>=55000,F44<56000)),$J$164,IF((AND(F44>=56000,F44<57000)),$J$165,IF((AND(F44>=57000,F44<58000)),$J$166,IF((AND(F44>=58000,F44<59000)),$J$167,IF((AND(F44>=59000,F44<60000)),$J$168,IF((AND(F44>=60000,F44<61000)),$J$169,"0"))))))))))))))))))))))))))))))))))))))))))))))))))))))))) -> 310
A45: 43 | B45: =SUBSTITUTE(TRIM(LEFT(D45,FIND("-",D45&"-")-1))," ","-") -> DDN-778 | C45: =TRIM(MID(D45,FIND("-",D45)+1,LEN(D45))) -> P.Pagkakaisa,Pagsabangan,Tagum | D45: DDN 778-P.Pagkakaisa,Pagsabangan,Tagum | E45: LEA GRACE PROGELLA | F45: =IFERROR(VLOOKUP($B45,'EOD - SEPTEMBER 28, 2026'!$B$2:$G$991,3,FALSE),0) -> 3670 | G45: =IFERROR(VLOOKUP($B45,'EOD - SEPTEMBER 28, 2026'!$B$2:$G$991,6,FALSE),0) -> 800 | H45: =F45*0.125 -> 458.75 | I45: =F45-G45-H45 -> 2411.25 | J45: =IF((AND(F45>=100,F45<5000)),$J$113,IF((AND(F45>=5000,F45<6000)),$J$114,IF((AND(F45>=6000,F45<7000)),$J$115,IF((AND(F45>=7000,F45<8000)),$J$116,IF((AND(F45>=8000,F45<9000)),$J$117,IF((AND(F45>=9000,F45<10000)),$J$118,IF((AND(F45>=10000,F45<11000)),$J$119,IF((AND(F45>=11000,F45<12000)),$J$120,IF((AND(F45>=12000,F45<13000)),$J$121,IF((AND(F45>=13000,F45<14000)),$J$122,IF((AND(F45>=14000,F45<15000)),$J$123,IF((AND(F45>=15000,F45<16000)),$J$124,IF((AND(F45>=16000,F45<17000)),$J$125,IF((AND(F45>=17000,F45<18000)),$J$126,IF((AND(F45>=18000,F45<19000)),$J$127,IF((AND(F45>=19000,F45<20000)),$J$128,IF((AND(F45>=20000,F45<21000)),$J$129,IF((AND(F45>=21000,F45<22000)),$J$130,IF((AND(F45>=22000,F45<23000)),$J$131,IF((AND(F45>=23000,F45<24000)),$J$132,IF((AND(F45>=24000,F45<25000)),$J$133,IF((AND(F45>=25000,F45<26000)),$J$134,IF((AND(F45>=26000,F45<27000)),$J$135,IF((AND(F45>=27000,F45<28000)),$J$136,IF((AND(F45>=28000,F45<29000)),$J$137,IF((AND(F45>=29000,F45<30000)),$J$138,IF((AND(F45>=30000,F45<31000)),$J$139,IF((AND(F45>=31000,F45<32000)),$J$140,IF((AND(F45>=32000,F45<33000)),$J$141,IF((AND(F45>=33000,F45<34000)),$J$142,IF((AND(F45>=34000,F45<35000)),$J$143,IF((AND(F45>=35000,F45<36000)),$J$144,IF((AND(F45>=36000,F45<37000)),$J$145,IF((AND(F45>=37000,F45<38000)),$J$146,IF((AND(F45>=38000,F45<39000)),$J$147,IF((AND(F45>=39000,F45<40000)),$J$148,IF((AND(F45>=40000,F45<41000)),$J$149,IF((AND(F45>=41000,F45<42000)),$J$150,IF((AND(F45>=42000,F45<43000)),$J$151,IF((AND(F45>=43000,F45<44000)),$J$152,IF((AND(F45>=44000,F45<45000)),$J$153,IF((AND(F45>=45000,F45<46000)),$J$154,IF((AND(F45>=46000,F45<47000)),$J$155,IF((AND(F45>=47000,F45<48000)),$J$156,IF((AND(F45>=48000,F45<49000)),$J$157,IF((AND(F45>=49000,F45<50000)),$J$158,IF((AND(F45>=50000,F45<51000)),$J$159,IF((AND(F45>=51000,F45<52000)),$J$160,IF((AND(F45>=52000,F45<53000)),$J$161,IF((AND(F45>=53000,F45<54000)),$J$162,IF((AND(F45>=54000,F45<55000)),$J$163,IF((AND(F45>=55000,F45<56000)),$J$164,IF((AND(F45>=56000,F45<57000)),$J$165,IF((AND(F45>=57000,F45<58000)),$J$166,IF((AND(F45>=58000,F45<59000)),$J$167,IF((AND(F45>=59000,F45<60000)),$J$168,IF((AND(F45>=60000,F45<61000)),$J$169,"0"))))))))))))))))))))))))))))))))))))))))))))))))))))))))) -> 250
... A59: 57 | B59: =SUBSTITUTE(TRIM(LEFT(D59,FIND("-",D59&"-")-1))," ","-") -> DDN-1586 | C59: =TRIM(MID(D59,FIND("-",D59)+1,LEN(D59))) -> PUROK SUNFLOWER, BINCUNGAN | D59: DDN 1586-PUROK SUNFLOWER, BINCUNGAN | E59: ANA MAY DELOS SANTOS | F59: =IFERROR(VLOOKUP($B59,'EOD - SEPTEMBER 28, 2026'!$B$2:$G$991,3,FALSE),0) -> 5768 | G59: =IFERROR(VLOOKUP($B59,'EOD - SEPTEMBER 28, 2026'!$B$2:$G$991,6,FALSE),0) -> 0 | H59: =F59*0.125 -> 721 | I59: =F59-G59-H59 -> 5047 | J59: =IF((AND(F59>=100,F59<5000)),$J$113,IF((AND(F59>=5000,F59<6000)),$J$114,IF((AND(F59>=6000,F59<7000)),$J$115,IF((AND(F59>=7000,F59<8000)),$J$116,IF((AND(F59>=8000,F59<9000)),$J$117,IF((AND(F59>=9000,F59<10000)),$J$118,IF((AND(F59>=10000,F59<11000)),$J$119,IF((AND(F59>=11000,F59<12000)),$J$120,IF((AND(F59>=12000,F59<13000)),$J$121,IF((AND(F59>=13000,F59<14000)),$J$122,IF((AND(F59>=14000,F59<15000)),$J$123,IF((AND(F59>=15000,F59<16000)),$J$124,IF((AND(F59>=16000,F59<17000)),$J$125,IF((AND(F59>=17000,F59<18000)),$J$126,IF((AND(F59>=18000,F59<19000)),$J$127,IF((AND(F59>=19000,F59<20000)),$J$128,IF((AND(F59>=20000,F59<21000)),$J$129,IF((AND(F59>=21000,F59<22000)),$J$130,IF((AND(F59>=22000,F59<23000)),$J$131,IF((AND(F59>=23000,F59<24000)),$J$132,IF((AND(F59>=24000,F59<25000)),$J$133,IF((AND(F59>=25000,F59<26000)),$J$134,IF((AND(F59>=26000,F59<27000)),$J$135,IF((AND(F59>=27000,F59<28000)),$J$136,IF((AND(F59>=28000,F59<29000)),$J$137,IF((AND(F59>=29000,F59<30000)),$J$138,IF((AND(F59>=30000,F59<31000)),$J$139,IF((AND(F59>=31000,F59<32000)),$J$140,IF((AND(F59>=32000,F59<33000)),$J$141,IF((AND(F59>=33000,F59<34000)),$J$142,IF((AND(F59>=34000,F59<35000)),$J$143,IF((AND(F59>=35000,F59<36000)),$J$144,IF((AND(F59>=36000,F59<37000)),$J$145,IF((AND(F59>=37000,F59<38000)),$J$146,IF((AND(F59>=38000,F59<39000)),$J$147,IF((AND(F59>=39000,F59<40000)),$J$148,IF((AND(F59>=40000,F59<41000)),$J$149,IF((AND(F59>=41000,F59<42000)),$J$150,IF((AND(F59>=42000,F59<43000)),$J$151,IF((AND(F59>=43000,F59<44000)),$J$152,IF((AND(F59>=44000,F59<45000)),$J$153,IF((AND(F59>=45000,F59<46000)),$J$154,IF((AND(F59>=46000,F59<47000)),$J$155,IF((AND(F59>=47000,F59<48000)),$J$156,IF((AND(F59>=48000,F59<49000)),$J$157,IF((AND(F59>=49000,F59<50000)),$J$158,IF((AND(F59>=50000,F59<51000)),$J$159,IF((AND(F59>=51000,F59<52000)),$J$160,IF((AND(F59>=52000,F59<53000)),$J$161,IF((AND(F59>=53000,F59<54000)),$J$162,IF((AND(F59>=54000,F59<55000)),$J$163,IF((AND(F59>=55000,F59<56000)),$J$164,IF((AND(F59>=56000,F59<57000)),$J$165,IF((AND(F59>=57000,F59<58000)),$J$166,IF((AND(F59>=58000,F59<59000)),$J$167,IF((AND(F59>=59000,F59<60000)),$J$168,IF((AND(F59>=60000,F59<61000)),$J$169,"0"))))))))))))))))))))))))))))))))))))))))))))))))))))))))) -> 300
A60: 58 | B60: =SUBSTITUTE(TRIM(LEFT(D60,FIND("-",D60&"-")-1))," ","-") -> DDN-1587 | C60: =TRIM(MID(D60,FIND("-",D60)+1,LEN(D60))) -> Cambanogoy,Carmen - DEACTIVATED | D60: DDN 1587-Cambanogoy,Carmen - DEACTIVATED | F60: =IFERROR(VLOOKUP($B60,'EOD - SEPTEMBER 28, 2026'!$B$2:$G$991,3,FALSE),0) -> 0 | G60: =IFERROR(VLOOKUP($B60,'EOD - SEPTEMBER 28, 2026'!$B$2:$G$991,6,FALSE),0) -> 0 | H60: =F60*0.125 -> 0 | I60: =F60-G60-H60 -> 0 | J60: =IF((AND(F60>=100,F60<5000)),$J$113,IF((AND(F60>=5000,F60<6000)),$J$114,IF((AND(F60>=6000,F60<7000)),$J$115,IF((AND(F60>=7000,F60<8000)),$J$116,IF((AND(F60>=8000,F60<9000)),$J$117,IF((AND(F60>=9000,F60<10000)),$J$118,IF((AND(F60>=10000,F60<11000)),$J$119,IF((AND(F60>=11000,F60<12000)),$J$120,IF((AND(F60>=12000,F60<13000)),$J$121,IF((AND(F60>=13000,F60<14000)),$J$122,IF((AND(F60>=14000,F60<15000)),$J$123,IF((AND(F60>=15000,F60<16000)),$J$124,IF((AND(F60>=16000,F60<17000)),$J$125,IF((AND(F60>=17000,F60<18000)),$J$126,IF((AND(F60>=18000,F60<19000)),$J$127,IF((AND(F60>=19000,F60<20000)),$J$128,IF((AND(F60>=20000,F60<21000)),$J$129,IF((AND(F60>=21000,F60<22000)),$J$130,IF((AND(F60>=22000,F60<23000)),$J$131,IF((AND(F60>=23000,F60<24000)),$J$132,IF((AND(F60>=24000,F60<25000)),$J$133,IF((AND(F60>=25000,F60<26000)),$J$134,IF((AND(F60>=26000,F60<27000)),$J$135,IF((AND(F60>=27000,F60<28000)),$J$136,IF((AND(F60>=28000,F60<29000)),$J$137,IF((AND(F60>=29000,F60<30000)),$J$138,IF((AND(F60>=30000,F60<31000)),$J$139,IF((AND(F60>=31000,F60<32000)),$J$140,IF((AND(F60>=32000,F60<33000)),$J$141,IF((AND(F60>=33000,F60<34000)),$J$142,IF((AND(F60>=34000,F60<35000)),$J$143,IF((AND(F60>=35000,F60<36000)),$J$144,IF((AND(F60>=36000,F60<37000)),$J$145,IF((AND(F60>=37000,F60<38000)),$J$146,IF((AND(F60>=38000,F60<39000)),$J$147,IF((AND(F60>=39000,F60<40000)),$J$148,IF((AND(F60>=40000,F60<41000)),$J$149,IF((AND(F60>=41000,F60<42000)),$J$150,IF((AND(F60>=42000,F60<43000)),$J$151,IF((AND(F60>=43000,F60<44000)),$J$152,IF((AND(F60>=44000,F60<45000)),$J$153,IF((AND(F60>=45000,F60<46000)),$J$154,IF((AND(F60>=46000,F60<47000)),$J$155,IF((AND(F60>=47000,F60<48000)),$J$156,IF((AND(F60>=48000,F60<49000)),$J$157,IF((AND(F60>=49000,F60<50000)),$J$158,IF((AND(F60>=50000,F60<51000)),$J$159,IF((AND(F60>=51000,F60<52000)),$J$160,IF((AND(F60>=52000,F60<53000)),$J$161,IF((AND(F60>=53000,F60<54000)),$J$162,IF((AND(F60>=54000,F60<55000)),$J$163,IF((AND(F60>=55000,F60<56000)),$J$164,IF((AND(F60>=56000,F60<57000)),$J$165,IF((AND(F60>=57000,F60<58000)),$J$166,IF((AND(F60>=58000,F60<59000)),$J$167,IF((AND(F60>=59000,F60<60000)),$J$168,IF((AND(F60>=60000,F60<61000)),$J$169,"0"))))))))))))))))))))))))))))))))))))))))))))))))))))))))) -> 0
A61: 59 | B61: =SUBSTITUTE(TRIM(LEFT(D61,FIND("-",D61&"-")-1))," ","-") -> DDN-1590 | C61: =TRIM(MID(D61,FIND("-",D61)+1,LEN(D61))) -> Purok Anahaw,Asuncion,Carmen | D61: DDN 1590-Purok Anahaw,Asuncion,Carmen | E61: ERMA SERDAN | F61: =IFERROR(VLOOKUP($B61,'EOD - SEPTEMBER 28, 2026'!$B$2:$G$991,3,FALSE),0) -> 2798 | G61: =IFERROR(VLOOKUP($B61,'EOD - SEPTEMBER 28, 2026'!$B$2:$G$991,6,FALSE),0) -> 0 | H61: =F61*0.125 -> 349.75 | I61: =F61-G61-H61 -> 2448.25 | J61: =IF((AND(F61>=100,F61<5000)),$J$113,IF((AND(F61>=5000,F61<6000)),$J$114,IF((AND(F61>=6000,F61<7000)),$J$115,IF((AND(F61>=7000,F61<8000)),$J$116,IF((AND(F61>=8000,F61<9000)),$J$117,IF((AND(F61>=9000,F61<10000)),$J$118,IF((AND(F61>=10000,F61<11000)),$J$119,IF((AND(F61>=11000,F61<12000)),$J$120,IF((AND(F61>=12000,F61<13000)),$J$121,IF((AND(F61>=13000,F61<14000)),$J$122,IF((AND(F61>=14000,F61<15000)),$J$123,IF((AND(F61>=15000,F61<16000)),$J$124,IF((AND(F61>=16000,F61<17000)),$J$125,IF((AND(F61>=17000,F61<18000)),$J$126,IF((AND(F61>=18000,F61<19000)),$J$127,IF((AND(F61>=19000,F61<20000)),$J$128,IF((AND(F61>=20000,F61<21000)),$J$129,IF((AND(F61>=21000,F61<22000)),$J$130,IF((AND(F61>=22000,F61<23000)),$J$131,IF((AND(F61>=23000,F61<24000)),$J$132,IF((AND(F61>=24000,F61<25000)),$J$133,IF((AND(F61>=25000,F61<26000)),$J$134,IF((AND(F61>=26000,F61<27000)),$J$135,IF((AND(F61>=27000,F61<28000)),$J$136,IF((AND(F61>=28000,F61<29000)),$J$137,IF((AND(F61>=29000,F61<30000)),$J$138,IF((AND(F61>=30000,F61<31000)),$J$139,IF((AND(F61>=31000,F61<32000)),$J$140,IF((AND(F61>=32000,F61<33000)),$J$141,IF((AND(F61>=33000,F61<34000)),$J$142,IF((AND(F61>=34000,F61<35000)),$J$143,IF((AND(F61>=35000,F61<36000)),$J$144,IF((AND(F61>=36000,F61<37000)),$J$145,IF((AND(F61>=37000,F61<38000)),$J$146,IF((AND(F61>=38000,F61<39000)),$J$147,IF((AND(F61>=39000,F61<40000)),$J$148,IF((AND(F61>=40000,F61<41000)),$J$149,IF((AND(F61>=41000,F61<42000)),$J$150,IF((AND(F61>=42000,F61<43000)),$J$151,IF((AND(F61>=43000,F61<44000)),$J$152,IF((AND(F61>=44000,F61<45000)),$J$153,IF((AND(F61>=45000,F61<46000)),$J$154,IF((AND(F61>=46000,F61<47000)),$J$155,IF((AND(F61>=47000,F61<48000)),$J$156,IF((AND(F61>=48000,F61<49000)),$J$157,IF((AND(F61>=49000,F61<50000)),$J$158,IF((AND(F61>=50000,F61<51000)),$J$159,IF((AND(F61>=51000,F61<52000)),$J$160,IF((AND(F61>=52000,F61<53000)),$J$161,IF((AND(F61>=53000,F61<54000)),$J$162,IF((AND(F61>=54000,F61<55000)),$J$163,IF((AND(F61>=55000,F61<56000)),$J$164,IF((AND(F61>=56000,F61<57000)),$J$165,IF((AND(F61>=57000,F61<58000)),$J$166,IF((AND(F61>=58000,F61<59000)),$J$167,IF((AND(F61>=59000,F61<60000)),$J$168,IF((AND(F61>=60000,F61<61000)),$J$169,"0"))))))))))))))))))))))))))))))))))))))))))))))))))))))))) -> 250
A62: 60 | B62: =SUBSTITUTE(TRIM(LEFT(D62,FIND("-",D62&"-")-1))," ","-") -> DDN-1591 | C62: =TRIM(MID(D62,FIND("-",D62)+1,LEN(D62))) -> Purok Rose Bincungan,Tagum | D62: DDN 1591-Purok Rose Bincungan,Tagum | E62: LENIE ORILLO | F62: =IFERROR(VLOOKUP($B62,'EOD - SEPTEMBER 28, 2026'!$B$2:$G$991,3,FALSE),0) -> 5668 | G62: =IFERROR(VLOOKUP($B62,'EOD - SEPTEMBER 28, 2026'!$B$2:$G$991,6,FALSE),0) -> 0 | H62: =F62*0.125 -> 708.5 | I62: =F62-G62-H62 -> 4959.5 | J62: =IF((AND(F62>=100,F62<5000)),$J$113,IF((AND(F62>=5000,F62<6000)),$J$114,IF((AND(F62>=6000,F62<7000)),$J$115,IF((AND(F62>=7000,F62<8000)),$J$116,IF((AND(F62>=8000,F62<9000)),$J$117,IF((AND(F62>=9000,F62<10000)),$J$118,IF((AND(F62>=10000,F62<11000)),$J$119,IF((AND(F62>=11000,F62<12000)),$J$120,IF((AND(F62>=12000,F62<13000)),$J$121,IF((AND(F62>=13000,F62<14000)),$J$122,IF((AND(F62>=14000,F62<15000)),$J$123,IF((AND(F62>=15000,F62<16000)),$J$124,IF((AND(F62>=16000,F62<17000)),$J$125,IF((AND(F62>=17000,F62<18000)),$J$126,IF((AND(F62>=18000,F62<19000)),$J$127,IF((AND(F62>=19000,F62<20000)),$J$128,IF((AND(F62>=20000,F62<21000)),$J$129,IF((AND(F62>=21000,F62<22000)),$J$130,IF((AND(F62>=22000,F62<23000)),$J$131,IF((AND(F62>=23000,F62<24000)),$J$132,IF((AND(F62>=24000,F62<25000)),$J$133,IF((AND(F62>=25000,F62<26000)),$J$134,IF((AND(F62>=26000,F62<27000)),$J$135,IF((AND(F62>=27000,F62<28000)),$J$136,IF((AND(F62>=28000,F62<29000)),$J$137,IF((AND(F62>=29000,F62<30000)),$J$138,IF((AND(F62>=30000,F62<31000)),$J$139,IF((AND(F62>=31000,F62<32000)),$J$140,IF((AND(F62>=32000,F62<33000)),$J$141,IF((AND(F62>=33000,F62<34000)),$J$142,IF((AND(F62>=34000,F62<35000)),$J$143,IF((AND(F62>=35000,F62<36000)),$J$144,IF((AND(F62>=36000,F62<37000)),$J$145,IF((AND(F62>=37000,F62<38000)),$J$146,IF((AND(F62>=38000,F62<39000)),$J$147,IF((AND(F62>=39000,F62<40000)),$J$148,IF((AND(F62>=40000,F62<41000)),$J$149,IF((AND(F62>=41000,F62<42000)),$J$150,IF((AND(F62>=42000,F62<43000)),$J$151,IF((AND(F62>=43000,F62<44000)),$J$152,IF((AND(F62>=44000,F62<45000)),$J$153,IF((AND(F62>=45000,F62<46000)),$J$154,IF((AND(F62>=46000,F62<47000)),$J$155,IF((AND(F62>=47000,F62<48000)),$J$156,IF((AND(F62>=48000,F62<49000)),$J$157,IF((AND(F62>=49000,F62<50000)),$J$158,IF((AND(F62>=50000,F62<51000)),$J$159,IF((AND(F62>=51000,F62<52000)),$J$160,IF((AND(F62>=52000,F62<53000)),$J$161,IF((AND(F62>=53000,F62<54000)),$J$162,IF((AND(F62>=54000,F62<55000)),$J$163,IF((AND(F62>=55000,F62<56000)),$J$164,IF((AND(F62>=56000,F62<57000)),$J$165,IF((AND(F62>=57000,F62<58000)),$J$166,IF((AND(F62>=58000,F62<59000)),$J$167,IF((AND(F62>=59000,F62<60000)),$J$168,IF((AND(F62>=60000,F62<61000)),$J$169,"0"))))))))))))))))))))))))))))))))))))))))))))))))))))))))) -> 300
A63: 61 | B63: =SUBSTITUTE(TRIM(LEFT(D63,FIND("-",D63&"-")-1))," ","-") -> DDN-1680 | C63: =TRIM(MID(D63,FIND("-",D63)+1,LEN(D63))) -> P6 NEW KATIPUNAN STO.TOMAS | D63: DDN 1680-P6 NEW KATIPUNAN STO.TOMAS | E63: MARITES RIÑO | F63: =IFERROR(VLOOKUP($B63,'EOD - SEPTEMBER 28, 2026'!$B$2:$G$991,3,FALSE),0) -> 3525 | G63: =IFERROR(VLOOKUP($B63,'EOD - SEPTEMBER 28, 2026'!$B$2:$G$991,6,FALSE),0) -> 0 | H63: =F63*0.125 -> 440.625 | I63: =F63-G63-H63 -> 3084.375 | J63: =IF((AND(F63>=100,F63<5000)),$J$113,IF((AND(F63>=5000,F63<6000)),$J$114,IF((AND(F63>=6000,F63<7000)),$J$115,IF((AND(F63>=7000,F63<8000)),$J$116,IF((AND(F63>=8000,F63<9000)),$J$117,IF((AND(F63>=9000,F63<10000)),$J$118,IF((AND(F63>=10000,F63<11000)),$J$119,IF((AND(F63>=11000,F63<12000)),$J$120,IF((AND(F63>=12000,F63<13000)),$J$121,IF((AND(F63>=13000,F63<14000)),$J$122,IF((AND(F63>=14000,F63<15000)),$J$123,IF((AND(F63>=15000,F63<16000)),$J$124,IF((AND(F63>=16000,F63<17000)),$J$125,IF((AND(F63>=17000,F63<18000)),$J$126,IF((AND(F63>=18000,F63<19000)),$J$127,IF((AND(F63>=19000,F63<20000)),$J$128,IF((AND(F63>=20000,F63<21000)),$J$129,IF((AND(F63>=21000,F63<22000)),$J$130,IF((AND(F63>=22000,F63<23000)),$J$131,IF((AND(F63>=23000,F63<24000)),$J$132,IF((AND(F63>=24000,F63<25000)),$J$133,IF((AND(F63>=25000,F63<26000)),$J$134,IF((AND(F63>=26000,F63<27000)),$J$135,IF((AND(F63>=27000,F63<28000)),$J$136,IF((AND(F63>=28000,F63<29000)),$J$137,IF((AND(F63>=29000,F63<30000)),$J$138,IF((AND(F63>=30000,F63<31000)),$J$139,IF((AND(F63>=31000,F63<32000)),$J$140,IF((AND(F63>=32000,F63<33000)),$J$141,IF((AND(F63>=33000,F63<34000)),$J$142,IF((AND(F63>=34000,F63<35000)),$J$143,IF((AND(F63>=35000,F63<36000)),$J$144,IF((AND(F63>=36000,F63<37000)),$J$145,IF((AND(F63>=37000,F63<38000)),$J$146,IF((AND(F63>=38000,F63<39000)),$J$147,IF((AND(F63>=39000,F63<40000)),$J$148,IF((AND(F63>=40000,F63<41000)),$J$149,IF((AND(F63>=41000,F63<42000)),$J$150,IF((AND(F63>=42000,F63<43000)),$J$151,IF((AND(F63>=43000,F63<44000)),$J$152,IF((AND(F63>=44000,F63<45000)),$J$153,IF((AND(F63>=45000,F63<46000)),$J$154,IF((AND(F63>=46000,F63<47000)),$J$155,IF((AND(F63>=47000,F63<48000)),$J$156,IF((AND(F63>=48000,F63<49000)),$J$157,IF((AND(F63>=49000,F63<50000)),$J$158,IF((AND(F63>=50000,F63<51000)),$J$159,IF((AND(F63>=51000,F63<52000)),$J$160,IF((AND(F63>=52000,F63<53000)),$J$161,IF((AND(F63>=53000,F63<54000)),$J$162,IF((AND(F63>=54000,F63<55000)),$J$163,IF((AND(F63>=55000,F63<56000)),$J$164,IF((AND(F63>=56000,F63<57000)),$J$165,IF((AND(F63>=57000,F63<58000)),$J$166,IF((AND(F63>=58000,F63<59000)),$J$167,IF((AND(F63>=59000,F63<60000)),$J$168,IF((AND(F63>=60000,F63<61000)),$J$169,"0"))))))))))))))))))))))))))))))))))))))))))))))))))))))))) -> 250
A64: 62 | B64: =SUBSTITUTE(TRIM(LEFT(D64,FIND("-",D64&"-")-1))," ","-") -> DDN-1702 | C64: =TRIM(MID(D64,FIND("-",D64)+1,LEN(D64))) -> P-1B Sto. Tomas/Deactivated | D64: DDN 1702-P-1B Sto. Tomas/Deactivated | F64: =IFERROR(VLOOKUP($B64,'EOD - SEPTEMBER 28, 2026'!$B$2:$G$991,3,FALSE),0) -> 0 | G64: =IFERROR(VLOOKUP($B64,'EOD - SEPTEMBER 28, 2026'!$B$2:$G$991,6,FALSE),0) -> 0 | H64: =F64*0.125 -> 0 | I64: =F64-G64-H64 -> 0 | J64: =IF((AND(F64>=100,F64<5000)),$J$113,IF((AND(F64>=5000,F64<6000)),$J$114,IF((AND(F64>=6000,F64<7000)),$J$115,IF((AND(F64>=7000,F64<8000)),$J$116,IF((AND(F64>=8000,F64<9000)),$J$117,IF((AND(F64>=9000,F64<10000)),$J$118,IF((AND(F64>=10000,F64<11000)),$J$119,IF((AND(F64>=11000,F64<12000)),$J$120,IF((AND(F64>=12000,F64<13000)),$J$121,IF((AND(F64>=13000,F64<14000)),$J$122,IF((AND(F64>=14000,F64<15000)),$J$123,IF((AND(F64>=15000,F64<16000)),$J$124,IF((AND(F64>=16000,F64<17000)),$J$125,IF((AND(F64>=17000,F64<18000)),$J$126,IF((AND(F64>=18000,F64<19000)),$J$127,IF((AND(F64>=19000,F64<20000)),$J$128,IF((AND(F64>=20000,F64<21000)),$J$129,IF((AND(F64>=21000,F64<22000)),$J$130,IF((AND(F64>=22000,F64<23000)),$J$131,IF((AND(F64>=23000,F64<24000)),$J$132,IF((AND(F64>=24000,F64<25000)),$J$133,IF((AND(F64>=25000,F64<26000)),$J$134,IF((AND(F64>=26000,F64<27000)),$J$135,IF((AND(F64>=27000,F64<28000)),$J$136,IF((AND(F64>=28000,F64<29000)),$J$137,IF((AND(F64>=29000,F64<30000)),$J$138,IF((AND(F64>=30000,F64<31000)),$J$139,IF((AND(F64>=31000,F64<32000)),$J$140,IF((AND(F64>=32000,F64<33000)),$J$141,IF((AND(F64>=33000,F64<34000)),$J$142,IF((AND(F64>=34000,F64<35000)),$J$143,IF((AND(F64>=35000,F64<36000)),$J$144,IF((AND(F64>=36000,F64<37000)),$J$145,IF((AND(F64>=37000,F64<38000)),$J$146,IF((AND(F64>=38000,F64<39000)),$J$147,IF((AND(F64>=39000,F64<40000)),$J$148,IF((AND(F64>=40000,F64<41000)),$J$149,IF((AND(F64>=41000,F64<42000)),$J$150,IF((AND(F64>=42000,F64<43000)),$J$151,IF((AND(F64>=43000,F64<44000)),$J$152,IF((AND(F64>=44000,F64<45000)),$J$153,IF((AND(F64>=45000,F64<46000)),$J$154,IF((AND(F64>=46000,F64<47000)),$J$155,IF((AND(F64>=47000,F64<48000)),$J$156,IF((AND(F64>=48000,F64<49000)),$J$157,IF((AND(F64>=49000,F64<50000)),$J$158,IF((AND(F64>=50000,F64<51000)),$J$159,IF((AND(F64>=51000,F64<52000)),$J$160,IF((AND(F64>=52000,F64<53000)),$J$161,IF((AND(F64>=53000,F64<54000)),$J$162,IF((AND(F64>=54000,F64<55000)),$J$163,IF((AND(F64>=55000,F64<56000)),$J$164,IF((AND(F64>=56000,F64<57000)),$J$165,IF((AND(F64>=57000,F64<58000)),$J$166,IF((AND(F64>=58000,F64<59000)),$J$167,IF((AND(F64>=59000,F64<60000)),$J$168,IF((AND(F64>=60000,F64<61000)),$J$169,"0"))))))))))))))))))))))))))))))))))))))))))))))))))))))))) -> 0
A65: 63 | B65: =SUBSTITUTE(TRIM(LEFT(D65,FIND("-",D65&"-")-1))," ","-") -> DDN-1703 | C65: =TRIM(MID(D65,FIND("-",D65)+1,LEN(D65))) -> P1-A, Sintro, Balagonan, Sto. Tomas | D65: DDN 1703-P1-A, Sintro, Balagonan, Sto. Tomas | E65: TREXY ECHAVERE | F65: =IFERROR(VLOOKUP($B65,'EOD - SEPTEMBER 28, 2026'!$B$2:$G$991,3,FALSE),0) -> 3375 | G65: =IFERROR(VLOOKUP($B65,'EOD - SEPTEMBER 28, 2026'!$B$2:$G$991,6,FALSE),0) -> 1200 | H65: =F65*0.125 -> 421.875 | I65: =F65-G65-H65 -> 1753.125 | J65: =IF((AND(F65>=100,F65<5000)),$J$113,IF((AND(F65>=5000,F65<6000)),$J$114,IF((AND(F65>=6000,F65<7000)),$J$115,IF((AND(F65>=7000,F65<8000)),$J$116,IF((AND(F65>=8000,F65<9000)),$J$117,IF((AND(F65>=9000,F65<10000)),$J$118,IF((AND(F65>=10000,F65<11000)),$J$119,IF((AND(F65>=11000,F65<12000)),$J$120,IF((AND(F65>=12000,F65<13000)),$J$121,IF((AND(F65>=13000,F65<14000)),$J$122,IF((AND(F65>=14000,F65<15000)),$J$123,IF((AND(F65>=15000,F65<16000)),$J$124,IF((AND(F65>=16000,F65<17000)),$J$125,IF((AND(F65>=17000,F65<18000)),$J$126,IF((AND(F65>=18000,F65<19000)),$J$127,IF((AND(F65>=19000,F65<20000)),$J$128,IF((AND(F65>=20000,F65<21000)),$J$129,IF((AND(F65>=21000,F65<22000)),$J$130,IF((AND(F65>=22000,F65<23000)),$J$131,IF((AND(F65>=23000,F65<24000)),$J$132,IF((AND(F65>=24000,F65<25000)),$J$133,IF((AND(F65>=25000,F65<26000)),$J$134,IF((AND(F65>=26000,F65<27000)),$J$135,IF((AND(F65>=27000,F65<28000)),$J$136,IF((AND(F65>=28000,F65<29000)),$J$137,IF((AND(F65>=29000,F65<30000)),$J$138,IF((AND(F65>=30000,F65<31000)),$J$139,IF((AND(F65>=31000,F65<32000)),$J$140,IF((AND(F65>=32000,F65<33000)),$J$141,IF((AND(F65>=33000,F65<34000)),$J$142,IF((AND(F65>=34000,F65<35000)),$J$143,IF((AND(F65>=35000,F65<36000)),$J$144,IF((AND(F65>=36000,F65<37000)),$J$145,IF((AND(F65>=37000,F65<38000)),$J$146,IF((AND(F65>=38000,F65<39000)),$J$147,IF((AND(F65>=39000,F65<40000)),$J$148,IF((AND(F65>=40000,F65<41000)),$J$149,IF((AND(F65>=41000,F65<42000)),$J$150,IF((AND(F65>=42000,F65<43000)),$J$151,IF((AND(F65>=43000,F65<44000)),$J$152,IF((AND(F65>=44000,F65<45000)),$J$153,IF((AND(F65>=45000,F65<46000)),$J$154,IF((AND(F65>=46000,F65<47000)),$J$155,IF((AND(F65>=47000,F65<48000)),$J$156,IF((AND(F65>=48000,F65<49000)),$J$157,IF((AND(F65>=49000,F65<50000)),$J$158,IF((AND(F65>=50000,F65<51000)),$J$159,IF((AND(F65>=51000,F65<52000)),$J$160,IF((AND(F65>=52000,F65<53000)),$J$161,IF((AND(F65>=53000,F65<54000)),$J$162,IF((AND(F65>=54000,F65<55000)),$J$163,IF((AND(F65>=55000,F65<56000)),$J$164,IF((AND(F65>=56000,F65<57000)),$J$165,IF((AND(F65>=57000,F65<58000)),$J$166,IF((AND(F65>=58000,F65<59000)),$J$167,IF((AND(F65>=59000,F65<60000)),$J$168,IF((AND(F65>=60000,F65<61000)),$J$169,"0"))))))))))))))))))))))))))))))))))))))))))))))))))))))))) -> 250
A66: 64 | B66: =SUBSTITUTE(TRIM(LEFT(D66,FIND("-",D66&"-")-1))," ","-") -> DDN-1715 | C66: =TRIM(MID(D66,FIND("-",D66)+1,LEN(D66))) -> Purok 1B, Menze, Sto. Tomas | D66: DDN 1715-Purok 1B, Menze, Sto. Tomas | E66: SHERIMAE OYON-OYON | F66: =IFERROR(VLOOKUP($B66,'EOD - SEPTEMBER 28, 2026'!$B$2:$G$991,3,FALSE),0) -> 3232 | G66: =IFERROR(VLOOKUP($B66,'EOD - SEPTEMBER 28, 2026'!$B$2:$G$991,6,FALSE),0) -> 0 | H66: =F66*0.125 -> 404 | I66: =F66-G66-H66 -> 2828 | J66: =IF((AND(F66>=100,F66<5000)),$J$113,IF((AND(F66>=5000,F66<6000)),$J$114,IF((AND(F66>=6000,F66<7000)),$J$115,IF((AND(F66>=7000,F66<8000)),$J$116,IF((AND(F66>=8000,F66<9000)),$J$117,IF((AND(F66>=9000,F66<10000)),$J$118,IF((AND(F66>=10000,F66<11000)),$J$119,IF((AND(F66>=11000,F66<12000)),$J$120,IF((AND(F66>=12000,F66<13000)),$J$121,IF((AND(F66>=13000,F66<14000)),$J$122,IF((AND(F66>=14000,F66<15000)),$J$123,IF((AND(F66>=15000,F66<16000)),$J$124,IF((AND(F66>=16000,F66<17000)),$J$125,IF((AND(F66>=17000,F66<18000)),$J$126,IF((AND(F66>=18000,F66<19000)),$J$127,IF((AND(F66>=19000,F66<20000)),$J$128,IF((AND(F66>=20000,F66<21000)),$J$129,IF((AND(F66>=21000,F66<22000)),$J$130,IF((AND(F66>=22000,F66<23000)),$J$131,IF((AND(F66>=23000,F66<24000)),$J$132,IF((AND(F66>=24000,F66<25000)),$J$133,IF((AND(F66>=25000,F66<26000)),$J$134,IF((AND(F66>=26000,F66<27000)),$J$135,IF((AND(F66>=27000,F66<28000)),$J$136,IF((AND(F66>=28000,F66<29000)),$J$137,IF((AND(F66>=29000,F66<30000)),$J$138,IF((AND(F66>=30000,F66<31000)),$J$139,IF((AND(F66>=31000,F66<32000)),$J$140,IF((AND(F66>=32000,F66<33000)),$J$141,IF((AND(F66>=33000,F66<34000)),$J$142,IF((AND(F66>=34000,F66<35000)),$J$143,IF((AND(F66>=35000,F66<36000)),$J$144,IF((AND(F66>=36000,F66<37000)),$J$145,IF((AND(F66>=37000,F66<38000)),$J$146,IF((AND(F66>=38000,F66<39000)),$J$147,IF((AND(F66>=39000,F66<40000)),$J$148,IF((AND(F66>=40000,F66<41000)),$J$149,IF((AND(F66>=41000,F66<42000)),$J$150,IF((AND(F66>=42000,F66<43000)),$J$151,IF((AND(F66>=43000,F66<44000)),$J$152,IF((AND(F66>=44000,F66<45000)),$J$153,IF((AND(F66>=45000,F66<46000)),$J$154,IF((AND(F66>=46000,F66<47000)),$J$155,IF((AND(F66>=47000,F66<48000)),$J$156,IF((AND(F66>=48000,F66<49000)),$J$157,IF((AND(F66>=49000,F66<50000)),$J$158,IF((AND(F66>=50000,F66<51000)),$J$159,IF((AND(F66>=51000,F66<52000)),$J$160,IF((AND(F66>=52000,F66<53000)),$J$161,IF((AND(F66>=53000,F66<54000)),$J$162,IF((AND(F66>=54000,F66<55000)),$J$163,IF((AND(F66>=55000,F66<56000)),$J$164,IF((AND(F66>=56000,F66<57000)),$J$165,IF((AND(F66>=57000,F66<58000)),$J$166,IF((AND(F66>=58000,F66<59000)),$J$167,IF((AND(F66>=59000,F66<60000)),$J$168,IF((AND(F66>=60000,F66<61000)),$J$169,"0"))))))))))))))))))))))))))))))))))))))))))))))))))))))))) -> 250
A67: 65 | B67: =SUBSTITUTE(TRIM(LEFT(D67,FIND("-",D67&"-")-1))," ","-") -> DDN-1716 | C67: =TRIM(MID(D67,FIND("-",D67)+1,LEN(D67))) -> PUROK NARRA New Visayas | D67: DDN 1716-PUROK NARRA New Visayas | E67: PRINCESS SOLAMILLO | F67: =IFERROR(VLOOKUP($B67,'EOD - SEPTEMBER 28, 2026'!$B$2:$G$991,3,FALSE),0) -> 1470 | G67: =IFERROR(VLOOKUP($B67,'EOD - SEPTEMBER 28, 2026'!$B$2:$G$991,6,FALSE),0) -> 0 | H67: =F67*0.125 -> 183.75 | I67: =F67-G67-H67 -> 1286.25 | J67: =IF((AND(F67>=100,F67<5000)),$J$113,IF((AND(F67>=5000,F67<6000)),$J$114,IF((AND(F67>=6000,F67<7000)),$J$115,IF((AND(F67>=7000,F67<8000)),$J$116,IF((AND(F67>=8000,F67<9000)),$J$117,IF((AND(F67>=9000,F67<10000)),$J$118,IF((AND(F67>=10000,F67<11000)),$J$119,IF((AND(F67>=11000,F67<12000)),$J$120,IF((AND(F67>=12000,F67<13000)),$J$121,IF((AND(F67>=13000,F67<14000)),$J$122,IF((AND(F67>=14000,F67<15000)),$J$123,IF((AND(F67>=15000,F67<16000)),$J$124,IF((AND(F67>=16000,F67<17000)),$J$125,IF((AND(F67>=17000,F67<18000)),$J$126,IF((AND(F67>=18000,F67<19000)),$J$127,IF((AND(F67>=19000,F67<20000)),$J$128,IF((AND(F67>=20000,F67<21000)),$J$129,IF((AND(F67>=21000,F67<22000)),$J$130,IF((AND(F67>=22000,F67<23000)),$J$131,IF((AND(F67>=23000,F67<24000)),$J$132,IF((AND(F67>=24000,F67<25000)),$J$133,IF((AND(F67>=25000,F67<26000)),$J$134,IF((AND(F67>=26000,F67<27000)),$J$135,IF((AND(F67>=27000,F67<28000)),$J$136,IF((AND(F67>=28000,F67<29000)),$J$137,IF((AND(F67>=29000,F67<30000)),$J$138,IF((AND(F67>=30000,F67<31000)),$J$139,IF((AND(F67>=31000,F67<32000)),$J$140,IF((AND(F67>=32000,F67<33000)),$J$141,IF((AND(F67>=33000,F67<34000)),$J$142,IF((AND(F67>=34000,F67<35000)),$J$143,IF((AND(F67>=35000,F67<36000)),$J$144,IF((AND(F67>=36000,F67<37000)),$J$145,IF((AND(F67>=37000,F67<38000)),$J$146,IF((AND(F67>=38000,F67<39000)),$J$147,IF((AND(F67>=39000,F67<40000)),$J$148,IF((AND(F67>=40000,F67<41000)),$J$149,IF((AND(F67>=41000,F67<42000)),$J$150,IF((AND(F67>=42000,F67<43000)),$J$151,IF((AND(F67>=43000,F67<44000)),$J$152,IF((AND(F67>=44000,F67<45000)),$J$153,IF((AND(F67>=45000,F67<46000)),$J$154,IF((AND(F67>=46000,F67<47000)),$J$155,IF((AND(F67>=47000,F67<48000)),$J$156,IF((AND(F67>=48000,F67<49000)),$J$157,IF((AND(F67>=49000,F67<50000)),$J$158,IF((AND(F67>=50000,F67<51000)),$J$159,IF((AND(F67>=51000,F67<52000)),$J$160,IF((AND(F67>=52000,F67<53000)),$J$161,IF((AND(F67>=53000,F67<54000)),$J$162,IF((AND(F67>=54000,F67<55000)),$J$163,IF((AND(F67>=55000,F67<56000)),$J$164,IF((AND(F67>=56000,F67<57000)),$J$165,IF((AND(F67>=57000,F67<58000)),$J$166,IF((AND(F67>=58000,F67<59000)),$J$167,IF((AND(F67>=59000,F67<60000)),$J$168,IF((AND(F67>=60000,F67<61000)),$J$169,"0"))))))))))))))))))))))))))))))))))))))))))))))))))))))))) -> 250
A68: 66 | B68: =SUBSTITUTE(TRIM(LEFT(D68,FIND("-",D68&"-")-1))," ","-") -> DDN-1717 | C68: =TRIM(MID(D68,FIND("-",D68)+1,LEN(D68))) -> P- 2B Tuganay | D68: DDN 1717- P- 2B Tuganay | E68: SHIELA RAMIREZ | F68: =IFERROR(VLOOKUP($B68,'EOD - SEPTEMBER 28, 2026'!$B$2:$G$991,3,FALSE),0) -> 2770 | G68: =IFERROR(VLOOKUP($B68,'EOD - SEPTEMBER 28, 2026'!$B$2:$G$991,6,FALSE),0) -> 800 | H68: =F68*0.125 -> 346.25 | I68: =F68-G68-H68 -> 1623.75 | J68: =IF((AND(F68>=100,F68<5000)),$J$113,IF((AND(F68>=5000,F68<6000)),$J$114,IF((AND(F68>=6000,F68<7000)),$J$115,IF((AND(F68>=7000,F68<8000)),$J$116,IF((AND(F68>=8000,F68<9000)),$J$117,IF((AND(F68>=9000,F68<10000)),$J$118,IF((AND(F68>=10000,F68<11000)),$J$119,IF((AND(F68>=11000,F68<12000)),$J$120,IF((AND(F68>=12000,F68<13000)),$J$121,IF((AND(F68>=13000,F68<14000)),$J$122,IF((AND(F68>=14000,F68<15000)),$J$123,IF((AND(F68>=15000,F68<16000)),$J$124,IF((AND(F68>=16000,F68<17000)),$J$125,IF((AND(F68>=17000,F68<18000)),$J$126,IF((AND(F68>=18000,F68<19000)),$J$127,IF((AND(F68>=19000,F68<20000)),$J$128,IF((AND(F68>=20000,F68<21000)),$J$129,IF((AND(F68>=21000,F68<22000)),$J$130,IF((AND(F68>=22000,F68<23000)),$J$131,IF((AND(F68>=23000,F68<24000)),$J$132,IF((AND(F68>=24000,F68<25000)),$J$133,IF((AND(F68>=25000,F68<26000)),$J$134,IF((AND(F68>=26000,F68<27000)),$J$135,IF((AND(F68>=27000,F68<28000)),$J$136,IF((AND(F68>=28000,F68<29000)),$J$137,IF((AND(F68>=29000,F68<30000)),$J$138,IF((AND(F68>=30000,F68<31000)),$J$139,IF((AND(F68>=31000,F68<32000)),$J$140,IF((AND(F68>=32000,F68<33000)),$J$141,IF((AND(F68>=33000,F68<34000)),$J$142,IF((AND(F68>=34000,F68<35000)),$J$143,IF((AND(F68>=35000,F68<36000)),$J$144,IF((AND(F68>=36000,F68<37000)),$J$145,IF((AND(F68>=37000,F68<38000)),$J$146,IF((AND(F68>=38000,F68<39000)),$J$147,IF((AND(F68>=39000,F68<40000)),$J$148,IF((AND(F68>=40000,F68<41000)),$J$149,IF((AND(F68>=41000,F68<42000)),$J$150,IF((AND(F68>=42000,F68<43000)),$J$151,IF((AND(F68>=43000,F68<44000)),$J$152,IF((AND(F68>=44000,F68<45000)),$J$153,IF((AND(F68>=45000,F68<46000)),$J$154,IF((AND(F68>=46000,F68<47000)),$J$155,IF((AND(F68>=47000,F68<48000)),$J$156,IF((AND(F68>=48000,F68<49000)),$J$157,IF((AND(F68>=49000,F68<50000)),$J$158,IF((AND(F68>=50000,F68<51000)),$J$159,IF((AND(F68>=51000,F68<52000)),$J$160,IF((AND(F68>=52000,F68<53000)),$J$161,IF((AND(F68>=53000,F68<54000)),$J$162,IF((AND(F68>=54000,F68<55000)),$J$163,IF((AND(F68>=55000,F68<56000)),$J$164,IF((AND(F68>=56000,F68<57000)),$J$165,IF((AND(F68>=57000,F68<58000)),$J$166,IF((AND(F68>=58000,F68<59000)),$J$167,IF((AND(F68>=59000,F68<60000)),$J$168,IF((AND(F68>=60000,F68<61000)),$J$169,"0"))))))))))))))))))))))))))))))))))))))))))))))))))))))))) -> 250
A69: 67 | B69: =SUBSTITUTE(TRIM(LEFT(D69,FIND("-",D69&"-")-1))," ","-") -> DDN-1721 | C69: =TRIM(MID(D69,FIND("-",D69)+1,LEN(D69))) -> P-20C,VETERANS TIBAL OG STO. TOMAS | D69: DDN 1721-P-20C,VETERANS TIBAL OG STO. TOMAS | E69: CHARLYN MAE BORDADO MARAYAN | F69: =IFERROR(VLOOKUP($B69,'EOD - SEPTEMBER 28, 2026'!$B$2:$G$991,3,FALSE),0) -> 3269 | G69: =IFERROR(VLOOKUP($B69,'EOD - SEPTEMBER 28, 2026'!$B$2:$G$991,6,FALSE),0) -> 0 | H69: =F69*0.125 -> 408.625 | I69: =F69-G69-H69 -> 2860.375 | J69: =IF((AND(F69>=100,F69<5000)),$J$113,IF((AND(F69>=5000,F69<6000)),$J$114,IF((AND(F69>=6000,F69<7000)),$J$115,IF((AND(F69>=7000,F69<8000)),$J$116,IF((AND(F69>=8000,F69<9000)),$J$117,IF((AND(F69>=9000,F69<10000)),$J$118,IF((AND(F69>=10000,F69<11000)),$J$119,IF((AND(F69>=11000,F69<12000)),$J$120,IF((AND(F69>=12000,F69<13000)),$J$121,IF((AND(F69>=13000,F69<14000)),$J$122,IF((AND(F69>=14000,F69<15000)),$J$123,IF((AND(F69>=15000,F69<16000)),$J$124,IF((AND(F69>=16000,F69<17000)),$J$125,IF((AND(F69>=17000,F69<18000)),$J$126,IF((AND(F69>=18000,F69<19000)),$J$127,IF((AND(F69>=19000,F69<20000)),$J$128,IF((AND(F69>=20000,F69<21000)),$J$129,IF((AND(F69>=21000,F69<22000)),$J$130,IF((AND(F69>=22000,F69<23000)),$J$131,IF((AND(F69>=23000,F69<24000)),$J$132,IF((AND(F69>=24000,F69<25000)),$J$133,IF((AND(F69>=25000,F69<26000)),$J$134,IF((AND(F69>=26000,F69<27000)),$J$135,IF((AND(F69>=27000,F69<28000)),$J$136,IF((AND(F69>=28000,F69<29000)),$J$137,IF((AND(F69>=29000,F69<30000)),$J$138,IF((AND(F69>=30000,F69<31000)),$J$139,IF((AND(F69>=31000,F69<32000)),$J$140,IF((AND(F69>=32000,F69<33000)),$J$141,IF((AND(F69>=33000,F69<34000)),$J$142,IF((AND(F69>=34000,F69<35000)),$J$143,IF((AND(F69>=35000,F69<36000)),$J$144,IF((AND(F69>=36000,F69<37000)),$J$145,IF((AND(F69>=37000,F69<38000)),$J$146,IF((AND(F69>=38000,F69<39000)),$J$147,IF((AND(F69>=39000,F69<40000)),$J$148,IF((AND(F69>=40000,F69<41000)),$J$149,IF((AND(F69>=41000,F69<42000)),$J$150,IF((AND(F69>=42000,F69<43000)),$J$151,IF((AND(F69>=43000,F69<44000)),$J$152,IF((AND(F69>=44000,F69<45000)),$J$153,IF((AND(F69>=45000,F69<46000)),$J$154,IF((AND(F69>=46000,F69<47000)),$J$155,IF((AND(F69>=47000,F69<48000)),$J$156,IF((AND(F69>=48000,F69<49000)),$J$157,IF((AND(F69>=49000,F69<50000)),$J$158,IF((AND(F69>=50000,F69<51000)),$J$159,IF((AND(F69>=51000,F69<52000)),$J$160,IF((AND(F69>=52000,F69<53000)),$J$161,IF((AND(F69>=53000,F69<54000)),$J$162,IF((AND(F69>=54000,F69<55000)),$J$163,IF((AND(F69>=55000,F69<56000)),$J$164,IF((AND(F69>=56000,F69<57000)),$J$165,IF((AND(F69>=57000,F69<58000)),$J$166,IF((AND(F69>=58000,F69<59000)),$J$167,IF((AND(F69>=59000,F69<60000)),$J$168,IF((AND(F69>=60000,F69<61000)),$J$169,"0"))))))))))))))))))))))))))))))))))))))))))))))))))))))))) -> 250 | L69: PREPARED BY: | M69: Peter john carrillo
A70: 68 | B70: =SUBSTITUTE(TRIM(LEFT(D70,FIND("-",D70&"-")-1))," ","-") -> DDN-1722 | C70: =TRIM(MID(D70,FIND("-",D70)+1,LEN(D70))) -> P18 Feeder Rd.3, Sto. Tomas | D70: DDN 1722-P18 Feeder Rd.3, Sto. Tomas | E70: JANICE LABISTO | F70: =IFERROR(VLOOKUP($B70,'EOD - SEPTEMBER 28, 2026'!$B$2:$G$991,3,FALSE),0) -> 2919 | G70: =IFERROR(VLOOKUP($B70,'EOD - SEPTEMBER 28, 2026'!$B$2:$G$991,6,FALSE),0) -> 0 | H70: =F70*0.125 -> 364.875 | I70: =F70-G70-H70 -> 2554.125 | J70: =IF((AND(F70>=100,F70<5000)),$J$113,IF((AND(F70>=5000,F70<6000)),$J$114,IF((AND(F70>=6000,F70<7000)),$J$115,IF((AND(F70>=7000,F70<8000)),$J$116,IF((AND(F70>=8000,F70<9000)),$J$117,IF((AND(F70>=9000,F70<10000)),$J$118,IF((AND(F70>=10000,F70<11000)),$J$119,IF((AND(F70>=11000,F70<12000)),$J$120,IF((AND(F70>=12000,F70<13000)),$J$121,IF((AND(F70>=13000,F70<14000)),$J$122,IF((AND(F70>=14000,F70<15000)),$J$123,IF((AND(F70>=15000,F70<16000)),$J$124,IF((AND(F70>=16000,F70<17000)),$J$125,IF((AND(F70>=17000,F70<18000)),$J$126,IF((AND(F70>=18000,F70<19000)),$J$127,IF((AND(F70>=19000,F70<20000)),$J$128,IF((AND(F70>=20000,F70<21000)),$J$129,IF((AND(F70>=21000,F70<22000)),$J$130,IF((AND(F70>=22000,F70<23000)),$J$131,IF((AND(F70>=23000,F70<24000)),$J$132,IF((AND(F70>=24000,F70<25000)),$J$133,IF((AND(F70>=25000,F70<26000)),$J$134,IF((AND(F70>=26000,F70<27000)),$J$135,IF((AND(F70>=27000,F70<28000)),$J$136,IF((AND(F70>=28000,F70<29000)),$J$137,IF((AND(F70>=29000,F70<30000)),$J$138,IF((AND(F70>=30000,F70<31000)),$J$139,IF((AND(F70>=31000,F70<32000)),$J$140,IF((AND(F70>=32000,F70<33000)),$J$141,IF((AND(F70>=33000,F70<34000)),$J$142,IF((AND(F70>=34000,F70<35000)),$J$143,IF((AND(F70>=35000,F70<36000)),$J$144,IF((AND(F70>=36000,F70<37000)),$J$145,IF((AND(F70>=37000,F70<38000)),$J$146,IF((AND(F70>=38000,F70<39000)),$J$147,IF((AND(F70>=39000,F70<40000)),$J$148,IF((AND(F70>=40000,F70<41000)),$J$149,IF((AND(F70>=41000,F70<42000)),$J$150,IF((AND(F70>=42000,F70<43000)),$J$151,IF((AND(F70>=43000,F70<44000)),$J$152,IF((AND(F70>=44000,F70<45000)),$J$153,IF((AND(F70>=45000,F70<46000)),$J$154,IF((AND(F70>=46000,F70<47000)),$J$155,IF((AND(F70>=47000,F70<48000)),$J$156,IF((AND(F70>=48000,F70<49000)),$J$157,IF((AND(F70>=49000,F70<50000)),$J$158,IF((AND(F70>=50000,F70<51000)),$J$159,IF((AND(F70>=51000,F70<52000)),$J$160,IF((AND(F70>=52000,F70<53000)),$J$161,IF((AND(F70>=53000,F70<54000)),$J$162,IF((AND(F70>=54000,F70<55000)),$J$163,IF((AND(F70>=55000,F70<56000)),$J$164,IF((AND(F70>=56000,F70<57000)),$J$165,IF((AND(F70>=57000,F70<58000)),$J$166,IF((AND(F70>=58000,F70<59000)),$J$167,IF((AND(F70>=59000,F70<60000)),$J$168,IF((AND(F70>=60000,F70<61000)),$J$169,"0"))))))))))))))))))))))))))))))))))))))))))))))))))))))))) -> 250
A71: 69 | B71: =SUBSTITUTE(TRIM(LEFT(D71,FIND("-",D71&"-")-1))," ","-") -> DDN-1723 | C71: =TRIM(MID(D71,FIND("-",D71)+1,LEN(D71))) -> P1, Kimamon, Sto. Tomas | D71: DDN 1723-P1, Kimamon, Sto. Tomas | E71: MILOJEAN EDILLOR BALATAYO | F71: =IFERROR(VLOOKUP($B71,'EOD - SEPTEMBER 28, 2026'!$B$2:$G$991,3,FALSE),0) -> 17674 | G71: =IFERROR(VLOOKUP($B71,'EOD - SEPTEMBER 28, 2026'!$B$2:$G$991,6,FALSE),0) -> 1600 | H71: =F71*0.125 -> 2209.25 | I71: =F71-G71-H71 -> 13864.75 | J71: =IF((AND(F71>=100,F71<5000)),$J$113,IF((AND(F71>=5000,F71<6000)),$J$114,IF((AND(F71>=6000,F71<7000)),$J$115,IF((AND(F71>=7000,F71<8000)),$J$116,IF((AND(F71>=8000,F71<9000)),$J$117,IF((AND(F71>=9000,F71<10000)),$J$118,IF((AND(F71>=10000,F71<11000)),$J$119,IF((AND(F71>=11000,F71<12000)),$J$120,IF((AND(F71>=12000,F71<13000)),$J$121,IF((AND(F71>=13000,F71<14000)),$J$122,IF((AND(F71>=14000,F71<15000)),$J$123,IF((AND(F71>=15000,F71<16000)),$J$124,IF((AND(F71>=16000,F71<17000)),$J$125,IF((AND(F71>=17000,F71<18000)),$J$126,IF((AND(F71>=18000,F71<19000)),$J$127,IF((AND(F71>=19000,F71<20000)),$J$128,IF((AND(F71>=20000,F71<21000)),$J$129,IF((AND(F71>=21000,F71<22000)),$J$130,IF((AND(F71>=22000,F71<23000)),$J$131,IF((AND(F71>=23000,F71<24000)),$J$132,IF((AND(F71>=24000,F71<25000)),$J$133,IF((AND(F71>=25000,F71<26000)),$J$134,IF((AND(F71>=26000,F71<27000)),$J$135,IF((AND(F71>=27000,F71<28000)),$J$136,IF((AND(F71>=28000,F71<29000)),$J$137,IF((AND(F71>=29000,F71<30000)),$J$138,IF((AND(F71>=30000,F71<31000)),$J$139,IF((AND(F71>=31000,F71<32000)),$J$140,IF((AND(F71>=32000,F71<33000)),$J$141,IF((AND(F71>=33000,F71<34000)),$J$142,IF((AND(F71>=34000,F71<35000)),$J$143,IF((AND(F71>=35000,F71<36000)),$J$144,IF((AND(F71>=36000,F71<37000)),$J$145,IF((AND(F71>=37000,F71<38000)),$J$146,IF((AND(F71>=38000,F71<39000)),$J$147,IF((AND(F71>=39000,F71<40000)),$J$148,IF((AND(F71>=40000,F71<41000)),$J$149,IF((AND(F71>=41000,F71<42000)),$J$150,IF((AND(F71>=42000,F71<43000)),$J$151,IF((AND(F71>=43000,F71<44000)),$J$152,IF((AND(F71>=44000,F71<45000)),$J$153,IF((AND(F71>=45000,F71<46000)),$J$154,IF((AND(F71>=46000,F71<47000)),$J$155,IF((AND(F71>=47000,F71<48000)),$J$156,IF((AND(F71>=48000,F71<49000)),$J$157,IF((AND(F71>=49000,F71<50000)),$J$158,IF((AND(F71>=50000,F71<51000)),$J$159,IF((AND(F71>=51000,F71<52000)),$J$160,IF((AND(F71>=52000,F71<53000)),$J$161,IF((AND(F71>=53000,F71<54000)),$J$162,IF((AND(F71>=54000,F71<55000)),$J$163,IF((AND(F71>=55000,F71<56000)),$J$164,IF((AND(F71>=56000,F71<57000)),$J$165,IF((AND(F71>=57000,F71<58000)),$J$166,IF((AND(F71>=58000,F71<59000)),$J$167,IF((AND(F71>=59000,F71<60000)),$J$168,IF((AND(F71>=60000,F71<61000)),$J$169,"0"))))))))))))))))))))))))))))))))))))))))))))))))))))))))) -> 420
A72: 70 | B72: =SUBSTITUTE(TRIM(LEFT(D72,FIND("-",D72&"-")-1))," ","-") -> DDN-401 | C72: =TRIM(MID(D72,FIND("-",D72)+1,LEN(D72))) -> Tadeco Road,Panabo City/DEACTIVATED | D72: DDN 401-Tadeco Road,Panabo City/DEACTIVATED | F72: =IFERROR(VLOOKUP($B72,'EOD - SEPTEMBER 28, 2026'!$B$2:$G$991,3,FALSE),0) -> 0 | G72: =IFERROR(VLOOKUP($B72,'EOD - SEPTEMBER 28, 2026'!$B$2:$G$991,6,FALSE),0) -> 0 | H72: =F72*0.125 -> 0 | I72: =F72-G72-H72 -> 0 | J72: =IF((AND(F72>=100,F72<5000)),$J$113,IF((AND(F72>=5000,F72<6000)),$J$114,IF((AND(F72>=6000,F72<7000)),$J$115,IF((AND(F72>=7000,F72<8000)),$J$116,IF((AND(F72>=8000,F72<9000)),$J$117,IF((AND(F72>=9000,F72<10000)),$J$118,IF((AND(F72>=10000,F72<11000)),$J$119,IF((AND(F72>=11000,F72<12000)),$J$120,IF((AND(F72>=12000,F72<13000)),$J$121,IF((AND(F72>=13000,F72<14000)),$J$122,IF((AND(F72>=14000,F72<15000)),$J$123,IF((AND(F72>=15000,F72<16000)),$J$124,IF((AND(F72>=16000,F72<17000)),$J$125,IF((AND(F72>=17000,F72<18000)),$J$126,IF((AND(F72>=18000,F72<19000)),$J$127,IF((AND(F72>=19000,F72<20000)),$J$128,IF((AND(F72>=20000,F72<21000)),$J$129,IF((AND(F72>=21000,F72<22000)),$J$130,IF((AND(F72>=22000,F72<23000)),$J$131,IF((AND(F72>=23000,F72<24000)),$J$132,IF((AND(F72>=24000,F72<25000)),$J$133,IF((AND(F72>=25000,F72<26000)),$J$134,IF((AND(F72>=26000,F72<27000)),$J$135,IF((AND(F72>=27000,F72<28000)),$J$136,IF((AND(F72>=28000,F72<29000)),$J$137,IF((AND(F72>=29000,F72<30000)),$J$138,IF((AND(F72>=30000,F72<31000)),$J$139,IF((AND(F72>=31000,F72<32000)),$J$140,IF((AND(F72>=32000,F72<33000)),$J$141,IF((AND(F72>=33000,F72<34000)),$J$142,IF((AND(F72>=34000,F72<35000)),$J$143,IF((AND(F72>=35000,F72<36000)),$J$144,IF((AND(F72>=36000,F72<37000)),$J$145,IF((AND(F72>=37000,F72<38000)),$J$146,IF((AND(F72>=38000,F72<39000)),$J$147,IF((AND(F72>=39000,F72<40000)),$J$148,IF((AND(F72>=40000,F72<41000)),$J$149,IF((AND(F72>=41000,F72<42000)),$J$150,IF((AND(F72>=42000,F72<43000)),$J$151,IF((AND(F72>=43000,F72<44000)),$J$152,IF((AND(F72>=44000,F72<45000)),$J$153,IF((AND(F72>=45000,F72<46000)),$J$154,IF((AND(F72>=46000,F72<47000)),$J$155,IF((AND(F72>=47000,F72<48000)),$J$156,IF((AND(F72>=48000,F72<49000)),$J$157,IF((AND(F72>=49000,F72<50000)),$J$158,IF((AND(F72>=50000,F72<51000)),$J$159,IF((AND(F72>=51000,F72<52000)),$J$160,IF((AND(F72>=52000,F72<53000)),$J$161,IF((AND(F72>=53000,F72<54000)),$J$162,IF((AND(F72>=54000,F72<55000)),$J$163,IF((AND(F72>=55000,F72<56000)),$J$164,IF((AND(F72>=56000,F72<57000)),$J$165,IF((AND(F72>=57000,F72<58000)),$J$166,IF((AND(F72>=58000,F72<59000)),$J$167,IF((AND(F72>=59000,F72<60000)),$J$168,IF((AND(F72>=60000,F72<61000)),$J$169,"0"))))))))))))))))))))))))))))))))))))))))))))))))))))))))) -> 0
A73: 71 | B73: =SUBSTITUTE(TRIM(LEFT(D73,FIND("-",D73&"-")-1))," ","-") -> DDN-1738 | C73: =TRIM(MID(D73,FIND("-",D73)+1,LEN(D73))) -> P-MAGSAYSAY LUNGA-OG STO TOMAS | D73: DDN 1738 -P-MAGSAYSAY LUNGA-OG STO TOMAS | E73: MARIVEL H. ESTRADA | F73: =IFERROR(VLOOKUP($B73,'EOD - SEPTEMBER 28, 2026'!$B$2:$G$991,3,FALSE),0) -> 2651 | G73: =IFERROR(VLOOKUP($B73,'EOD - SEPTEMBER 28, 2026'!$B$2:$G$991,6,FALSE),0) -> 0 | H73: =F73*0.125 -> 331.375 | I73: =F73-G73-H73 -> 2319.625 | J73: =IF((AND(F73>=100,F73<5000)),$J$113,IF((AND(F73>=5000,F73<6000)),$J$114,IF((AND(F73>=6000,F73<7000)),$J$115,IF((AND(F73>=7000,F73<8000)),$J$116,IF((AND(F73>=8000,F73<9000)),$J$117,IF((AND(F73>=9000,F73<10000)),$J$118,IF((AND(F73>=10000,F73<11000)),$J$119,IF((AND(F73>=11000,F73<12000)),$J$120,IF((AND(F73>=12000,F73<13000)),$J$121,IF((AND(F73>=13000,F73<14000)),$J$122,IF((AND(F73>=14000,F73<15000)),$J$123,IF((AND(F73>=15000,F73<16000)),$J$124,IF((AND(F73>=16000,F73<17000)),$J$125,IF((AND(F73>=17000,F73<18000)),$J$126,IF((AND(F73>=18000,F73<19000)),$J$127,IF((AND(F73>=19000,F73<20000)),$J$128,IF((AND(F73>=20000,F73<21000)),$J$129,IF((AND(F73>=21000,F73<22000)),$J$130,IF((AND(F73>=22000,F73<23000)),$J$131,IF((AND(F73>=23000,F73<24000)),$J$132,IF((AND(F73>=24000,F73<25000)),$J$133,IF((AND(F73>=25000,F73<26000)),$J$134,IF((AND(F73>=26000,F73<27000)),$J$135,IF((AND(F73>=27000,F73<28000)),$J$136,IF((AND(F73>=28000,F73<29000)),$J$137,IF((AND(F73>=29000,F73<30000)),$J$138,IF((AND(F73>=30000,F73<31000)),$J$139,IF((AND(F73>=31000,F73<32000)),$J$140,IF((AND(F73>=32000,F73<33000)),$J$141,IF((AND(F73>=33000,F73<34000)),$J$142,IF((AND(F73>=34000,F73<35000)),$J$143,IF((AND(F73>=35000,F73<36000)),$J$144,IF((AND(F73>=36000,F73<37000)),$J$145,IF((AND(F73>=37000,F73<38000)),$J$146,IF((AND(F73>=38000,F73<39000)),$J$147,IF((AND(F73>=39000,F73<40000)),$J$148,IF((AND(F73>=40000,F73<41000)),$J$149,IF((AND(F73>=41000,F73<42000)),$J$150,IF((AND(F73>=42000,F73<43000)),$J$151,IF((AND(F73>=43000,F73<44000)),$J$152,IF((AND(F73>=44000,F73<45000)),$J$153,IF((AND(F73>=45000,F73<46000)),$J$154,IF((AND(F73>=46000,F73<47000)),$J$155,IF((AND(F73>=47000,F73<48000)),$J$156,IF((AND(F73>=48000,F73<49000)),$J$157,IF((AND(F73>=49000,F73<50000)),$J$158,IF((AND(F73>=50000,F73<51000)),$J$159,IF((AND(F73>=51000,F73<52000)),$J$160,IF((AND(F73>=52000,F73<53000)),$J$161,IF((AND(F73>=53000,F73<54000)),$J$162,IF((AND(F73>=54000,F73<55000)),$J$163,IF((AND(F73>=55000,F73<56000)),$J$164,IF((AND(F73>=56000,F73<57000)),$J$165,IF((AND(F73>=57000,F73<58000)),$J$166,IF((AND(F73>=58000,F73<59000)),$J$167,IF((AND(F73>=59000,F73<60000)),$J$168,IF((AND(F73>=60000,F73<61000)),$J$169,"0"))))))))))))))))))))))))))))))))))))))))))))))))))))))))) -> 250
A74: 72 | B74: =SUBSTITUTE(TRIM(LEFT(D74,FIND("-",D74&"-")-1))," ","-") -> DDN-1739 | C74: =TRIM(MID(D74,FIND("-",D74)+1,LEN(D74))) -> Purok Bonifacio, Lungaog, Sto Tomas | D74: DDN 1739- Purok Bonifacio, Lungaog, Sto Tomas | E74: DAISY MAE SENADERO GEMENTIZA | F74: =IFERROR(VLOOKUP($B74,'EOD - SEPTEMBER 28, 2026'!$B$2:$G$991,3,FALSE),0) -> 3393 | G74: =IFERROR(VLOOKUP($B74,'EOD - SEPTEMBER 28, 2026'!$B$2:$G$991,6,FALSE),0) -> 0 | H74: =F74*0.125 -> 424.125 | I74: =F74-G74-H74 -> 2968.875 | J74: =IF((AND(F74>=100,F74<5000)),$J$113,IF((AND(F74>=5000,F74<6000)),$J$114,IF((AND(F74>=6000,F74<7000)),$J$115,IF((AND(F74>=7000,F74<8000)),$J$116,IF((AND(F74>=8000,F74<9000)),$J$117,IF((AND(F74>=9000,F74<10000)),$J$118,IF((AND(F74>=10000,F74<11000)),$J$119,IF((AND(F74>=11000,F74<12000)),$J$120,IF((AND(F74>=12000,F74<13000)),$J$121,IF((AND(F74>=13000,F74<14000)),$J$122,IF((AND(F74>=14000,F74<15000)),$J$123,IF((AND(F74>=15000,F74<16000)),$J$124,IF((AND(F74>=16000,F74<17000)),$J$125,IF((AND(F74>=17000,F74<18000)),$J$126,IF((AND(F74>=18000,F74<19000)),$J$127,IF((AND(F74>=19000,F74<20000)),$J$128,IF((AND(F74>=20000,F74<21000)),$J$129,IF((AND(F74>=21000,F74<22000)),$J$130,IF((AND(F74>=22000,F74<23000)),$J$131,IF((AND(F74>=23000,F74<24000)),$J$132,IF((AND(F74>=24000,F74<25000)),$J$133,IF((AND(F74>=25000,F74<26000)),$J$134,IF((AND(F74>=26000,F74<27000)),$J$135,IF((AND(F74>=27000,F74<28000)),$J$136,IF((AND(F74>=28000,F74<29000)),$J$137,IF((AND(F74>=29000,F74<30000)),$J$138,IF((AND(F74>=30000,F74<31000)),$J$139,IF((AND(F74>=31000,F74<32000)),$J$140,IF((AND(F74>=32000,F74<33000)),$J$141,IF((AND(F74>=33000,F74<34000)),$J$142,IF((AND(F74>=34000,F74<35000)),$J$143,IF((AND(F74>=35000,F74<36000)),$J$144,IF((AND(F74>=36000,F74<37000)),$J$145,IF((AND(F74>=37000,F74<38000)),$J$146,IF((AND(F74>=38000,F74<39000)),$J$147,IF((AND(F74>=39000,F74<40000)),$J$148,IF((AND(F74>=40000,F74<41000)),$J$149,IF((AND(F74>=41000,F74<42000)),$J$150,IF((AND(F74>=42000,F74<43000)),$J$151,IF((AND(F74>=43000,F74<44000)),$J$152,IF((AND(F74>=44000,F74<45000)),$J$153,IF((AND(F74>=45000,F74<46000)),$J$154,IF((AND(F74>=46000,F74<47000)),$J$155,IF((AND(F74>=47000,F74<48000)),$J$156,IF((AND(F74>=48000,F74<49000)),$J$157,IF((AND(F74>=49000,F74<50000)),$J$158,IF((AND(F74>=50000,F74<51000)),$J$159,IF((AND(F74>=51000,F74<52000)),$J$160,IF((AND(F74>=52000,F74<53000)),$J$161,IF((AND(F74>=53000,F74<54000)),$J$162,IF((AND(F74>=54000,F74<55000)),$J$163,IF((AND(F74>=55000,F74<56000)),$J$164,IF((AND(F74>=56000,F74<57000)),$J$165,IF((AND(F74>=57000,F74<58000)),$J$166,IF((AND(F74>=58000,F74<59000)),$J$167,IF((AND(F74>=59000,F74<60000)),$J$168,IF((AND(F74>=60000,F74<61000)),$J$169,"0"))))))))))))))))))))))))))))))))))))))))))))))))))))))))) -> 250
A75: 73 | B75: =SUBSTITUTE(TRIM(LEFT(D75,FIND("-",D75&"-")-1))," ","-") -> DDN-1740 | C75: =TRIM(MID(D75,FIND("-",D75)+1,LEN(D75))) -> P15 FEEDER RD. 8 TIBAL-OG STO. TOMAS | D75: DDN 1740 - P15 FEEDER RD. 8 TIBAL-OG STO. TOMAS | E75: JOCELYN BASTANTE | F75: =IFERROR(VLOOKUP($B75,'EOD - SEPTEMBER 28, 2026'!$B$2:$G$991,3,FALSE),0) -> 1638 | G75: =IFERROR(VLOOKUP($B75,'EOD - SEPTEMBER 28, 2026'!$B$2:$G$991,6,FALSE),0) -> 0 | H75: =F75*0.125 -> 204.75 | I75: =F75-G75-H75 -> 1433.25 | J75: =IF((AND(F75>=100,F75<5000)),$J$113,IF((AND(F75>=5000,F75<6000)),$J$114,IF((AND(F75>=6000,F75<7000)),$J$115,IF((AND(F75>=7000,F75<8000)),$J$116,IF((AND(F75>=8000,F75<9000)),$J$117,IF((AND(F75>=9000,F75<10000)),$J$118,IF((AND(F75>=10000,F75<11000)),$J$119,IF((AND(F75>=11000,F75<12000)),$J$120,IF((AND(F75>=12000,F75<13000)),$J$121,IF((AND(F75>=13000,F75<14000)),$J$122,IF((AND(F75>=14000,F75<15000)),$J$123,IF((AND(F75>=15000,F75<16000)),$J$124,IF((AND(F75>=16000,F75<17000)),$J$125,IF((AND(F75>=17000,F75<18000)),$J$126,IF((AND(F75>=18000,F75<19000)),$J$127,IF((AND(F75>=19000,F75<20000)),$J$128,IF((AND(F75>=20000,F75<21000)),$J$129,IF((AND(F75>=21000,F75<22000)),$J$130,IF((AND(F75>=22000,F75<23000)),$J$131,IF((AND(F75>=23000,F75<24000)),$J$132,IF((AND(F75>=24000,F75<25000)),$J$133,IF((AND(F75>=25000,F75<26000)),$J$134,IF((AND(F75>=26000,F75<27000)),$J$135,IF((AND(F75>=27000,F75<28000)),$J$136,IF((AND(F75>=28000,F75<29000)),$J$137,IF((AND(F75>=29000,F75<30000)),$J$138,IF((AND(F75>=30000,F75<31000)),$J$139,IF((AND(F75>=31000,F75<32000)),$J$140,IF((AND(F75>=32000,F75<33000)),$J$141,IF((AND(F75>=33000,F75<34000)),$J$142,IF((AND(F75>=34000,F75<35000)),$J$143,IF((AND(F75>=35000,F75<36000)),$J$144,IF((AND(F75>=36000,F75<37000)),$J$145,IF((AND(F75>=37000,F75<38000)),$J$146,IF((AND(F75>=38000,F75<39000)),$J$147,IF((AND(F75>=39000,F75<40000)),$J$148,IF((AND(F75>=40000,F75<41000)),$J$149,IF((AND(F75>=41000,F75<42000)),$J$150,IF((AND(F75>=42000,F75<43000)),$J$151,IF((AND(F75>=43000,F75<44000)),$J$152,IF((AND(F75>=44000,F75<45000)),$J$153,IF((AND(F75>=45000,F75<46000)),$J$154,IF((AND(F75>=46000,F75<47000)),$J$155,IF((AND(F75>=47000,F75<48000)),$J$156,IF((AND(F75>=48000,F75<49000)),$J$157,IF((AND(F75>=49000,F75<50000)),$J$158,IF((AND(F75>=50000,F75<51000)),$J$159,IF((AND(F75>=51000,F75<52000)),$J$160,IF((AND(F75>=52000,F75<53000)),$J$161,IF((AND(F75>=53000,F75<54000)),$J$162,IF((AND(F75>=54000,F75<55000)),$J$163,IF((AND(F75>=55000,F75<56000)),$J$164,IF((AND(F75>=56000,F75<57000)),$J$165,IF((AND(F75>=57000,F75<58000)),$J$166,IF((AND(F75>=58000,F75<59000)),$J$167,IF((AND(F75>=59000,F75<60000)),$J$168,IF((AND(F75>=60000,F75<61000)),$J$169,"0"))))))))))))))))))))))))))))))))))))))))))))))))))))))))) -> 250
A76: 74 | B76: =SUBSTITUTE(TRIM(LEFT(D76,FIND("-",D76&"-")-1))," ","-") -> DDN-1741 | C76: =TRIM(MID(D76,FIND("-",D76)+1,LEN(D76))) -> P16 BULAHAN TIBAL-OG STO. TOMAS | D76: DDN 1741- P16 BULAHAN TIBAL-OG STO. TOMAS | E76: ASHLEY PARAME | F76: =IFERROR(VLOOKUP($B76,'EOD - SEPTEMBER 28, 2026'!$B$2:$G$991,3,FALSE),0) -> 1705 | G76: =IFERROR(VLOOKUP($B76,'EOD - SEPTEMBER 28, 2026'!$B$2:$G$991,6,FALSE),0) -> 0 | H76: =F76*0.125 -> 213.125 | I76: =F76-G76-H76 -> 1491.875 | J76: =IF((AND(F76>=100,F76<5000)),$J$113,IF((AND(F76>=5000,F76<6000)),$J$114,IF((AND(F76>=6000,F76<7000)),$J$115,IF((AND(F76>=7000,F76<8000)),$J$116,IF((AND(F76>=8000,F76<9000)),$J$117,IF((AND(F76>=9000,F76<10000)),$J$118,IF((AND(F76>=10000,F76<11000)),$J$119,IF((AND(F76>=11000,F76<12000)),$J$120,IF((AND(F76>=12000,F76<13000)),$J$121,IF((AND(F76>=13000,F76<14000)),$J$122,IF((AND(F76>=14000,F76<15000)),$J$123,IF((AND(F76>=15000,F76<16000)),$J$124,IF((AND(F76>=16000,F76<17000)),$J$125,IF((AND(F76>=17000,F76<18000)),$J$126,IF((AND(F76>=18000,F76<19000)),$J$127,IF((AND(F76>=19000,F76<20000)),$J$128,IF((AND(F76>=20000,F76<21000)),$J$129,IF((AND(F76>=21000,F76<22000)),$J$130,IF((AND(F76>=22000,F76<23000)),$J$131,IF((AND(F76>=23000,F76<24000)),$J$132,IF((AND(F76>=24000,F76<25000)),$J$133,IF((AND(F76>=25000,F76<26000)),$J$134,IF((AND(F76>=26000,F76<27000)),$J$135,IF((AND(F76>=27000,F76<28000)),$J$136,IF((AND(F76>=28000,F76<29000)),$J$137,IF((AND(F76>=29000,F76<30000)),$J$138,IF((AND(F76>=30000,F76<31000)),$J$139,IF((AND(F76>=31000,F76<32000)),$J$140,IF((AND(F76>=32000,F76<33000)),$J$141,IF((AND(F76>=33000,F76<34000)),$J$142,IF((AND(F76>=34000,F76<35000)),$J$143,IF((AND(F76>=35000,F76<36000)),$J$144,IF((AND(F76>=36000,F76<37000)),$J$145,IF((AND(F76>=37000,F76<38000)),$J$146,IF((AND(F76>=38000,F76<39000)),$J$147,IF((AND(F76>=39000,F76<40000)),$J$148,IF((AND(F76>=40000,F76<41000)),$J$149,IF((AND(F76>=41000,F76<42000)),$J$150,IF((AND(F76>=42000,F76<43000)),$J$151,IF((AND(F76>=43000,F76<44000)),$J$152,IF((AND(F76>=44000,F76<45000)),$J$153,IF((AND(F76>=45000,F76<46000)),$J$154,IF((AND(F76>=46000,F76<47000)),$J$155,IF((AND(F76>=47000,F76<48000)),$J$156,IF((AND(F76>=48000,F76<49000)),$J$157,IF((AND(F76>=49000,F76<50000)),$J$158,IF((AND(F76>=50000,F76<51000)),$J$159,IF((AND(F76>=51000,F76<52000)),$J$160,IF((AND(F76>=52000,F76<53000)),$J$161,IF((AND(F76>=53000,F76<54000)),$J$162,IF((AND(F76>=54000,F76<55000)),$J$163,IF((AND(F76>=55000,F76<56000)),$J$164,IF((AND(F76>=56000,F76<57000)),$J$165,IF((AND(F76>=57000,F76<58000)),$J$166,IF((AND(F76>=58000,F76<59000)),$J$167,IF((AND(F76>=59000,F76<60000)),$J$168,IF((AND(F76>=60000,F76<61000)),$J$169,"0"))))))))))))))))))))))))))))))))))))))))))))))))))))))))) -> 250
A77: 75 | B77: =SUBSTITUTE(TRIM(LEFT(D77,FIND("-",D77&"-")-1))," ","-") -> DDN-1742 | C77: =TRIM(MID(D77,FIND("-",D77)+1,LEN(D77))) -> P16 SAN ISIDRO TIBAL-OG STO TOMAS | D77: DDN 1742 - P16 SAN ISIDRO TIBAL-OG STO TOMAS | E77: HONEY MAE JULITO | F77: =IFERROR(VLOOKUP($B77,'EOD - SEPTEMBER 28, 2026'!$B$2:$G$991,3,FALSE),0) -> 2638 | G77: =IFERROR(VLOOKUP($B77,'EOD - SEPTEMBER 28, 2026'!$B$2:$G$991,6,FALSE),0) -> 800 | H77: =F77*0.125 -> 329.75 | I77: =F77-G77-H77 -> 1508.25 | J77: =IF((AND(F77>=100,F77<5000)),$J$113,IF((AND(F77>=5000,F77<6000)),$J$114,IF((AND(F77>=6000,F77<7000)),$J$115,IF((AND(F77>=7000,F77<8000)),$J$116,IF((AND(F77>=8000,F77<9000)),$J$117,IF((AND(F77>=9000,F77<10000)),$J$118,IF((AND(F77>=10000,F77<11000)),$J$119,IF((AND(F77>=11000,F77<12000)),$J$120,IF((AND(F77>=12000,F77<13000)),$J$121,IF((AND(F77>=13000,F77<14000)),$J$122,IF((AND(F77>=14000,F77<15000)),$J$123,IF((AND(F77>=15000,F77<16000)),$J$124,IF((AND(F77>=16000,F77<17000)),$J$125,IF((AND(F77>=17000,F77<18000)),$J$126,IF((AND(F77>=18000,F77<19000)),$J$127,IF((AND(F77>=19000,F77<20000)),$J$128,IF((AND(F77>=20000,F77<21000)),$J$129,IF((AND(F77>=21000,F77<22000)),$J$130,IF((AND(F77>=22000,F77<23000)),$J$131,IF((AND(F77>=23000,F77<24000)),$J$132,IF((AND(F77>=24000,F77<25000)),$J$133,IF((AND(F77>=25000,F77<26000)),$J$134,IF((AND(F77>=26000,F77<27000)),$J$135,IF((AND(F77>=27000,F77<28000)),$J$136,IF((AND(F77>=28000,F77<29000)),$J$137,IF((AND(F77>=29000,F77<30000)),$J$138,IF((AND(F77>=30000,F77<31000)),$J$139,IF((AND(F77>=31000,F77<32000)),$J$140,IF((AND(F77>=32000,F77<33000)),$J$141,IF((AND(F77>=33000,F77<34000)),$J$142,IF((AND(F77>=34000,F77<35000)),$J$143,IF((AND(F77>=35000,F77<36000)),$J$144,IF((AND(F77>=36000,F77<37000)),$J$145,IF((AND(F77>=37000,F77<38000)),$J$146,IF((AND(F77>=38000,F77<39000)),$J$147,IF((AND(F77>=39000,F77<40000)),$J$148,IF((AND(F77>=40000,F77<41000)),$J$149,IF((AND(F77>=41000,F77<42000)),$J$150,IF((AND(F77>=42000,F77<43000)),$J$151,IF((AND(F77>=43000,F77<44000)),$J$152,IF((AND(F77>=44000,F77<45000)),$J$153,IF((AND(F77>=45000,F77<46000)),$J$154,IF((AND(F77>=46000,F77<47000)),$J$155,IF((AND(F77>=47000,F77<48000)),$J$156,IF((AND(F77>=48000,F77<49000)),$J$157,IF((AND(F77>=49000,F77<50000)),$J$158,IF((AND(F77>=50000,F77<51000)),$J$159,IF((AND(F77>=51000,F77<52000)),$J$160,IF((AND(F77>=52000,F77<53000)),$J$161,IF((AND(F77>=53000,F77<54000)),$J$162,IF((AND(F77>=54000,F77<55000)),$J$163,IF((AND(F77>=55000,F77<56000)),$J$164,IF((AND(F77>=56000,F77<57000)),$J$165,IF((AND(F77>=57000,F77<58000)),$J$166,IF((AND(F77>=58000,F77<59000)),$J$167,IF((AND(F77>=59000,F77<60000)),$J$168,IF((AND(F77>=60000,F77<61000)),$J$169,"0"))))))))))))))))))))))))))))))))))))))))))))))))))))))))) -> 250
A78: 76 | B78: =SUBSTITUTE(TRIM(LEFT(D78,FIND("-",D78&"-")-1))," ","-") -> DDN-1743 | C78: =TRIM(MID(D78,FIND("-",D78)+1,LEN(D78))) -> P15 FEEDER RD 9. TIBAL-OG STO. TOMAS | D78: DDN 1743- P15 FEEDER RD 9. TIBAL-OG STO. TOMAS | E78: MICHELLE DELA PEÑA | F78: =IFERROR(VLOOKUP($B78,'EOD - SEPTEMBER 28, 2026'!$B$2:$G$991,3,FALSE),0) -> 4108 | G78: =IFERROR(VLOOKUP($B78,'EOD - SEPTEMBER 28, 2026'!$B$2:$G$991,6,FALSE),0) -> 0 | H78: =F78*0.125 -> 513.5 | I78: =F78-G78-H78 -> 3594.5 | J78: =IF((AND(F78>=100,F78<5000)),$J$113,IF((AND(F78>=5000,F78<6000)),$J$114,IF((AND(F78>=6000,F78<7000)),$J$115,IF((AND(F78>=7000,F78<8000)),$J$116,IF((AND(F78>=8000,F78<9000)),$J$117,IF((AND(F78>=9000,F78<10000)),$J$118,IF((AND(F78>=10000,F78<11000)),$J$119,IF((AND(F78>=11000,F78<12000)),$J$120,IF((AND(F78>=12000,F78<13000)),$J$121,IF((AND(F78>=13000,F78<14000)),$J$122,IF((AND(F78>=14000,F78<15000)),$J$123,IF((AND(F78>=15000,F78<16000)),$J$124,IF((AND(F78>=16000,F78<17000)),$J$125,IF((AND(F78>=17000,F78<18000)),$J$126,IF((AND(F78>=18000,F78<19000)),$J$127,IF((AND(F78>=19000,F78<20000)),$J$128,IF((AND(F78>=20000,F78<21000)),$J$129,IF((AND(F78>=21000,F78<22000)),$J$130,IF((AND(F78>=22000,F78<23000)),$J$131,IF((AND(F78>=23000,F78<24000)),$J$132,IF((AND(F78>=24000,F78<25000)),$J$133,IF((AND(F78>=25000,F78<26000)),$J$134,IF((AND(F78>=26000,F78<27000)),$J$135,IF((AND(F78>=27000,F78<28000)),$J$136,IF((AND(F78>=28000,F78<29000)),$J$137,IF((AND(F78>=29000,F78<30000)),$J$138,IF((AND(F78>=30000,F78<31000)),$J$139,IF((AND(F78>=31000,F78<32000)),$J$140,IF((AND(F78>=32000,F78<33000)),$J$141,IF((AND(F78>=33000,F78<34000)),$J$142,IF((AND(F78>=34000,F78<35000)),$J$143,IF((AND(F78>=35000,F78<36000)),$J$144,IF((AND(F78>=36000,F78<37000)),$J$145,IF((AND(F78>=37000,F78<38000)),$J$146,IF((AND(F78>=38000,F78<39000)),$J$147,IF((AND(F78>=39000,F78<40000)),$J$148,IF((AND(F78>=40000,F78<41000)),$J$149,IF((AND(F78>=41000,F78<42000)),$J$150,IF((AND(F78>=42000,F78<43000)),$J$151,IF((AND(F78>=43000,F78<44000)),$J$152,IF((AND(F78>=44000,F78<45000)),$J$153,IF((AND(F78>=45000,F78<46000)),$J$154,IF((AND(F78>=46000,F78<47000)),$J$155,IF((AND(F78>=47000,F78<48000)),$J$156,IF((AND(F78>=48000,F78<49000)),$J$157,IF((AND(F78>=49000,F78<50000)),$J$158,IF((AND(F78>=50000,F78<51000)),$J$159,IF((AND(F78>=51000,F78<52000)),$J$160,IF((AND(F78>=52000,F78<53000)),$J$161,IF((AND(F78>=53000,F78<54000)),$J$162,IF((AND(F78>=54000,F78<55000)),$J$163,IF((AND(F78>=55000,F78<56000)),$J$164,IF((AND(F78>=56000,F78<57000)),$J$165,IF((AND(F78>=57000,F78<58000)),$J$166,IF((AND(F78>=58000,F78<59000)),$J$167,IF((AND(F78>=59000,F78<60000)),$J$168,IF((AND(F78>=60000,F78<61000)),$J$169,"0"))))))))))))))))))))))))))))))))))))))))))))))))))))))))) -> 250
A79: 77 | B79: =SUBSTITUTE(TRIM(LEFT(D79,FIND("-",D79&"-")-1))," ","-") -> DDN-1750 | C79: =TRIM(MID(D79,FIND("-",D79)+1,LEN(D79))) -> P7 CACAO, PANABO | D79: DDN 1750 -P7 CACAO, PANABO | F79: =IFERROR(VLOOKUP($B79,'EOD - SEPTEMBER 28, 2026'!$B$2:$G$991,3,FALSE),0) -> 0 | G79: =IFERROR(VLOOKUP($B79,'EOD - SEPTEMBER 28, 2026'!$B$2:$G$991,6,FALSE),0) -> 0 | H79: =F79*0.125 -> 0 | I79: =F79-G79-H79 -> 0 | J79: =IF((AND(F79>=100,F79<5000)),$J$113,IF((AND(F79>=5000,F79<6000)),$J$114,IF((AND(F79>=6000,F79<7000)),$J$115,IF((AND(F79>=7000,F79<8000)),$J$116,IF((AND(F79>=8000,F79<9000)),$J$117,IF((AND(F79>=9000,F79<10000)),$J$118,IF((AND(F79>=10000,F79<11000)),$J$119,IF((AND(F79>=11000,F79<12000)),$J$120,IF((AND(F79>=12000,F79<13000)),$J$121,IF((AND(F79>=13000,F79<14000)),$J$122,IF((AND(F79>=14000,F79<15000)),$J$123,IF((AND(F79>=15000,F79<16000)),$J$124,IF((AND(F79>=16000,F79<17000)),$J$125,IF((AND(F79>=17000,F79<18000)),$J$126,IF((AND(F79>=18000,F79<19000)),$J$127,IF((AND(F79>=19000,F79<20000)),$J$128,IF((AND(F79>=20000,F79<21000)),$J$129,IF((AND(F79>=21000,F79<22000)),$J$130,IF((AND(F79>=22000,F79<23000)),$J$131,IF((AND(F79>=23000,F79<24000)),$J$132,IF((AND(F79>=24000,F79<25000)),$J$133,IF((AND(F79>=25000,F79<26000)),$J$134,IF((AND(F79>=26000,F79<27000)),$J$135,IF((AND(F79>=27000,F79<28000)),$J$136,IF((AND(F79>=28000,F79<29000)),$J$137,IF((AND(F79>=29000,F79<30000)),$J$138,IF((AND(F79>=30000,F79<31000)),$J$139,IF((AND(F79>=31000,F79<32000)),$J$140,IF((AND(F79>=32000,F79<33000)),$J$141,IF((AND(F79>=33000,F79<34000)),$J$142,IF((AND(F79>=34000,F79<35000)),$J$143,IF((AND(F79>=35000,F79<36000)),$J$144,IF((AND(F79>=36000,F79<37000)),$J$145,IF((AND(F79>=37000,F79<38000)),$J$146,IF((AND(F79>=38000,F79<39000)),$J$147,IF((AND(F79>=39000,F79<40000)),$J$148,IF((AND(F79>=40000,F79<41000)),$J$149,IF((AND(F79>=41000,F79<42000)),$J$150,IF((AND(F79>=42000,F79<43000)),$J$151,IF((AND(F79>=43000,F79<44000)),$J$152,IF((AND(F79>=44000,F79<45000)),$J$153,IF((AND(F79>=45000,F79<46000)),$J$154,IF((AND(F79>=46000,F79<47000)),$J$155,IF((AND(F79>=47000,F79<48000)),$J$156,IF((AND(F79>=48000,F79<49000)),$J$157,IF((AND(F79>=49000,F79<50000)),$J$158,IF((AND(F79>=50000,F79<51000)),$J$159,IF((AND(F79>=51000,F79<52000)),$J$160,IF((AND(F79>=52000,F79<53000)),$J$161,IF((AND(F79>=53000,F79<54000)),$J$162,IF((AND(F79>=54000,F79<55000)),$J$163,IF((AND(F79>=55000,F79<56000)),$J$164,IF((AND(F79>=56000,F79<57000)),$J$165,IF((AND(F79>=57000,F79<58000)),$J$166,IF((AND(F79>=58000,F79<59000)),$J$167,IF((AND(F79>=59000,F79<60000)),$J$168,IF((AND(F79>=60000,F79<61000)),$J$169,"0"))))))))))))))))))))))))))))))))))))))))))))))))))))))))) -> 0
A80: 78 | B80: =SUBSTITUTE(TRIM(LEFT(D80,FIND("-",D80&"-")-1))," ","-") -> DDN-1751 | C80: =TRIM(MID(D80,FIND("-",D80)+1,LEN(D80))) -> P2 KATIPUNAN, PANABO | D80: DDN 1751-P2 KATIPUNAN, PANABO | E80: SHEREEL ALO VILLABAS | F80: =IFERROR(VLOOKUP($B80,'EOD - SEPTEMBER 28, 2026'!$B$2:$G$991,3,FALSE),0) -> 2490 | G80: =IFERROR(VLOOKUP($B80,'EOD - SEPTEMBER 28, 2026'!$B$2:$G$991,6,FALSE),0) -> 0 | H80: =F80*0.125 -> 311.25 | I80: =F80-G80-H80 -> 2178.75 | J80: =IF((AND(F80>=100,F80<5000)),$J$113,IF((AND(F80>=5000,F80<6000)),$J$114,IF((AND(F80>=6000,F80<7000)),$J$115,IF((AND(F80>=7000,F80<8000)),$J$116,IF((AND(F80>=8000,F80<9000)),$J$117,IF((AND(F80>=9000,F80<10000)),$J$118,IF((AND(F80>=10000,F80<11000)),$J$119,IF((AND(F80>=11000,F80<12000)),$J$120,IF((AND(F80>=12000,F80<13000)),$J$121,IF((AND(F80>=13000,F80<14000)),$J$122,IF((AND(F80>=14000,F80<15000)),$J$123,IF((AND(F80>=15000,F80<16000)),$J$124,IF((AND(F80>=16000,F80<17000)),$J$125,IF((AND(F80>=17000,F80<18000)),$J$126,IF((AND(F80>=18000,F80<19000)),$J$127,IF((AND(F80>=19000,F80<20000)),$J$128,IF((AND(F80>=20000,F80<21000)),$J$129,IF((AND(F80>=21000,F80<22000)),$J$130,IF((AND(F80>=22000,F80<23000)),$J$131,IF((AND(F80>=23000,F80<24000)),$J$132,IF((AND(F80>=24000,F80<25000)),$J$133,IF((AND(F80>=25000,F80<26000)),$J$134,IF((AND(F80>=26000,F80<27000)),$J$135,IF((AND(F80>=27000,F80<28000)),$J$136,IF((AND(F80>=28000,F80<29000)),$J$137,IF((AND(F80>=29000,F80<30000)),$J$138,IF((AND(F80>=30000,F80<31000)),$J$139,IF((AND(F80>=31000,F80<32000)),$J$140,IF((AND(F80>=32000,F80<33000)),$J$141,IF((AND(F80>=33000,F80<34000)),$J$142,IF((AND(F80>=34000,F80<35000)),$J$143,IF((AND(F80>=35000,F80<36000)),$J$144,IF((AND(F80>=36000,F80<37000)),$J$145,IF((AND(F80>=37000,F80<38000)),$J$146,IF((AND(F80>=38000,F80<39000)),$J$147,IF((AND(F80>=39000,F80<40000)),$J$148,IF((AND(F80>=40000,F80<41000)),$J$149,IF((AND(F80>=41000,F80<42000)),$J$150,IF((AND(F80>=42000,F80<43000)),$J$151,IF((AND(F80>=43000,F80<44000)),$J$152,IF((AND(F80>=44000,F80<45000)),$J$153,IF((AND(F80>=45000,F80<46000)),$J$154,IF((AND(F80>=46000,F80<47000)),$J$155,IF((AND(F80>=47000,F80<48000)),$J$156,IF((AND(F80>=48000,F80<49000)),$J$157,IF((AND(F80>=49000,F80<50000)),$J$158,IF((AND(F80>=50000,F80<51000)),$J$159,IF((AND(F80>=51000,F80<52000)),$J$160,IF((AND(F80>=52000,F80<53000)),$J$161,IF((AND(F80>=53000,F80<54000)),$J$162,IF((AND(F80>=54000,F80<55000)),$J$163,IF((AND(F80>=55000,F80<56000)),$J$164,IF((AND(F80>=56000,F80<57000)),$J$165,IF((AND(F80>=57000,F80<58000)),$J$166,IF((AND(F80>=58000,F80<59000)),$J$167,IF((AND(F80>=59000,F80<60000)),$J$168,IF((AND(F80>=60000,F80<61000)),$J$169,"0"))))))))))))))))))))))))))))))))))))))))))))))))))))))))) -> 250
A81: 79 | B81: =SUBSTITUTE(TRIM(LEFT(D81,FIND("-",D81&"-")-1))," ","-") -> DDN-1752 | C81: =TRIM(MID(D81,FIND("-",D81)+1,LEN(D81))) -> NAKASAKA STO. NIÑO TALAINGOD | D81: DDN 1752- NAKASAKA STO. NIÑO TALAINGOD | E81: MAE ANN PARAISO | F81: =IFERROR(VLOOKUP($B81,'EOD - SEPTEMBER 28, 2026'!$B$2:$G$991,3,FALSE),0) -> 2485 | G81: =IFERROR(VLOOKUP($B81,'EOD - SEPTEMBER 28, 2026'!$B$2:$G$991,6,FALSE),0) -> 800 | H81: =F81*0.125 -> 310.625 | I81: =F81-G81-H81 -> 1374.375 | J81: =IF((AND(F81>=100,F81<5000)),$J$113,IF((AND(F81>=5000,F81<6000)),$J$114,IF((AND(F81>=6000,F81<7000)),$J$115,IF((AND(F81>=7000,F81<8000)),$J$116,IF((AND(F81>=8000,F81<9000)),$J$117,IF((AND(F81>=9000,F81<10000)),$J$118,IF((AND(F81>=10000,F81<11000)),$J$119,IF((AND(F81>=11000,F81<12000)),$J$120,IF((AND(F81>=12000,F81<13000)),$J$121,IF((AND(F81>=13000,F81<14000)),$J$122,IF((AND(F81>=14000,F81<15000)),$J$123,IF((AND(F81>=15000,F81<16000)),$J$124,IF((AND(F81>=16000,F81<17000)),$J$125,IF((AND(F81>=17000,F81<18000)),$J$126,IF((AND(F81>=18000,F81<19000)),$J$127,IF((AND(F81>=19000,F81<20000)),$J$128,IF((AND(F81>=20000,F81<21000)),$J$129,IF((AND(F81>=21000,F81<22000)),$J$130,IF((AND(F81>=22000,F81<23000)),$J$131,IF((AND(F81>=23000,F81<24000)),$J$132,IF((AND(F81>=24000,F81<25000)),$J$133,IF((AND(F81>=25000,F81<26000)),$J$134,IF((AND(F81>=26000,F81<27000)),$J$135,IF((AND(F81>=27000,F81<28000)),$J$136,IF((AND(F81>=28000,F81<29000)),$J$137,IF((AND(F81>=29000,F81<30000)),$J$138,IF((AND(F81>=30000,F81<31000)),$J$139,IF((AND(F81>=31000,F81<32000)),$J$140,IF((AND(F81>=32000,F81<33000)),$J$141,IF((AND(F81>=33000,F81<34000)),$J$142,IF((AND(F81>=34000,F81<35000)),$J$143,IF((AND(F81>=35000,F81<36000)),$J$144,IF((AND(F81>=36000,F81<37000)),$J$145,IF((AND(F81>=37000,F81<38000)),$J$146,IF((AND(F81>=38000,F81<39000)),$J$147,IF((AND(F81>=39000,F81<40000)),$J$148,IF((AND(F81>=40000,F81<41000)),$J$149,IF((AND(F81>=41000,F81<42000)),$J$150,IF((AND(F81>=42000,F81<43000)),$J$151,IF((AND(F81>=43000,F81<44000)),$J$152,IF((AND(F81>=44000,F81<45000)),$J$153,IF((AND(F81>=45000,F81<46000)),$J$154,IF((AND(F81>=46000,F81<47000)),$J$155,IF((AND(F81>=47000,F81<48000)),$J$156,IF((AND(F81>=48000,F81<49000)),$J$157,IF((AND(F81>=49000,F81<50000)),$J$158,IF((AND(F81>=50000,F81<51000)),$J$159,IF((AND(F81>=51000,F81<52000)),$J$160,IF((AND(F81>=52000,F81<53000)),$J$161,IF((AND(F81>=53000,F81<54000)),$J$162,IF((AND(F81>=54000,F81<55000)),$J$163,IF((AND(F81>=55000,F81<56000)),$J$164,IF((AND(F81>=56000,F81<57000)),$J$165,IF((AND(F81>=57000,F81<58000)),$J$166,IF((AND(F81>=58000,F81<59000)),$J$167,IF((AND(F81>=59000,F81<60000)),$J$168,IF((AND(F81>=60000,F81<61000)),$J$169,"0"))))))))))))))))))))))))))))))))))))))))))))))))))))))))) -> 250
A82: 80 | B82: =SUBSTITUTE(TRIM(LEFT(D82,FIND("-",D82&"-")-1))," ","-") -> DDN-1753 | C82: =TRIM(MID(D82,FIND("-",D82)+1,LEN(D82))) -> P- BALETE, TALOMO, STO. TOMAS | D82: DDN 1753 -P- BALETE, TALOMO, STO. TOMAS | F82: =IFERROR(VLOOKUP($B82,'EOD - SEPTEMBER 28, 2026'!$B$2:$G$991,3,FALSE),0) -> 0 | G82: =IFERROR(VLOOKUP($B82,'EOD - SEPTEMBER 28, 2026'!$B$2:$G$991,6,FALSE),0) -> 0 | H82: =F82*0.125 -> 0 | I82: =F82-G82-H82 -> 0 | J82: =IF((AND(F82>=100,F82<5000)),$J$113,IF((AND(F82>=5000,F82<6000)),$J$114,IF((AND(F82>=6000,F82<7000)),$J$115,IF((AND(F82>=7000,F82<8000)),$J$116,IF((AND(F82>=8000,F82<9000)),$J$117,IF((AND(F82>=9000,F82<10000)),$J$118,IF((AND(F82>=10000,F82<11000)),$J$119,IF((AND(F82>=11000,F82<12000)),$J$120,IF((AND(F82>=12000,F82<13000)),$J$121,IF((AND(F82>=13000,F82<14000)),$J$122,IF((AND(F82>=14000,F82<15000)),$J$123,IF((AND(F82>=15000,F82<16000)),$J$124,IF((AND(F82>=16000,F82<17000)),$J$125,IF((AND(F82>=17000,F82<18000)),$J$126,IF((AND(F82>=18000,F82<19000)),$J$127,IF((AND(F82>=19000,F82<20000)),$J$128,IF((AND(F82>=20000,F82<21000)),$J$129,IF((AND(F82>=21000,F82<22000)),$J$130,IF((AND(F82>=22000,F82<23000)),$J$131,IF((AND(F82>=23000,F82<24000)),$J$132,IF((AND(F82>=24000,F82<25000)),$J$133,IF((AND(F82>=25000,F82<26000)),$J$134,IF((AND(F82>=26000,F82<27000)),$J$135,IF((AND(F82>=27000,F82<28000)),$J$136,IF((AND(F82>=28000,F82<29000)),$J$137,IF((AND(F82>=29000,F82<30000)),$J$138,IF((AND(F82>=30000,F82<31000)),$J$139,IF((AND(F82>=31000,F82<32000)),$J$140,IF((AND(F82>=32000,F82<33000)),$J$141,IF((AND(F82>=33000,F82<34000)),$J$142,IF((AND(F82>=34000,F82<35000)),$J$143,IF((AND(F82>=35000,F82<36000)),$J$144,IF((AND(F82>=36000,F82<37000)),$J$145,IF((AND(F82>=37000,F82<38000)),$J$146,IF((AND(F82>=38000,F82<39000)),$J$147,IF((AND(F82>=39000,F82<40000)),$J$148,IF((AND(F82>=40000,F82<41000)),$J$149,IF((AND(F82>=41000,F82<42000)),$J$150,IF((AND(F82>=42000,F82<43000)),$J$151,IF((AND(F82>=43000,F82<44000)),$J$152,IF((AND(F82>=44000,F82<45000)),$J$153,IF((AND(F82>=45000,F82<46000)),$J$154,IF((AND(F82>=46000,F82<47000)),$J$155,IF((AND(F82>=47000,F82<48000)),$J$156,IF((AND(F82>=48000,F82<49000)),$J$157,IF((AND(F82>=49000,F82<50000)),$J$158,IF((AND(F82>=50000,F82<51000)),$J$159,IF((AND(F82>=51000,F82<52000)),$J$160,IF((AND(F82>=52000,F82<53000)),$J$161,IF((AND(F82>=53000,F82<54000)),$J$162,IF((AND(F82>=54000,F82<55000)),$J$163,IF((AND(F82>=55000,F82<56000)),$J$164,IF((AND(F82>=56000,F82<57000)),$J$165,IF((AND(F82>=57000,F82<58000)),$J$166,IF((AND(F82>=58000,F82<59000)),$J$167,IF((AND(F82>=59000,F82<60000)),$J$168,IF((AND(F82>=60000,F82<61000)),$J$169,"0"))))))))))))))))))))))))))))))))))))))))))))))))))))))))) -> 0
A83: 81 | B83: DDN-1781 | C83: P-1A BINANGAY CEBULANO CARMEN | D83: DDN-1781 P-1A BINANGAY CEBULANO CARMEN | E83: MARILYN DENOYO | F83: =IFERROR(VLOOKUP($B83,'EOD - SEPTEMBER 28, 2026'!$B$2:$G$991,3,FALSE),0) -> 2292 | G83: =IFERROR(VLOOKUP($B83,'EOD - SEPTEMBER 28, 2026'!$B$2:$G$991,6,FALSE),0) -> 0 | H83: =F83*0.125 -> 286.5 | I83: =F83-G83-H83 -> 2005.5 | J83: =IF((AND(F83>=100,F83<5000)),$J$113,IF((AND(F83>=5000,F83<6000)),$J$114,IF((AND(F83>=6000,F83<7000)),$J$115,IF((AND(F83>=7000,F83<8000)),$J$116,IF((AND(F83>=8000,F83<9000)),$J$117,IF((AND(F83>=9000,F83<10000)),$J$118,IF((AND(F83>=10000,F83<11000)),$J$119,IF((AND(F83>=11000,F83<12000)),$J$120,IF((AND(F83>=12000,F83<13000)),$J$121,IF((AND(F83>=13000,F83<14000)),$J$122,IF((AND(F83>=14000,F83<15000)),$J$123,IF((AND(F83>=15000,F83<16000)),$J$124,IF((AND(F83>=16000,F83<17000)),$J$125,IF((AND(F83>=17000,F83<18000)),$J$126,IF((AND(F83>=18000,F83<19000)),$J$127,IF((AND(F83>=19000,F83<20000)),$J$128,IF((AND(F83>=20000,F83<21000)),$J$129,IF((AND(F83>=21000,F83<22000)),$J$130,IF((AND(F83>=22000,F83<23000)),$J$131,IF((AND(F83>=23000,F83<24000)),$J$132,IF((AND(F83>=24000,F83<25000)),$J$133,IF((AND(F83>=25000,F83<26000)),$J$134,IF((AND(F83>=26000,F83<27000)),$J$135,IF((AND(F83>=27000,F83<28000)),$J$136,IF((AND(F83>=28000,F83<29000)),$J$137,IF((AND(F83>=29000,F83<30000)),$J$138,IF((AND(F83>=30000,F83<31000)),$J$139,IF((AND(F83>=31000,F83<32000)),$J$140,IF((AND(F83>=32000,F83<33000)),$J$141,IF((AND(F83>=33000,F83<34000)),$J$142,IF((AND(F83>=34000,F83<35000)),$J$143,IF((AND(F83>=35000,F83<36000)),$J$144,IF((AND(F83>=36000,F83<37000)),$J$145,IF((AND(F83>=37000,F83<38000)),$J$146,IF((AND(F83>=38000,F83<39000)),$J$147,IF((AND(F83>=39000,F83<40000)),$J$148,IF((AND(F83>=40000,F83<41000)),$J$149,IF((AND(F83>=41000,F83<42000)),$J$150,IF((AND(F83>=42000,F83<43000)),$J$151,IF((AND(F83>=43000,F83<44000)),$J$152,IF((AND(F83>=44000,F83<45000)),$J$153,IF((AND(F83>=45000,F83<46000)),$J$154,IF((AND(F83>=46000,F83<47000)),$J$155,IF((AND(F83>=47000,F83<48000)),$J$156,IF((AND(F83>=48000,F83<49000)),$J$157,IF((AND(F83>=49000,F83<50000)),$J$158,IF((AND(F83>=50000,F83<51000)),$J$159,IF((AND(F83>=51000,F83<52000)),$J$160,IF((AND(F83>=52000,F83<53000)),$J$161,IF((AND(F83>=53000,F83<54000)),$J$162,IF((AND(F83>=54000,F83<55000)),$J$163,IF((AND(F83>=55000,F83<56000)),$J$164,IF((AND(F83>=56000,F83<57000)),$J$165,IF((AND(F83>=57000,F83<58000)),$J$166,IF((AND(F83>=58000,F83<59000)),$J$167,IF((AND(F83>=59000,F83<60000)),$J$168,IF((AND(F83>=60000,F83<61000)),$J$169,"0"))))))))))))))))))))))))))))))))))))))))))))))))))))))))) -> 250
A84: 82 | B84: DDN-1780 | C84: P-5 TABA CARMEN | D84: DDN-1780 P-5 TABA CARMEN | E84: ESTELA VILLARIAZ FOSTANES | F84: =IFERROR(VLOOKUP($B84,'EOD - SEPTEMBER 28, 2026'!$B$2:$G$991,3,FALSE),0) -> 3508 | G84: =IFERROR(VLOOKUP($B84,'EOD - SEPTEMBER 28, 2026'!$B$2:$G$991,6,FALSE),0) -> 0 | H84: =F84*0.125 -> 438.5 | I84: =F84-G84-H84 -> 3069.5 | J84: =IF((AND(F84>=100,F84<5000)),$J$113,IF((AND(F84>=5000,F84<6000)),$J$114,IF((AND(F84>=6000,F84<7000)),$J$115,IF((AND(F84>=7000,F84<8000)),$J$116,IF((AND(F84>=8000,F84<9000)),$J$117,IF((AND(F84>=9000,F84<10000)),$J$118,IF((AND(F84>=10000,F84<11000)),$J$119,IF((AND(F84>=11000,F84<12000)),$J$120,IF((AND(F84>=12000,F84<13000)),$J$121,IF((AND(F84>=13000,F84<14000)),$J$122,IF((AND(F84>=14000,F84<15000)),$J$123,IF((AND(F84>=15000,F84<16000)),$J$124,IF((AND(F84>=16000,F84<17000)),$J$125,IF((AND(F84>=17000,F84<18000)),$J$126,IF((AND(F84>=18000,F84<19000)),$J$127,IF((AND(F84>=19000,F84<20000)),$J$128,IF((AND(F84>=20000,F84<21000)),$J$129,IF((AND(F84>=21000,F84<22000)),$J$130,IF((AND(F84>=22000,F84<23000)),$J$131,IF((AND(F84>=23000,F84<24000)),$J$132,IF((AND(F84>=24000,F84<25000)),$J$133,IF((AND(F84>=25000,F84<26000)),$J$134,IF((AND(F84>=26000,F84<27000)),$J$135,IF((AND(F84>=27000,F84<28000)),$J$136,IF((AND(F84>=28000,F84<29000)),$J$137,IF((AND(F84>=29000,F84<30000)),$J$138,IF((AND(F84>=30000,F84<31000)),$J$139,IF((AND(F84>=31000,F84<32000)),$J$140,IF((AND(F84>=32000,F84<33000)),$J$141,IF((AND(F84>=33000,F84<34000)),$J$142,IF((AND(F84>=34000,F84<35000)),$J$143,IF((AND(F84>=35000,F84<36000)),$J$144,IF((AND(F84>=36000,F84<37000)),$J$145,IF((AND(F84>=37000,F84<38000)),$J$146,IF((AND(F84>=38000,F84<39000)),$J$147,IF((AND(F84>=39000,F84<40000)),$J$148,IF((AND(F84>=40000,F84<41000)),$J$149,IF((AND(F84>=41000,F84<42000)),$J$150,IF((AND(F84>=42000,F84<43000)),$J$151,IF((AND(F84>=43000,F84<44000)),$J$152,IF((AND(F84>=44000,F84<45000)),$J$153,IF((AND(F84>=45000,F84<46000)),$J$154,IF((AND(F84>=46000,F84<47000)),$J$155,IF((AND(F84>=47000,F84<48000)),$J$156,IF((AND(F84>=48000,F84<49000)),$J$157,IF((AND(F84>=49000,F84<50000)),$J$158,IF((AND(F84>=50000,F84<51000)),$J$159,IF((AND(F84>=51000,F84<52000)),$J$160,IF((AND(F84>=52000,F84<53000)),$J$161,IF((AND(F84>=53000,F84<54000)),$J$162,IF((AND(F84>=54000,F84<55000)),$J$163,IF((AND(F84>=55000,F84<56000)),$J$164,IF((AND(F84>=56000,F84<57000)),$J$165,IF((AND(F84>=57000,F84<58000)),$J$166,IF((AND(F84>=58000,F84<59000)),$J$167,IF((AND(F84>=59000,F84<60000)),$J$168,IF((AND(F84>=60000,F84<61000)),$J$169,"0"))))))))))))))))))))))))))))))))))))))))))))))))))))))))) -> 250
A85: 83 | B85: DDN-1779 | C85: P-6 TABA CARMEN | D85: DDN-1779 P-6 TABA CARMEN | E85: Rowena Busain Ibarra | F85: =IFERROR(VLOOKUP($B85,'EOD - SEPTEMBER 28, 2026'!$B$2:$G$991,3,FALSE),0) -> 4701 | G85: =IFERROR(VLOOKUP($B85,'EOD - SEPTEMBER 28, 2026'!$B$2:$G$991,6,FALSE),0) -> 0 | H85: =F85*0.125 -> 587.625 | I85: =F85-G85-H85 -> 4113.375 | J85: =IF((AND(F85>=100,F85<5000)),$J$113,IF((AND(F85>=5000,F85<6000)),$J$114,IF((AND(F85>=6000,F85<7000)),$J$115,IF((AND(F85>=7000,F85<8000)),$J$116,IF((AND(F85>=8000,F85<9000)),$J$117,IF((AND(F85>=9000,F85<10000)),$J$118,IF((AND(F85>=10000,F85<11000)),$J$119,IF((AND(F85>=11000,F85<12000)),$J$120,IF((AND(F85>=12000,F85<13000)),$J$121,IF((AND(F85>=13000,F85<14000)),$J$122,IF((AND(F85>=14000,F85<15000)),$J$123,IF((AND(F85>=15000,F85<16000)),$J$124,IF((AND(F85>=16000,F85<17000)),$J$125,IF((AND(F85>=17000,F85<18000)),$J$126,IF((AND(F85>=18000,F85<19000)),$J$127,IF((AND(F85>=19000,F85<20000)),$J$128,IF((AND(F85>=20000,F85<21000)),$J$129,IF((AND(F85>=21000,F85<22000)),$J$130,IF((AND(F85>=22000,F85<23000)),$J$131,IF((AND(F85>=23000,F85<24000)),$J$132,IF((AND(F85>=24000,F85<25000)),$J$133,IF((AND(F85>=25000,F85<26000)),$J$134,IF((AND(F85>=26000,F85<27000)),$J$135,IF((AND(F85>=27000,F85<28000)),$J$136,IF((AND(F85>=28000,F85<29000)),$J$137,IF((AND(F85>=29000,F85<30000)),$J$138,IF((AND(F85>=30000,F85<31000)),$J$139,IF((AND(F85>=31000,F85<32000)),$J$140,IF((AND(F85>=32000,F85<33000)),$J$141,IF((AND(F85>=33000,F85<34000)),$J$142,IF((AND(F85>=34000,F85<35000)),$J$143,IF((AND(F85>=35000,F85<36000)),$J$144,IF((AND(F85>=36000,F85<37000)),$J$145,IF((AND(F85>=37000,F85<38000)),$J$146,IF((AND(F85>=38000,F85<39000)),$J$147,IF((AND(F85>=39000,F85<40000)),$J$148,IF((AND(F85>=40000,F85<41000)),$J$149,IF((AND(F85>=41000,F85<42000)),$J$150,IF((AND(F85>=42000,F85<43000)),$J$151,IF((AND(F85>=43000,F85<44000)),$J$152,IF((AND(F85>=44000,F85<45000)),$J$153,IF((AND(F85>=45000,F85<46000)),$J$154,IF((AND(F85>=46000,F85<47000)),$J$155,IF((AND(F85>=47000,F85<48000)),$J$156,IF((AND(F85>=48000,F85<49000)),$J$157,IF((AND(F85>=49000,F85<50000)),$J$158,IF((AND(F85>=50000,F85<51000)),$J$159,IF((AND(F85>=51000,F85<52000)),$J$160,IF((AND(F85>=52000,F85<53000)),$J$161,IF((AND(F85>=53000,F85<54000)),$J$162,IF((AND(F85>=54000,F85<55000)),$J$163,IF((AND(F85>=55000,F85<56000)),$J$164,IF((AND(F85>=56000,F85<57000)),$J$165,IF((AND(F85>=57000,F85<58000)),$J$166,IF((AND(F85>=58000,F85<59000)),$J$167,IF((AND(F85>=59000,F85<60000)),$J$168,IF((AND(F85>=60000,F85<61000)),$J$169,"0"))))))))))))))))))))))))))))))))))))))))))))))))))))))))) -> 250
A86: 84 | B86: DDN-1778 | C86: P-BANANA MANKILAM TAGUM | D86: DDN- 1778 P-BANANA MANKILAM TAGUM | E86: MARY JOLINE SANICO RAMO | F86: =IFERROR(VLOOKUP($B86,'EOD - SEPTEMBER 28, 2026'!$B$2:$G$991,3,FALSE),0) -> 1736 | G86: =IFERROR(VLOOKUP($B86,'EOD - SEPTEMBER 28, 2026'!$B$2:$G$991,6,FALSE),0) -> 0 | H86: =F86*0.125 -> 217 | I86: =F86-G86-H86 -> 1519 | J86: =IF((AND(F86>=100,F86<5000)),$J$113,IF((AND(F86>=5000,F86<6000)),$J$114,IF((AND(F86>=6000,F86<7000)),$J$115,IF((AND(F86>=7000,F86<8000)),$J$116,IF((AND(F86>=8000,F86<9000)),$J$117,IF((AND(F86>=9000,F86<10000)),$J$118,IF((AND(F86>=10000,F86<11000)),$J$119,IF((AND(F86>=11000,F86<12000)),$J$120,IF((AND(F86>=12000,F86<13000)),$J$121,IF((AND(F86>=13000,F86<14000)),$J$122,IF((AND(F86>=14000,F86<15000)),$J$123,IF((AND(F86>=15000,F86<16000)),$J$124,IF((AND(F86>=16000,F86<17000)),$J$125,IF((AND(F86>=17000,F86<18000)),$J$126,IF((AND(F86>=18000,F86<19000)),$J$127,IF((AND(F86>=19000,F86<20000)),$J$128,IF((AND(F86>=20000,F86<21000)),$J$129,IF((AND(F86>=21000,F86<22000)),$J$130,IF((AND(F86>=22000,F86<23000)),$J$131,IF((AND(F86>=23000,F86<24000)),$J$132,IF((AND(F86>=24000,F86<25000)),$J$133,IF((AND(F86>=25000,F86<26000)),$J$134,IF((AND(F86>=26000,F86<27000)),$J$135,IF((AND(F86>=27000,F86<28000)),$J$136,IF((AND(F86>=28000,F86<29000)),$J$137,IF((AND(F86>=29000,F86<30000)),$J$138,IF((AND(F86>=30000,F86<31000)),$J$139,IF((AND(F86>=31000,F86<32000)),$J$140,IF((AND(F86>=32000,F86<33000)),$J$141,IF((AND(F86>=33000,F86<34000)),$J$142,IF((AND(F86>=34000,F86<35000)),$J$143,IF((AND(F86>=35000,F86<36000)),$J$144,IF((AND(F86>=36000,F86<37000)),$J$145,IF((AND(F86>=37000,F86<38000)),$J$146,IF((AND(F86>=38000,F86<39000)),$J$147,IF((AND(F86>=39000,F86<40000)),$J$148,IF((AND(F86>=40000,F86<41000)),$J$149,IF((AND(F86>=41000,F86<42000)),$J$150,IF((AND(F86>=42000,F86<43000)),$J$151,IF((AND(F86>=43000,F86<44000)),$J$152,IF((AND(F86>=44000,F86<45000)),$J$153,IF((AND(F86>=45000,F86<46000)),$J$154,IF((AND(F86>=46000,F86<47000)),$J$155,IF((AND(F86>=47000,F86<48000)),$J$156,IF((AND(F86>=48000,F86<49000)),$J$157,IF((AND(F86>=49000,F86<50000)),$J$158,IF((AND(F86>=50000,F86<51000)),$J$159,IF((AND(F86>=51000,F86<52000)),$J$160,IF((AND(F86>=52000,F86<53000)),$J$161,IF((AND(F86>=53000,F86<54000)),$J$162,IF((AND(F86>=54000,F86<55000)),$J$163,IF((AND(F86>=55000,F86<56000)),$J$164,IF((AND(F86>=56000,F86<57000)),$J$165,IF((AND(F86>=57000,F86<58000)),$J$166,IF((AND(F86>=58000,F86<59000)),$J$167,IF((AND(F86>=59000,F86<60000)),$J$168,IF((AND(F86>=60000,F86<61000)),$J$169,"0"))))))))))))))))))))))))))))))))))))))))))))))))))))))))) -> 250
A87: 85 | B87: DDN-1784 | C87: PUROK ALAMBRI, SAN ISIDRO, TAGUM CITY | D87: DDN-1784 PUROK ALAMBRI, SAN ISIDRO, TAGUM CITY | E87: AILEEN L. PARADERO | F87: =IFERROR(VLOOKUP($B87,'EOD - SEPTEMBER 28, 2026'!$B$2:$G$991,3,FALSE),0) -> 4246 | G87: =IFERROR(VLOOKUP($B87,'EOD - SEPTEMBER 28, 2026'!$B$2:$G$991,6,FALSE),0) -> 0 | H87: =F87*0.125 -> 530.75 | I87: =F87-G87-H87 -> 3715.25 | J87: =IF((AND(F87>=100,F87<5000)),$J$113,IF((AND(F87>=5000,F87<6000)),$J$114,IF((AND(F87>=6000,F87<7000)),$J$115,IF((AND(F87>=7000,F87<8000)),$J$116,IF((AND(F87>=8000,F87<9000)),$J$117,IF((AND(F87>=9000,F87<10000)),$J$118,IF((AND(F87>=10000,F87<11000)),$J$119,IF((AND(F87>=11000,F87<12000)),$J$120,IF((AND(F87>=12000,F87<13000)),$J$121,IF((AND(F87>=13000,F87<14000)),$J$122,IF((AND(F87>=14000,F87<15000)),$J$123,IF((AND(F87>=15000,F87<16000)),$J$124,IF((AND(F87>=16000,F87<17000)),$J$125,IF((AND(F87>=17000,F87<18000)),$J$126,IF((AND(F87>=18000,F87<19000)),$J$127,IF((AND(F87>=19000,F87<20000)),$J$128,IF((AND(F87>=20000,F87<21000)),$J$129,IF((AND(F87>=21000,F87<22000)),$J$130,IF((AND(F87>=22000,F87<23000)),$J$131,IF((AND(F87>=23000,F87<24000)),$J$132,IF((AND(F87>=24000,F87<25000)),$J$133,IF((AND(F87>=25000,F87<26000)),$J$134,IF((AND(F87>=26000,F87<27000)),$J$135,IF((AND(F87>=27000,F87<28000)),$J$136,IF((AND(F87>=28000,F87<29000)),$J$137,IF((AND(F87>=29000,F87<30000)),$J$138,IF((AND(F87>=30000,F87<31000)),$J$139,IF((AND(F87>=31000,F87<32000)),$J$140,IF((AND(F87>=32000,F87<33000)),$J$141,IF((AND(F87>=33000,F87<34000)),$J$142,IF((AND(F87>=34000,F87<35000)),$J$143,IF((AND(F87>=35000,F87<36000)),$J$144,IF((AND(F87>=36000,F87<37000)),$J$145,IF((AND(F87>=37000,F87<38000)),$J$146,IF((AND(F87>=38000,F87<39000)),$J$147,IF((AND(F87>=39000,F87<40000)),$J$148,IF((AND(F87>=40000,F87<41000)),$J$149,IF((AND(F87>=41000,F87<42000)),$J$150,IF((AND(F87>=42000,F87<43000)),$J$151,IF((AND(F87>=43000,F87<44000)),$J$152,IF((AND(F87>=44000,F87<45000)),$J$153,IF((AND(F87>=45000,F87<46000)),$J$154,IF((AND(F87>=46000,F87<47000)),$J$155,IF((AND(F87>=47000,F87<48000)),$J$156,IF((AND(F87>=48000,F87<49000)),$J$157,IF((AND(F87>=49000,F87<50000)),$J$158,IF((AND(F87>=50000,F87<51000)),$J$159,IF((AND(F87>=51000,F87<52000)),$J$160,IF((AND(F87>=52000,F87<53000)),$J$161,IF((AND(F87>=53000,F87<54000)),$J$162,IF((AND(F87>=54000,F87<55000)),$J$163,IF((AND(F87>=55000,F87<56000)),$J$164,IF((AND(F87>=56000,F87<57000)),$J$165,IF((AND(F87>=57000,F87<58000)),$J$166,IF((AND(F87>=58000,F87<59000)),$J$167,IF((AND(F87>=59000,F87<60000)),$J$168,IF((AND(F87>=60000,F87<61000)),$J$169,"0"))))))))))))))))))))))))))))))))))))))))))))))))))))))))) -> 250
A88: 86 | B88: DDN-1782 | C88: Purok 6 Cebulano, Carmen | D88: DDN-1782 Purok 6, Cebulano, Carmen | E88: Mary Jane Fernandez | F88: =IFERROR(VLOOKUP($B88,'EOD - SEPTEMBER 28, 2026'!$B$2:$G$991,3,FALSE),0) -> 1695 | G88: =IFERROR(VLOOKUP($B88,'EOD - SEPTEMBER 28, 2026'!$B$2:$G$991,6,FALSE),0) -> 0 | H88: =F88*0.125 -> 211.875 | I88: =F88-G88-H88 -> 1483.125 | J88: =IF((AND(F88>=100,F88<5000)),$J$113,IF((AND(F88>=5000,F88<6000)),$J$114,IF((AND(F88>=6000,F88<7000)),$J$115,IF((AND(F88>=7000,F88<8000)),$J$116,IF((AND(F88>=8000,F88<9000)),$J$117,IF((AND(F88>=9000,F88<10000)),$J$118,IF((AND(F88>=10000,F88<11000)),$J$119,IF((AND(F88>=11000,F88<12000)),$J$120,IF((AND(F88>=12000,F88<13000)),$J$121,IF((AND(F88>=13000,F88<14000)),$J$122,IF((AND(F88>=14000,F88<15000)),$J$123,IF((AND(F88>=15000,F88<16000)),$J$124,IF((AND(F88>=16000,F88<17000)),$J$125,IF((AND(F88>=17000,F88<18000)),$J$126,IF((AND(F88>=18000,F88<19000)),$J$127,IF((AND(F88>=19000,F88<20000)),$J$128,IF((AND(F88>=20000,F88<21000)),$J$129,IF((AND(F88>=21000,F88<22000)),$J$130,IF((AND(F88>=22000,F88<23000)),$J$131,IF((AND(F88>=23000,F88<24000)),$J$132,IF((AND(F88>=24000,F88<25000)),$J$133,IF((AND(F88>=25000,F88<26000)),$J$134,IF((AND(F88>=26000,F88<27000)),$J$135,IF((AND(F88>=27000,F88<28000)),$J$136,IF((AND(F88>=28000,F88<29000)),$J$137,IF((AND(F88>=29000,F88<30000)),$J$138,IF((AND(F88>=30000,F88<31000)),$J$139,IF((AND(F88>=31000,F88<32000)),$J$140,IF((AND(F88>=32000,F88<33000)),$J$141,IF((AND(F88>=33000,F88<34000)),$J$142,IF((AND(F88>=34000,F88<35000)),$J$143,IF((AND(F88>=35000,F88<36000)),$J$144,IF((AND(F88>=36000,F88<37000)),$J$145,IF((AND(F88>=37000,F88<38000)),$J$146,IF((AND(F88>=38000,F88<39000)),$J$147,IF((AND(F88>=39000,F88<40000)),$J$148,IF((AND(F88>=40000,F88<41000)),$J$149,IF((AND(F88>=41000,F88<42000)),$J$150,IF((AND(F88>=42000,F88<43000)),$J$151,IF((AND(F88>=43000,F88<44000)),$J$152,IF((AND(F88>=44000,F88<45000)),$J$153,IF((AND(F88>=45000,F88<46000)),$J$154,IF((AND(F88>=46000,F88<47000)),$J$155,IF((AND(F88>=47000,F88<48000)),$J$156,IF((AND(F88>=48000,F88<49000)),$J$157,IF((AND(F88>=49000,F88<50000)),$J$158,IF((AND(F88>=50000,F88<51000)),$J$159,IF((AND(F88>=51000,F88<52000)),$J$160,IF((AND(F88>=52000,F88<53000)),$J$161,IF((AND(F88>=53000,F88<54000)),$J$162,IF((AND(F88>=54000,F88<55000)),$J$163,IF((AND(F88>=55000,F88<56000)),$J$164,IF((AND(F88>=56000,F88<57000)),$J$165,IF((AND(F88>=57000,F88<58000)),$J$166,IF((AND(F88>=58000,F88<59000)),$J$167,IF((AND(F88>=59000,F88<60000)),$J$168,IF((AND(F88>=60000,F88<61000)),$J$169,"0"))))))))))))))))))))))))))))))))))))))))))))))))))))))))) -> 250
A89: 87 | B89: DDN-1783 | C89: PUROK 3 TUBOD CARMEN | D89: DDN-1783 PUROK 3 TUBOD CARMEN | E89: MARIAN CARRILLO | F89: =IFERROR(VLOOKUP($B89,'EOD - SEPTEMBER 28, 2026'!$B$2:$G$991,3,FALSE),0) -> 3765 | G89: =IFERROR(VLOOKUP($B89,'EOD - SEPTEMBER 28, 2026'!$B$2:$G$991,6,FALSE),0) -> 800 | H89: =F89*0.125 -> 470.625 | I89: =F89-G89-H89 -> 2494.375 | J89: =IF((AND(F89>=100,F89<5000)),$J$113,IF((AND(F89>=5000,F89<6000)),$J$114,IF((AND(F89>=6000,F89<7000)),$J$115,IF((AND(F89>=7000,F89<8000)),$J$116,IF((AND(F89>=8000,F89<9000)),$J$117,IF((AND(F89>=9000,F89<10000)),$J$118,IF((AND(F89>=10000,F89<11000)),$J$119,IF((AND(F89>=11000,F89<12000)),$J$120,IF((AND(F89>=12000,F89<13000)),$J$121,IF((AND(F89>=13000,F89<14000)),$J$122,IF((AND(F89>=14000,F89<15000)),$J$123,IF((AND(F89>=15000,F89<16000)),$J$124,IF((AND(F89>=16000,F89<17000)),$J$125,IF((AND(F89>=17000,F89<18000)),$J$126,IF((AND(F89>=18000,F89<19000)),$J$127,IF((AND(F89>=19000,F89<20000)),$J$128,IF((AND(F89>=20000,F89<21000)),$J$129,IF((AND(F89>=21000,F89<22000)),$J$130,IF((AND(F89>=22000,F89<23000)),$J$131,IF((AND(F89>=23000,F89<24000)),$J$132,IF((AND(F89>=24000,F89<25000)),$J$133,IF((AND(F89>=25000,F89<26000)),$J$134,IF((AND(F89>=26000,F89<27000)),$J$135,IF((AND(F89>=27000,F89<28000)),$J$136,IF((AND(F89>=28000,F89<29000)),$J$137,IF((AND(F89>=29000,F89<30000)),$J$138,IF((AND(F89>=30000,F89<31000)),$J$139,IF((AND(F89>=31000,F89<32000)),$J$140,IF((AND(F89>=32000,F89<33000)),$J$141,IF((AND(F89>=33000,F89<34000)),$J$142,IF((AND(F89>=34000,F89<35000)),$J$143,IF((AND(F89>=35000,F89<36000)),$J$144,IF((AND(F89>=36000,F89<37000)),$J$145,IF((AND(F89>=37000,F89<38000)),$J$146,IF((AND(F89>=38000,F89<39000)),$J$147,IF((AND(F89>=39000,F89<40000)),$J$148,IF((AND(F89>=40000,F89<41000)),$J$149,IF((AND(F89>=41000,F89<42000)),$J$150,IF((AND(F89>=42000,F89<43000)),$J$151,IF((AND(F89>=43000,F89<44000)),$J$152,IF((AND(F89>=44000,F89<45000)),$J$153,IF((AND(F89>=45000,F89<46000)),$J$154,IF((AND(F89>=46000,F89<47000)),$J$155,IF((AND(F89>=47000,F89<48000)),$J$156,IF((AND(F89>=48000,F89<49000)),$J$157,IF((AND(F89>=49000,F89<50000)),$J$158,IF((AND(F89>=50000,F89<51000)),$J$159,IF((AND(F89>=51000,F89<52000)),$J$160,IF((AND(F89>=52000,F89<53000)),$J$161,IF((AND(F89>=53000,F89<54000)),$J$162,IF((AND(F89>=54000,F89<55000)),$J$163,IF((AND(F89>=55000,F89<56000)),$J$164,IF((AND(F89>=56000,F89<57000)),$J$165,IF((AND(F89>=57000,F89<58000)),$J$166,IF((AND(F89>=58000,F89<59000)),$J$167,IF((AND(F89>=59000,F89<60000)),$J$168,IF((AND(F89>=60000,F89<61000)),$J$169,"0"))))))))))))))))))))))))))))))))))))))))))))))))))))))))) -> 250
A90: 88 | B90: DDN-1823 | C90: Purok 3A Upper Tubod Carmen Davao del Norte | D90: =B90&" "&C90 -> DDN-1823 Purok 3A Upper Tubod Carmen Davao del Norte | E90: Precious Nica Torrefiel | F90: =IFERROR(VLOOKUP($B90,'EOD - SEPTEMBER 28, 2026'!$B$2:$G$991,3,FALSE),0) -> 740 | G90: =IFERROR(VLOOKUP($B90,'EOD - SEPTEMBER 28, 2026'!$B$2:$G$991,6,FALSE),0) -> 0 | H90: =F90*0.125 -> 92.5 | I90: =F90-G90-H90 -> 647.5 | J90: =IF((AND(F90>=100,F90<5000)),$J$113,IF((AND(F90>=5000,F90<6000)),$J$114,IF((AND(F90>=6000,F90<7000)),$J$115,IF((AND(F90>=7000,F90<8000)),$J$116,IF((AND(F90>=8000,F90<9000)),$J$117,IF((AND(F90>=9000,F90<10000)),$J$118,IF((AND(F90>=10000,F90<11000)),$J$119,IF((AND(F90>=11000,F90<12000)),$J$120,IF((AND(F90>=12000,F90<13000)),$J$121,IF((AND(F90>=13000,F90<14000)),$J$122,IF((AND(F90>=14000,F90<15000)),$J$123,IF((AND(F90>=15000,F90<16000)),$J$124,IF((AND(F90>=16000,F90<17000)),$J$125,IF((AND(F90>=17000,F90<18000)),$J$126,IF((AND(F90>=18000,F90<19000)),$J$127,IF((AND(F90>=19000,F90<20000)),$J$128,IF((AND(F90>=20000,F90<21000)),$J$129,IF((AND(F90>=21000,F90<22000)),$J$130,IF((AND(F90>=22000,F90<23000)),$J$131,IF((AND(F90>=23000,F90<24000)),$J$132,IF((AND(F90>=24000,F90<25000)),$J$133,IF((AND(F90>=25000,F90<26000)),$J$134,IF((AND(F90>=26000,F90<27000)),$J$135,IF((AND(F90>=27000,F90<28000)),$J$136,IF((AND(F90>=28000,F90<29000)),$J$137,IF((AND(F90>=29000,F90<30000)),$J$138,IF((AND(F90>=30000,F90<31000)),$J$139,IF((AND(F90>=31000,F90<32000)),$J$140,IF((AND(F90>=32000,F90<33000)),$J$141,IF((AND(F90>=33000,F90<34000)),$J$142,IF((AND(F90>=34000,F90<35000)),$J$143,IF((AND(F90>=35000,F90<36000)),$J$144,IF((AND(F90>=36000,F90<37000)),$J$145,IF((AND(F90>=37000,F90<38000)),$J$146,IF((AND(F90>=38000,F90<39000)),$J$147,IF((AND(F90>=39000,F90<40000)),$J$148,IF((AND(F90>=40000,F90<41000)),$J$149,IF((AND(F90>=41000,F90<42000)),$J$150,IF((AND(F90>=42000,F90<43000)),$J$151,IF((AND(F90>=43000,F90<44000)),$J$152,IF((AND(F90>=44000,F90<45000)),$J$153,IF((AND(F90>=45000,F90<46000)),$J$154,IF((AND(F90>=46000,F90<47000)),$J$155,IF((AND(F90>=47000,F90<48000)),$J$156,IF((AND(F90>=48000,F90<49000)),$J$157,IF((AND(F90>=49000,F90<50000)),$J$158,IF((AND(F90>=50000,F90<51000)),$J$159,IF((AND(F90>=51000,F90<52000)),$J$160,IF((AND(F90>=52000,F90<53000)),$J$161,IF((AND(F90>=53000,F90<54000)),$J$162,IF((AND(F90>=54000,F90<55000)),$J$163,IF((AND(F90>=55000,F90<56000)),$J$164,IF((AND(F90>=56000,F90<57000)),$J$165,IF((AND(F90>=57000,F90<58000)),$J$166,IF((AND(F90>=58000,F90<59000)),$J$167,IF((AND(F90>=59000,F90<60000)),$J$168,IF((AND(F90>=60000,F90<61000)),$J$169,"0"))))))))))))))))))))))))))))))))))))))))))))))))))))))))) -> 250
A91: 89 | B91: DDN-1824 | C91: Purok 2 Crossing Pilar Southern Davao Panabo City | D91: =B91&" "&C91 -> DDN-1824 Purok 2 Crossing Pilar Southern Davao Panabo City | E91: Carog Ann | F91: =IFERROR(VLOOKUP($B91,'EOD - SEPTEMBER 28, 2026'!$B$2:$G$991,3,FALSE),0) -> 3750 | G91: =IFERROR(VLOOKUP($B91,'EOD - SEPTEMBER 28, 2026'!$B$2:$G$991,6,FALSE),0) -> 0 | H91: =F91*0.125 -> 468.75 | I91: =F91-G91-H91 -> 3281.25 | J91: =IF((AND(F91>=100,F91<5000)),$J$113,IF((AND(F91>=5000,F91<6000)),$J$114,IF((AND(F91>=6000,F91<7000)),$J$115,IF((AND(F91>=7000,F91<8000)),$J$116,IF((AND(F91>=8000,F91<9000)),$J$117,IF((AND(F91>=9000,F91<10000)),$J$118,IF((AND(F91>=10000,F91<11000)),$J$119,IF((AND(F91>=11000,F91<12000)),$J$120,IF((AND(F91>=12000,F91<13000)),$J$121,IF((AND(F91>=13000,F91<14000)),$J$122,IF((AND(F91>=14000,F91<15000)),$J$123,IF((AND(F91>=15000,F91<16000)),$J$124,IF((AND(F91>=16000,F91<17000)),$J$125,IF((AND(F91>=17000,F91<18000)),$J$126,IF((AND(F91>=18000,F91<19000)),$J$127,IF((AND(F91>=19000,F91<20000)),$J$128,IF((AND(F91>=20000,F91<21000)),$J$129,IF((AND(F91>=21000,F91<22000)),$J$130,IF((AND(F91>=22000,F91<23000)),$J$131,IF((AND(F91>=23000,F91<24000)),$J$132,IF((AND(F91>=24000,F91<25000)),$J$133,IF((AND(F91>=25000,F91<26000)),$J$134,IF((AND(F91>=26000,F91<27000)),$J$135,IF((AND(F91>=27000,F91<28000)),$J$136,IF((AND(F91>=28000,F91<29000)),$J$137,IF((AND(F91>=29000,F91<30000)),$J$138,IF((AND(F91>=30000,F91<31000)),$J$139,IF((AND(F91>=31000,F91<32000)),$J$140,IF((AND(F91>=32000,F91<33000)),$J$141,IF((AND(F91>=33000,F91<34000)),$J$142,IF((AND(F91>=34000,F91<35000)),$J$143,IF((AND(F91>=35000,F91<36000)),$J$144,IF((AND(F91>=36000,F91<37000)),$J$145,IF((AND(F91>=37000,F91<38000)),$J$146,IF((AND(F91>=38000,F91<39000)),$J$147,IF((AND(F91>=39000,F91<40000)),$J$148,IF((AND(F91>=40000,F91<41000)),$J$149,IF((AND(F91>=41000,F91<42000)),$J$150,IF((AND(F91>=42000,F91<43000)),$J$151,IF((AND(F91>=43000,F91<44000)),$J$152,IF((AND(F91>=44000,F91<45000)),$J$153,IF((AND(F91>=45000,F91<46000)),$J$154,IF((AND(F91>=46000,F91<47000)),$J$155,IF((AND(F91>=47000,F91<48000)),$J$156,IF((AND(F91>=48000,F91<49000)),$J$157,IF((AND(F91>=49000,F91<50000)),$J$158,IF((AND(F91>=50000,F91<51000)),$J$159,IF((AND(F91>=51000,F91<52000)),$J$160,IF((AND(F91>=52000,F91<53000)),$J$161,IF((AND(F91>=53000,F91<54000)),$J$162,IF((AND(F91>=54000,F91<55000)),$J$163,IF((AND(F91>=55000,F91<56000)),$J$164,IF((AND(F91>=56000,F91<57000)),$J$165,IF((AND(F91>=57000,F91<58000)),$J$166,IF((AND(F91>=58000,F91<59000)),$J$167,IF((AND(F91>=59000,F91<60000)),$J$168,IF((AND(F91>=60000,F91<61000)),$J$169,"0"))))))))))))))))))))))))))))))))))))))))))))))))))))))))) -> 250
A92: 90 | B92: DDN-1825 | C92: Purok 1 Durian New Visayas Panabo City | D92: =B92&" "&C92 -> DDN-1825 Purok 1 Durian New Visayas Panabo City | F92: =IFERROR(VLOOKUP($B92,'EOD - SEPTEMBER 28, 2026'!$B$2:$G$991,3,FALSE),0) -> 0 | G92: =IFERROR(VLOOKUP($B92,'EOD - SEPTEMBER 28, 2026'!$B$2:$G$991,6,FALSE),0) -> 0 | H92: =F92*0.125 -> 0 | I92: =F92-G92-H92 -> 0 | J92: =IF((AND(F92>=100,F92<5000)),$J$113,IF((AND(F92>=5000,F92<6000)),$J$114,IF((AND(F92>=6000,F92<7000)),$J$115,IF((AND(F92>=7000,F92<8000)),$J$116,IF((AND(F92>=8000,F92<9000)),$J$117,IF((AND(F92>=9000,F92<10000)),$J$118,IF((AND(F92>=10000,F92<11000)),$J$119,IF((AND(F92>=11000,F92<12000)),$J$120,IF((AND(F92>=12000,F92<13000)),$J$121,IF((AND(F92>=13000,F92<14000)),$J$122,IF((AND(F92>=14000,F92<15000)),$J$123,IF((AND(F92>=15000,F92<16000)),$J$124,IF((AND(F92>=16000,F92<17000)),$J$125,IF((AND(F92>=17000,F92<18000)),$J$126,IF((AND(F92>=18000,F92<19000)),$J$127,IF((AND(F92>=19000,F92<20000)),$J$128,IF((AND(F92>=20000,F92<21000)),$J$129,IF((AND(F92>=21000,F92<22000)),$J$130,IF((AND(F92>=22000,F92<23000)),$J$131,IF((AND(F92>=23000,F92<24000)),$J$132,IF((AND(F92>=24000,F92<25000)),$J$133,IF((AND(F92>=25000,F92<26000)),$J$134,IF((AND(F92>=26000,F92<27000)),$J$135,IF((AND(F92>=27000,F92<28000)),$J$136,IF((AND(F92>=28000,F92<29000)),$J$137,IF((AND(F92>=29000,F92<30000)),$J$138,IF((AND(F92>=30000,F92<31000)),$J$139,IF((AND(F92>=31000,F92<32000)),$J$140,IF((AND(F92>=32000,F92<33000)),$J$141,IF((AND(F92>=33000,F92<34000)),$J$142,IF((AND(F92>=34000,F92<35000)),$J$143,IF((AND(F92>=35000,F92<36000)),$J$144,IF((AND(F92>=36000,F92<37000)),$J$145,IF((AND(F92>=37000,F92<38000)),$J$146,IF((AND(F92>=38000,F92<39000)),$J$147,IF((AND(F92>=39000,F92<40000)),$J$148,IF((AND(F92>=40000,F92<41000)),$J$149,IF((AND(F92>=41000,F92<42000)),$J$150,IF((AND(F92>=42000,F92<43000)),$J$151,IF((AND(F92>=43000,F92<44000)),$J$152,IF((AND(F92>=44000,F92<45000)),$J$153,IF((AND(F92>=45000,F92<46000)),$J$154,IF((AND(F92>=46000,F92<47000)),$J$155,IF((AND(F92>=47000,F92<48000)),$J$156,IF((AND(F92>=48000,F92<49000)),$J$157,IF((AND(F92>=49000,F92<50000)),$J$158,IF((AND(F92>=50000,F92<51000)),$J$159,IF((AND(F92>=51000,F92<52000)),$J$160,IF((AND(F92>=52000,F92<53000)),$J$161,IF((AND(F92>=53000,F92<54000)),$J$162,IF((AND(F92>=54000,F92<55000)),$J$163,IF((AND(F92>=55000,F92<56000)),$J$164,IF((AND(F92>=56000,F92<57000)),$J$165,IF((AND(F92>=57000,F92<58000)),$J$166,IF((AND(F92>=58000,F92<59000)),$J$167,IF((AND(F92>=59000,F92<60000)),$J$168,IF((AND(F92>=60000,F92<61000)),$J$169,"0"))))))))))))))))))))))))))))))))))))))))))))))))))))))))) -> 0
A93: 91 | B93: DDN-1793 | C93: Purok Narra Talomo Sto.Tomas | D93: =B93&" "&C93 -> DDN-1793 Purok Narra Talomo Sto.Tomas | F93: =IFERROR(VLOOKUP($B93,'EOD - SEPTEMBER 28, 2026'!$B$2:$G$991,3,FALSE),0) -> 0 | G93: =IFERROR(VLOOKUP($B93,'EOD - SEPTEMBER 28, 2026'!$B$2:$G$991,6,FALSE),0) -> 0 | H93: =F93*0.125 -> 0 | I93: =F93-G93-H93 -> 0 | J93: =IF((AND(F93>=100,F93<5000)),$J$113,IF((AND(F93>=5000,F93<6000)),$J$114,IF((AND(F93>=6000,F93<7000)),$J$115,IF((AND(F93>=7000,F93<8000)),$J$116,IF((AND(F93>=8000,F93<9000)),$J$117,IF((AND(F93>=9000,F93<10000)),$J$118,IF((AND(F93>=10000,F93<11000)),$J$119,IF((AND(F93>=11000,F93<12000)),$J$120,IF((AND(F93>=12000,F93<13000)),$J$121,IF((AND(F93>=13000,F93<14000)),$J$122,IF((AND(F93>=14000,F93<15000)),$J$123,IF((AND(F93>=15000,F93<16000)),$J$124,IF((AND(F93>=16000,F93<17000)),$J$125,IF((AND(F93>=17000,F93<18000)),$J$126,IF((AND(F93>=18000,F93<19000)),$J$127,IF((AND(F93>=19000,F93<20000)),$J$128,IF((AND(F93>=20000,F93<21000)),$J$129,IF((AND(F93>=21000,F93<22000)),$J$130,IF((AND(F93>=22000,F93<23000)),$J$131,IF((AND(F93>=23000,F93<24000)),$J$132,IF((AND(F93>=24000,F93<25000)),$J$133,IF((AND(F93>=25000,F93<26000)),$J$134,IF((AND(F93>=26000,F93<27000)),$J$135,IF((AND(F93>=27000,F93<28000)),$J$136,IF((AND(F93>=28000,F93<29000)),$J$137,IF((AND(F93>=29000,F93<30000)),$J$138,IF((AND(F93>=30000,F93<31000)),$J$139,IF((AND(F93>=31000,F93<32000)),$J$140,IF((AND(F93>=32000,F93<33000)),$J$141,IF((AND(F93>=33000,F93<34000)),$J$142,IF((AND(F93>=34000,F93<35000)),$J$143,IF((AND(F93>=35000,F93<36000)),$J$144,IF((AND(F93>=36000,F93<37000)),$J$145,IF((AND(F93>=37000,F93<38000)),$J$146,IF((AND(F93>=38000,F93<39000)),$J$147,IF((AND(F93>=39000,F93<40000)),$J$148,IF((AND(F93>=40000,F93<41000)),$J$149,IF((AND(F93>=41000,F93<42000)),$J$150,IF((AND(F93>=42000,F93<43000)),$J$151,IF((AND(F93>=43000,F93<44000)),$J$152,IF((AND(F93>=44000,F93<45000)),$J$153,IF((AND(F93>=45000,F93<46000)),$J$154,IF((AND(F93>=46000,F93<47000)),$J$155,IF((AND(F93>=47000,F93<48000)),$J$156,IF((AND(F93>=48000,F93<49000)),$J$157,IF((AND(F93>=49000,F93<50000)),$J$158,IF((AND(F93>=50000,F93<51000)),$J$159,IF((AND(F93>=51000,F93<52000)),$J$160,IF((AND(F93>=52000,F93<53000)),$J$161,IF((AND(F93>=53000,F93<54000)),$J$162,IF((AND(F93>=54000,F93<55000)),$J$163,IF((AND(F93>=55000,F93<56000)),$J$164,IF((AND(F93>=56000,F93<57000)),$J$165,IF((AND(F93>=57000,F93<58000)),$J$166,IF((AND(F93>=58000,F93<59000)),$J$167,IF((AND(F93>=59000,F93<60000)),$J$168,IF((AND(F93>=60000,F93<61000)),$J$169,"0"))))))))))))))))))))))))))))))))))))))))))))))))))))))))) -> 0
A94: 92 | B94: DDN-1794 | C94: Purok Talisay Talomo Sto. Tomas | D94: =B94&" "&C94 -> DDN-1794 Purok Talisay Talomo Sto. Tomas | E94: Rhea Mei Adella Mangarin | F94: =IFERROR(VLOOKUP($B94,'EOD - SEPTEMBER 28, 2026'!$B$2:$G$991,3,FALSE),0) -> 6311 | G94: =IFERROR(VLOOKUP($B94,'EOD - SEPTEMBER 28, 2026'!$B$2:$G$991,6,FALSE),0) -> 0 | H94: =F94*0.125 -> 788.875 | I94: =F94-G94-H94 -> 5522.125 | J94: =IF((AND(F94>=100,F94<5000)),$J$113,IF((AND(F94>=5000,F94<6000)),$J$114,IF((AND(F94>=6000,F94<7000)),$J$115,IF((AND(F94>=7000,F94<8000)),$J$116,IF((AND(F94>=8000,F94<9000)),$J$117,IF((AND(F94>=9000,F94<10000)),$J$118,IF((AND(F94>=10000,F94<11000)),$J$119,IF((AND(F94>=11000,F94<12000)),$J$120,IF((AND(F94>=12000,F94<13000)),$J$121,IF((AND(F94>=13000,F94<14000)),$J$122,IF((AND(F94>=14000,F94<15000)),$J$123,IF((AND(F94>=15000,F94<16000)),$J$124,IF((AND(F94>=16000,F94<17000)),$J$125,IF((AND(F94>=17000,F94<18000)),$J$126,IF((AND(F94>=18000,F94<19000)),$J$127,IF((AND(F94>=19000,F94<20000)),$J$128,IF((AND(F94>=20000,F94<21000)),$J$129,IF((AND(F94>=21000,F94<22000)),$J$130,IF((AND(F94>=22000,F94<23000)),$J$131,IF((AND(F94>=23000,F94<24000)),$J$132,IF((AND(F94>=24000,F94<25000)),$J$133,IF((AND(F94>=25000,F94<26000)),$J$134,IF((AND(F94>=26000,F94<27000)),$J$135,IF((AND(F94>=27000,F94<28000)),$J$136,IF((AND(F94>=28000,F94<29000)),$J$137,IF((AND(F94>=29000,F94<30000)),$J$138,IF((AND(F94>=30000,F94<31000)),$J$139,IF((AND(F94>=31000,F94<32000)),$J$140,IF((AND(F94>=32000,F94<33000)),$J$141,IF((AND(F94>=33000,F94<34000)),$J$142,IF((AND(F94>=34000,F94<35000)),$J$143,IF((AND(F94>=35000,F94<36000)),$J$144,IF((AND(F94>=36000,F94<37000)),$J$145,IF((AND(F94>=37000,F94<38000)),$J$146,IF((AND(F94>=38000,F94<39000)),$J$147,IF((AND(F94>=39000,F94<40000)),$J$148,IF((AND(F94>=40000,F94<41000)),$J$149,IF((AND(F94>=41000,F94<42000)),$J$150,IF((AND(F94>=42000,F94<43000)),$J$151,IF((AND(F94>=43000,F94<44000)),$J$152,IF((AND(F94>=44000,F94<45000)),$J$153,IF((AND(F94>=45000,F94<46000)),$J$154,IF((AND(F94>=46000,F94<47000)),$J$155,IF((AND(F94>=47000,F94<48000)),$J$156,IF((AND(F94>=48000,F94<49000)),$J$157,IF((AND(F94>=49000,F94<50000)),$J$158,IF((AND(F94>=50000,F94<51000)),$J$159,IF((AND(F94>=51000,F94<52000)),$J$160,IF((AND(F94>=52000,F94<53000)),$J$161,IF((AND(F94>=53000,F94<54000)),$J$162,IF((AND(F94>=54000,F94<55000)),$J$163,IF((AND(F94>=55000,F94<56000)),$J$164,IF((AND(F94>=56000,F94<57000)),$J$165,IF((AND(F94>=57000,F94<58000)),$J$166,IF((AND(F94>=58000,F94<59000)),$J$167,IF((AND(F94>=59000,F94<60000)),$J$168,IF((AND(F94>=60000,F94<61000)),$J$169,"0"))))))))))))))))))))))))))))))))))))))))))))))))))))))))) -> 310
A95: 93 | B95: DDN-1795 | C95: Purok 3 San Miguel Sto. Tomas davao Del Norte | D95: =B95&" "&C95 -> DDN-1795 Purok 3 San Miguel Sto. Tomas davao Del Norte | F95: =IFERROR(VLOOKUP($B95,'EOD - SEPTEMBER 28, 2026'!$B$2:$G$991,3,FALSE),0) -> 0 | G95: =IFERROR(VLOOKUP($B95,'EOD - SEPTEMBER 28, 2026'!$B$2:$G$991,6,FALSE),0) -> 0 | H95: =F95*0.125 -> 0 | I95: =F95-G95-H95 -> 0 | J95: =IF((AND(F95>=100,F95<5000)),$J$113,IF((AND(F95>=5000,F95<6000)),$J$114,IF((AND(F95>=6000,F95<7000)),$J$115,IF((AND(F95>=7000,F95<8000)),$J$116,IF((AND(F95>=8000,F95<9000)),$J$117,IF((AND(F95>=9000,F95<10000)),$J$118,IF((AND(F95>=10000,F95<11000)),$J$119,IF((AND(F95>=11000,F95<12000)),$J$120,IF((AND(F95>=12000,F95<13000)),$J$121,IF((AND(F95>=13000,F95<14000)),$J$122,IF((AND(F95>=14000,F95<15000)),$J$123,IF((AND(F95>=15000,F95<16000)),$J$124,IF((AND(F95>=16000,F95<17000)),$J$125,IF((AND(F95>=17000,F95<18000)),$J$126,IF((AND(F95>=18000,F95<19000)),$J$127,IF((AND(F95>=19000,F95<20000)),$J$128,IF((AND(F95>=20000,F95<21000)),$J$129,IF((AND(F95>=21000,F95<22000)),$J$130,IF((AND(F95>=22000,F95<23000)),$J$131,IF((AND(F95>=23000,F95<24000)),$J$132,IF((AND(F95>=24000,F95<25000)),$J$133,IF((AND(F95>=25000,F95<26000)),$J$134,IF((AND(F95>=26000,F95<27000)),$J$135,IF((AND(F95>=27000,F95<28000)),$J$136,IF((AND(F95>=28000,F95<29000)),$J$137,IF((AND(F95>=29000,F95<30000)),$J$138,IF((AND(F95>=30000,F95<31000)),$J$139,IF((AND(F95>=31000,F95<32000)),$J$140,IF((AND(F95>=32000,F95<33000)),$J$141,IF((AND(F95>=33000,F95<34000)),$J$142,IF((AND(F95>=34000,F95<35000)),$J$143,IF((AND(F95>=35000,F95<36000)),$J$144,IF((AND(F95>=36000,F95<37000)),$J$145,IF((AND(F95>=37000,F95<38000)),$J$146,IF((AND(F95>=38000,F95<39000)),$J$147,IF((AND(F95>=39000,F95<40000)),$J$148,IF((AND(F95>=40000,F95<41000)),$J$149,IF((AND(F95>=41000,F95<42000)),$J$150,IF((AND(F95>=42000,F95<43000)),$J$151,IF((AND(F95>=43000,F95<44000)),$J$152,IF((AND(F95>=44000,F95<45000)),$J$153,IF((AND(F95>=45000,F95<46000)),$J$154,IF((AND(F95>=46000,F95<47000)),$J$155,IF((AND(F95>=47000,F95<48000)),$J$156,IF((AND(F95>=48000,F95<49000)),$J$157,IF((AND(F95>=49000,F95<50000)),$J$158,IF((AND(F95>=50000,F95<51000)),$J$159,IF((AND(F95>=51000,F95<52000)),$J$160,IF((AND(F95>=52000,F95<53000)),$J$161,IF((AND(F95>=53000,F95<54000)),$J$162,IF((AND(F95>=54000,F95<55000)),$J$163,IF((AND(F95>=55000,F95<56000)),$J$164,IF((AND(F95>=56000,F95<57000)),$J$165,IF((AND(F95>=57000,F95<58000)),$J$166,IF((AND(F95>=58000,F95<59000)),$J$167,IF((AND(F95>=59000,F95<60000)),$J$168,IF((AND(F95>=60000,F95<61000)),$J$169,"0"))))))))))))))))))))))))))))))))))))))))))))))))))))))))) -> 0
A96: 94 | B96: DDN-1796 | C96: Purok 2 Salvacion Carmen Davao Del Norte | D96: =B96&" "&C96 -> DDN-1796 Purok 2 Salvacion Carmen Davao Del Norte | F96: =IFERROR(VLOOKUP($B96,'EOD - SEPTEMBER 28, 2026'!$B$2:$G$991,3,FALSE),0) -> 0 | G96: =IFERROR(VLOOKUP($B96,'EOD - SEPTEMBER 28, 2026'!$B$2:$G$991,6,FALSE),0) -> 0 | H96: =F96*0.125 -> 0 | I96: =F96-G96-H96 -> 0 | J96: =IF((AND(F96>=100,F96<5000)),$J$113,IF((AND(F96>=5000,F96<6000)),$J$114,IF((AND(F96>=6000,F96<7000)),$J$115,IF((AND(F96>=7000,F96<8000)),$J$116,IF((AND(F96>=8000,F96<9000)),$J$117,IF((AND(F96>=9000,F96<10000)),$J$118,IF((AND(F96>=10000,F96<11000)),$J$119,IF((AND(F96>=11000,F96<12000)),$J$120,IF((AND(F96>=12000,F96<13000)),$J$121,IF((AND(F96>=13000,F96<14000)),$J$122,IF((AND(F96>=14000,F96<15000)),$J$123,IF((AND(F96>=15000,F96<16000)),$J$124,IF((AND(F96>=16000,F96<17000)),$J$125,IF((AND(F96>=17000,F96<18000)),$J$126,IF((AND(F96>=18000,F96<19000)),$J$127,IF((AND(F96>=19000,F96<20000)),$J$128,IF((AND(F96>=20000,F96<21000)),$J$129,IF((AND(F96>=21000,F96<22000)),$J$130,IF((AND(F96>=22000,F96<23000)),$J$131,IF((AND(F96>=23000,F96<24000)),$J$132,IF((AND(F96>=24000,F96<25000)),$J$133,IF((AND(F96>=25000,F96<26000)),$J$134,IF((AND(F96>=26000,F96<27000)),$J$135,IF((AND(F96>=27000,F96<28000)),$J$136,IF((AND(F96>=28000,F96<29000)),$J$137,IF((AND(F96>=29000,F96<30000)),$J$138,IF((AND(F96>=30000,F96<31000)),$J$139,IF((AND(F96>=31000,F96<32000)),$J$140,IF((AND(F96>=32000,F96<33000)),$J$141,IF((AND(F96>=33000,F96<34000)),$J$142,IF((AND(F96>=34000,F96<35000)),$J$143,IF((AND(F96>=35000,F96<36000)),$J$144,IF((AND(F96>=36000,F96<37000)),$J$145,IF((AND(F96>=37000,F96<38000)),$J$146,IF((AND(F96>=38000,F96<39000)),$J$147,IF((AND(F96>=39000,F96<40000)),$J$148,IF((AND(F96>=40000,F96<41000)),$J$149,IF((AND(F96>=41000,F96<42000)),$J$150,IF((AND(F96>=42000,F96<43000)),$J$151,IF((AND(F96>=43000,F96<44000)),$J$152,IF((AND(F96>=44000,F96<45000)),$J$153,IF((AND(F96>=45000,F96<46000)),$J$154,IF((AND(F96>=46000,F96<47000)),$J$155,IF((AND(F96>=47000,F96<48000)),$J$156,IF((AND(F96>=48000,F96<49000)),$J$157,IF((AND(F96>=49000,F96<50000)),$J$158,IF((AND(F96>=50000,F96<51000)),$J$159,IF((AND(F96>=51000,F96<52000)),$J$160,IF((AND(F96>=52000,F96<53000)),$J$161,IF((AND(F96>=53000,F96<54000)),$J$162,IF((AND(F96>=54000,F96<55000)),$J$163,IF((AND(F96>=55000,F96<56000)),$J$164,IF((AND(F96>=56000,F96<57000)),$J$165,IF((AND(F96>=57000,F96<58000)),$J$166,IF((AND(F96>=58000,F96<59000)),$J$167,IF((AND(F96>=59000,F96<60000)),$J$168,IF((AND(F96>=60000,F96<61000)),$J$169,"0"))))))))))))))))))))))))))))))))))))))))))))))))))))))))) -> 0
A97: 95 | B97: DDN-1797 | C97: Orchid St. Salvacion Panabo City Davao Del Norte | D97: =B97&" "&C97 -> DDN-1797 Orchid St. Salvacion Panabo City Davao Del Norte | E97: JOLINA ALBISTROS | F97: =IFERROR(VLOOKUP($B97,'EOD - SEPTEMBER 28, 2026'!$B$2:$G$991,3,FALSE),0) -> 3980 | G97: =IFERROR(VLOOKUP($B97,'EOD - SEPTEMBER 28, 2026'!$B$2:$G$991,6,FALSE),0) -> 0 | H97: =F97*0.125 -> 497.5 | I97: =F97-G97-H97 -> 3482.5 | J97: =IF((AND(F97>=100,F97<5000)),$J$113,IF((AND(F97>=5000,F97<6000)),$J$114,IF((AND(F97>=6000,F97<7000)),$J$115,IF((AND(F97>=7000,F97<8000)),$J$116,IF((AND(F97>=8000,F97<9000)),$J$117,IF((AND(F97>=9000,F97<10000)),$J$118,IF((AND(F97>=10000,F97<11000)),$J$119,IF((AND(F97>=11000,F97<12000)),$J$120,IF((AND(F97>=12000,F97<13000)),$J$121,IF((AND(F97>=13000,F97<14000)),$J$122,IF((AND(F97>=14000,F97<15000)),$J$123,IF((AND(F97>=15000,F97<16000)),$J$124,IF((AND(F97>=16000,F97<17000)),$J$125,IF((AND(F97>=17000,F97<18000)),$J$126,IF((AND(F97>=18000,F97<19000)),$J$127,IF((AND(F97>=19000,F97<20000)),$J$128,IF((AND(F97>=20000,F97<21000)),$J$129,IF((AND(F97>=21000,F97<22000)),$J$130,IF((AND(F97>=22000,F97<23000)),$J$131,IF((AND(F97>=23000,F97<24000)),$J$132,IF((AND(F97>=24000,F97<25000)),$J$133,IF((AND(F97>=25000,F97<26000)),$J$134,IF((AND(F97>=26000,F97<27000)),$J$135,IF((AND(F97>=27000,F97<28000)),$J$136,IF((AND(F97>=28000,F97<29000)),$J$137,IF((AND(F97>=29000,F97<30000)),$J$138,IF((AND(F97>=30000,F97<31000)),$J$139,IF((AND(F97>=31000,F97<32000)),$J$140,IF((AND(F97>=32000,F97<33000)),$J$141,IF((AND(F97>=33000,F97<34000)),$J$142,IF((AND(F97>=34000,F97<35000)),$J$143,IF((AND(F97>=35000,F97<36000)),$J$144,IF((AND(F97>=36000,F97<37000)),$J$145,IF((AND(F97>=37000,F97<38000)),$J$146,IF((AND(F97>=38000,F97<39000)),$J$147,IF((AND(F97>=39000,F97<40000)),$J$148,IF((AND(F97>=40000,F97<41000)),$J$149,IF((AND(F97>=41000,F97<42000)),$J$150,IF((AND(F97>=42000,F97<43000)),$J$151,IF((AND(F97>=43000,F97<44000)),$J$152,IF((AND(F97>=44000,F97<45000)),$J$153,IF((AND(F97>=45000,F97<46000)),$J$154,IF((AND(F97>=46000,F97<47000)),$J$155,IF((AND(F97>=47000,F97<48000)),$J$156,IF((AND(F97>=48000,F97<49000)),$J$157,IF((AND(F97>=49000,F97<50000)),$J$158,IF((AND(F97>=50000,F97<51000)),$J$159,IF((AND(F97>=51000,F97<52000)),$J$160,IF((AND(F97>=52000,F97<53000)),$J$161,IF((AND(F97>=53000,F97<54000)),$J$162,IF((AND(F97>=54000,F97<55000)),$J$163,IF((AND(F97>=55000,F97<56000)),$J$164,IF((AND(F97>=56000,F97<57000)),$J$165,IF((AND(F97>=57000,F97<58000)),$J$166,IF((AND(F97>=58000,F97<59000)),$J$167,IF((AND(F97>=59000,F97<60000)),$J$168,IF((AND(F97>=60000,F97<61000)),$J$169,"0"))))))))))))))))))))))))))))))))))))))))))))))))))))))))) -> 250
